{"text_format":"1","workbook":"xlsx","n_sheets":25,"sheets":["MENU","PANORAMA MUNDIAL ","PANORAMA MUNDIAL 1.1","MOVIMIENTOS - LLEGADAS","MOVIMIENTOS - SALIDAS","MOV. AÑOS Y MESES","M CLAVES","M CONSOLIDACION","M OPORTUNIDAD","EXPLICACION VARIACIONES","GRAFICO M CLAVE","GRAFICO M CONSOLIDACION","GRAFICO M OPORTUNIDAD","MOV.JEFATURAS ENTRADAS","MOV.JEFATURAS SALIDAS","LLEGADA PAIS NACIONALIDAD TOTAL","LLEGADAS EXTRANJEROS","SALIDAS ECUATORIANOS","INGRESO Y EGRESO DE DIVISAS","UBICACION DEL TURISMO I Semest","UBICACION DEL TURISMO ","ENTRADAS MERCADOS TURISTICOS","SALIDAS MERCADOS TURISTICOS","Framework","Hoja1"],"not_rendered":{"charts":13,"images":21,"macros":1,"external_links":4,"defined_names":23,"comments":0,"pivot_tables":0},"unopened":[],"bounds":{"document_bytes":16777216,"sheet_cells":100000,"rows_first":2000,"rows_last":500,"rows_between":2000,"halvings":0,"cell_chars":16384,"cell_head_chars":4096},"cells_cut":0,"cells_raw":0,"read":"whole","date_system":"1900"}

{"sheet":"MENU","index":0,"n_rows":0,"n_cols":0,"rows_kept":0,"cut":false,"hidden":false,"merged":[]}

{"sheet":"PANORAMA MUNDIAL ","index":1,"n_rows":32,"n_cols":18,"rows_kept":32,"cut":false,"hidden":false,"merged":[[9,3,9,8],[10,12,10,17],[12,12,12,13],[12,16,12,17],[11,12,11,15],[12,14,12,15],[11,16,11,17],[11,4,13,4],[11,5,12,6],[11,7,12,8],[10,2,10,8]]}
[]
[]
[]
[]
[]
[]
[]
[]
[]
[]
[null,null,"Llegadas de turistas internacionales",null,null,null,null,null,null,null,null,null,"Ingresos por turismo internacional"]
[null,null,null,null,"Series (1)","(Millones)",null,"Variación (%)",null,null,null,null,"$ EE.UU.",null,null,null,"Monedas Locales"]
[null,null,null,null,null,null,null,null,null,null,null,null,"Miles de millones",null,"Variación (%)",null,"Variación (%)"]
[null,null,"Rango",null,null,2011,"2012*"," 11/10"," 12*/11",null,"Rango",null,2011,"2012*"," 11/10"," 12*/11"," 11/10"," 12*/11"]
[null,null,1,"Francia","TF",81.599999999999994,83,5,1.8,null,1,"Estados Unidos",115.6,126.2,11.7,9.1999999999999993,11.7,9.1999999999999993]
[null,null,2,"Estados Unidos","TF",62.7,67,4.9000000000000004,6.8,null,2,"España",59.9,55.9,14,-6.6,8.6,12]
[null,null,3,"China","TF",57.6,57.7,3.4,0.3,null,3,"Francia",54.5,53.7,16.2,-1.5,10.7,6.7]
[null,null,4,"España","TF",56.2,57.7,6.6,2.7,null,4,"China",48.5,50,5.8,3.2,1,0.8]
[null,null,5,"Italia","TF",46.1,46.4,5.7,0.5,null,5,"Macao (China)",38.5,43.7,38.299999999999997,13.7,38.6,13.3]
[null,null,6,"Turquía","TF",34.700000000000003,35.700000000000003,10.5,3,null,6,"Italia",43,41.2,10.9,-4.2,5.6,3.8]
[null,null,7,"Alemania","TCE",28.4,30.4,5.5,7.3,null,7,"Alemania",38.9,38.1,12.1,-1.9,6.7,6.2]
[null,null,8,"Reino Unido","TF",29.3,29.3,3.6,-0.1,null,8,"Reino Unido",35.1,36.4,8.1999999999999993,3.7,4.4000000000000004,5.2]
[null,null,9,"Federación de Rusia","TF",22.7,25.7,11.9,13.4,null,9,"Hong Kong (China)",27.7,32.1,24.6,16,24.9,16.600000000000001]
[null,null,10,"Malasia","TF",24.7,25,0.6,1.3,null,10,"Australia",31.5,31.5,8.1,0.2,-3.8,-0.2]
[]
[null,null,"* Cifra o dato provisional"]
[null,null,"TF Llegadas de turistas internacionales a las fronteras (excluidos los visitantes del día)"]
[null,null,"TCE Llegadas de turistas internacionales a establecimientos colectivos"]
[]
[null,null,"Fuente : Panorama OMT del turismo internacional"]
[null,null,null,"Edición 2013"]
[null,null,null,"Organización Mundial del Turismo (OMT)"]

{"sheet":"PANORAMA MUNDIAL 1.1","index":2,"n_rows":27,"n_cols":9,"rows_kept":27,"cut":false,"hidden":true,"merged":[[10,4,10,7],[9,4,9,7]]}
[]
[]
[]
[]
[]
[]
[]
[]
[null,null,null,null,2008,2009,2010,2011,"2012*"]
[null,null,null,null,"Real",null,null,null,"Proyección"]
[null,null,null,null,"año completo, variación",null,null,null,"entre"]
[]
[null,null,null,"MUNDO",2.1000000000000001E-2,-3.7999999999999999E-2,6.5000000000000002E-2,4.3999999999999997E-2," +3%  y +4%"]
[]
[null,null,null,"Europa",5.0000000000000001E-3,-4.9000000000000002E-2,2.9000000000000001E-2,0.06," +2%  y +4%"]
[]
[null,null,null,"Asia y el Pacífico",1.2E-2,-1.6E-2,0.129,5.6000000000000001E-2," +4%  y +6%"]
[]
[null,null,null,"Américas",2.7E-2,-4.9000000000000002E-2,6.5000000000000002E-2,4.2000000000000003E-2," +2%  y +4%"]
[]
[null,null,null,"Africa",3.4000000000000002E-2,3.2000000000000001E-2,6.7000000000000004E-2,0," +4%  y +6%"]
[]
[null,null,null,"Oriente Medio",0.20100000000000001,-4.5999999999999999E-2,0.151,-7.9000000000000001E-2," +0%  y +5%"]
[]
[null,null,null,"Fuente: Organización Mundial del Turismo (OMT) "]
[null,null,null,"               (Cifras procedentes de la OMT, enero de 2012)"]
[null,null,null,"* = cifra o dato provisional : = cifra o dato (aún) no disponible"]

{"sheet":"MOVIMIENTOS - LLEGADAS","index":3,"n_rows":44,"n_cols":15,"rows_kept":44,"cut":false,"hidden":false,"merged":[[9,8,11,8],[9,4,11,4],[9,5,11,5],[9,6,11,6],[9,7,11,7]]}
[]
[]
[]
[]
[]
[]
[]
[]
[]
[null,null,null,null,"MES",2009,2010,2011,2012]
[null,null,null,null,null,null,null,null,null,2013,"VAR%"]
[null,null,null,null,null,null,null,null,null,null,"2013/2012"]
[null,null,null,null,"ENE",86544,96109,105548,127116,130842,{"$f":"+J13/I13*100-100","v":2.9311809685641492}]
[null,null,null,null,"FEB",72742,89924,86421,99521,103768,4.2674410425940152]
[null,null,null,null,"MAR",72226,82452,87495,96948,113361,16.929694269092693]
[null,null,null,null,"ABR",72910,70540,87507,92627,89669,-3.1934533127489857]
[null,null,null,null,"MAY",70277,77618,82870,92644,98420,6.2346185397867089]
[null,null,null,null,"JUN",89889,91602,99949,118292,121742,2.9165116829540381]
[null,null,null,null,"JUL",102571,110545,117966,130779,138140,{"$f":"+J19/I19*100-100","v":5.6285795120011528}]
[null,null,null,null,"AGO",87221,95219,98962,106375,112576,5.8293772032902496]
[null,null,null,null,"SEP",68124,71776,80090,85990,97372,13.236422839865099]
[null,null,null,null,"OCT",77960,83701,88357,99145,111519,12.480710071107978]
[null,null,null,null,"NOV",76965,81253,92573,99674,112061,12.427513694644546]
[null,null,null,null,"DIC",91070,96359,113299,122790,136799,11.408909520319256]
[null,null,null,null,"TOTAL",{"$f":"SUM(F13:F24)","v":968499},{"$f":"SUM(G13:G24)","v":1047098},1141037,1271901,1366269,7.4194453813622374]
[]
[]
[]
[]
[]
[null,null,null,null,null,null,null,null,null,null,null,null,"MES",2012,2013]
[null,null,null,null,null,null,null,null,null,null,null,null,"ENE",127116,130842]
[null,null,null,null,null,null,null,null,null,null,null,null,"FEB",99521,103768]
[null,null,null,null,null,null,null,null,null,null,null,null,"MAR",96948,113361]
[null,null,null,null,null,null,null,null,null,null,null,null,"ABR",92627,89669]
[null,null,null,null,null,null,null,null,null,null,null,null,"MAY",92644,98420]
[null,null,null,null,null,null,null,null,null,null,null,null,"JUN",118292,121742]
[null,null,null,null,null,null,null,null,null,null,null,null,"JUL",130779,138140]
[null,null,null,null,null,null,null,null,null,null,null,null,"AGO",106375,112576]
[null,null,null,null,null,null,null,null,null,null,null,null,"SEP",85990,97372]
[null,null,null,null,null,null,null,null,null,null,null,null,"OCT",99145,111519]
[null,null,null,null,null,null,null,null,null,null,null,null,"NOV",99674,112061]
[null,null,null,null,null,null,null,null,null,null,null,null,"DIC",122790,136799]
[null,null,null,null,null,null,null,null,null,null,null,null,null,{"$f":"SUM(N32:N43)","v":1271901},{"$f":"SUM(O32:O43)","v":1366269}]

{"sheet":"MOVIMIENTOS - SALIDAS","index":4,"n_rows":45,"n_cols":15,"rows_kept":45,"cut":false,"hidden":false,"merged":[[9,7,11,7],[9,8,11,8],[9,4,11,4],[9,5,11,5],[9,6,11,6]]}
[]
[]
[]
[]
[]
[]
[]
[]
[]
[null,null,null,null,"MESES",2009,2010,2011,2012,null,"VAR%"]
[null,null,null,null,null,null,null,null,null,2013,"2013/2012"]
[null,null,null,null,"ENE",68480,67521,71172,69602]
[null,null,null,null,"ENE",67521,71172,69601,77532,79108,{"$f":"+J13/I13*100-100","v":2.0327090749625967}]
[null,null,null,null,"FEB",72591,74436,68524,90608,94464,4.2556948613808885]
[null,null,null,null,"MAR",75150,81686,89613,91453,98292,7.4781581796113983]
[null,null,null,null,"ABR",64992,72231,80856,80966,94894,17.202282439542515]
[null,null,null,null,"MAY",57869,70330,79986,81047,89092,9.92633903784224]
[null,null,null,null,"JUN",55297,61070,70876,66422,88962,33.934539760922576]
[null,null,null,null,"JUL",71234,80855,99145,94567,102343,8.2227415483202293]
[null,null,null,null,"AGO",81338,96675,117569,113567,126286,{"$f":"+J20/I20*100-100","v":11.199556209110042}]
[null,null,null,null,"SEP",74494,78575,95658,88803,103598,16.660473182212314]
[null,null,null,null,"OCT",70641,79108,90301,84368,102160,21.088564384600801]
[null,null,null,null,"NOV",63713,70227,91092,83399,91549,9.7722994280506867]
[null,null,null,null,"DIC",58797,62520,69230,69473,84814,22.081959898089892]
[null,null,null,null,"TOTAL",{"$f":"SUM(F13:F24)","v":813637},{"$f":"SUM(G13:G24)","v":898885},1022451,1022205,1155562,{"$f":"+J25/I25*100-100","v":13.046013275223658}]
[null,null,null,null,"Fuente : Anuarios de Migración Internacional - INEC (2009-2011)"]
[null,null,null,null,"Dirección Nacional de Migración (2012-2013)"]
[null,null,null,null,"Elaboración : Dirección de Investigación - Ministerio de Turismo"]
[]
[null,null,null,null,"              "]
[]
[null,null,null,null,null,null,null,null,null,null,null,null,"MESES",2012,2013]
[null,null,null,null,null,null,null,null,null,null,null,null,"ENE",77532,79108]
[null,null,null,null,null,null,null,null,null,null,null,null,"FEB",90608,94464]
[null,null,null,null,null,null,null,null,null,null,null,null,"MAR",91453,98292]
[null,null,null,null,null,null,null,null,null,null,null,null,"ABR",80966,94894]
[null,null,null,null,null,null,null,null,null,null,null,null,"MAY",81047,89092]
[null,null,null,null,null,null,null,null,null,null,null,null,"JUN",66422,88962]
[null,null,null,null,null,null,null,null,null,null,null,null,"JUL",94567,102343]
[null,null,null,null,null,null,null,null,null,null,null,null,"AGO",113567,126286]
[null,null,null,null,null,null,null,null,null,null,null,null,"SEP",88803,103598]
[null,null,null,null,null,null,null,null,null,null,null,null,"OCT",84368,102160]
[null,null,null,null,null,null,null,null,null,null,null,null,"NOV",83399,91549]
[null,null,null,null,null,null,null,null,null,null,null,null,"DIC",69473]
[null,null,null,null,null,null,null,null,null,null,null,null,null,{"$f":"SUM(N33:N44)","v":1022205},{"$f":"SUM(O33:O44)","v":1070748}]

{"sheet":"MOV. AÑOS Y MESES","index":5,"n_rows":47,"n_cols":21,"rows_kept":47,"cut":false,"hidden":true,"merged":[[26,0,26,6],[0,0,1,6],[5,0,5,6],[3,0,3,6],[2,0,2,6],[6,0,8,0],[6,1,8,1],[6,2,8,2],[6,3,8,3],[6,4,8,4],[6,5,8,5]]}
["ENTRADAS Y SALIDAS EN EL ECUADOR"]
[]
["2009-2012"]
["( DATOS PROVISIONALES PARA LOS AÑOS  2012 Y 2013)"]
[]
["LLEGADA DE EXTRANJEROS"]
[null,2009,2010,2011,2012,2013,"VAR%",null,2012,"BRECHA %"]
[null,null,null,null,null,null,"VAR%",null,null,"VAR%"]
[null,null,null,null,null,null,"2013/2012",null,"PMTE (o)","REAL / PMTE (o)",null,null,null,null,null,null,null,null,2011,2012]
["ENE",86544,96109,105548,127116,130842,{"$f":"+F10/E10*100-100","v":2.9311809685641492},null,109163,{"$f":"+E10/I10*100-100","v":16.44604856957028},null,null,null,null,null,null,null,"ENE",105548,127119,{"$f":"+T10/S10-1","v":0.20437147080001505}]
["FEB",72742,89924,86421,99521,103768,4.2674410425940152,null,92534,7.5507381070741673,null,null,null,null,null,null,null,"FEB",86421,99551,0.15193066500040509]
["MAR",72226,82452,87495,96948,113361,16.929694269092693,null,95711,1.2924324267848135,null,null,null,null,null,null,null,"MAR",87495,96975,0.10834904851705818]
["ABR",72910,70540,87507,92627,89669,-3.1934533127489857,null,86769,6.7512590902280749,null,null,null,null,null,null,null,"ABR",87507,92627,5.850960494588997E-2]
["MAY",70277,77618,82870,92644,98420,6.2346185397867089,null,88731,4.4099581882318404,null,null,null,null,null,null,null,"MAY",82870,92646,0.11796790153252079]
["JUN",89889,91602,99949,118292,121742,2.9165116829540381,null,108071,9.4576713456894055,null,null,null,null,null,null,null,"JUN",99949,118293,0.18353360213708991]
["JUL",102571,110545,117966,130779,138140,5.6285795120011528,null,132047,-0.96026414837140806,null,null,null,null,null,null,null,"JUL",117966,130783,0.10864994998558908]
["AGO",87221,95219,98962,106375,112576,5.8293772032902496,null,113854,-6.5689391677060058,null,null,null,null,null,null,null,"AGO",98962,106368,7.4836806046765458E-2]
["SEP",68124,71776,80090,85990,97372,13.236422839865099,null,88091,-2.3850336583760026,null,null,null,null,null,null,null,"SEP",80090,85986,7.3617180671744276E-2]
["OCT",77960,83701,88357,99145,111519,12.480710071107978,null,95619,3.6875516372269175,null,null,null,null,null,null,null,"OCT",88357,99145,0.12209558948357224]
["NOV",76965,81253,92573,99674,112061,12.427513694644546,null,94710,5.241262802238424,null,null,null,null,null,null,null,"NOV",92573,99676,7.6728635779330867E-2]
["DIC",91070,96359,113299,122790,136799,11.408909520319256,null,108757,12.903077503057276,null,null,null,null,null,null,null,"DIC",113299,122784,8.3716537656996159E-2]
["TOTAL",{"$f":"SUM(B10:B21)","v":968499},{"$f":"SUM(C10:C21)","v":1047098},1141037,{"$f":"SUM(E10:E21)","v":1271901},{"$f":"SUM(F10:F21)","v":1366269},7.4194453813622374,null,{"$f":"SUM(I10:I21)","v":1214057},4.7645209409442799,null,null,null,null,null,null,null,null,{"$f":"SUM(S10:S21)","v":1141037},{"$f":"SUM(T10:T21)","v":1271953}]
[]
[null,null,null,null,null,null,null,null,"PMTE: Plan de Mercadeo del Ecuador 2010-2014"]
[null,null,null,null,null,null,null,null,"(o) escenario medio"]
[]
["SALIDA DE ECUATORIANOS"]
[null,2009,2010,2011,2012,2013,"VAR%"]
[null,null,null,null,null,null,"2013/2012",null,null,null,null,null,null,null,null,null,null,null,2011,2012]
["ENE",67521,71172,69601,77532,79108,{"$f":"+F30/E30*100-100","v":2.0327090749625967},null,null,null,null,null,null,null,null,null,null,"ENE",69601,77598,{"$f":"+T30/S30-1","v":0.11489777445726346}]
["FEB",72591,74436,68524,90608,94464,4.2556948613808885,null,null,null,null,null,null,null,null,null,null,"FEB",68524,90686,0.32341953184285788]
["MAR",75150,81686,89613,91453,98292,7.4781581796113983,null,null,null,null,null,null,null,null,null,null,"MAR",89613,91903,2.5554328055081399E-2]
["ABR",64992,72231,80856,80966,94894,17.202282439542515,null,null,null,null,null,null,null,null,null,null,"ABR",80856,81100,3.0177104976749636E-3]
["MAY",57869,70330,79986,81047,89092,9.92633903784224,null,null,null,null,null,null,null,null,null,null,"MAY",79986,81050,1.3302327907383837E-2]
["JUN",55297,61070,70876,66422,88962,33.934539760922576,null,null,null,null,null,null,null,null,null,null,"JUN",70876,66423,-6.2828037699644401E-2]
["JUL",71234,80855,99145,94567,102343,8.2227415483202293,null,null,null,null,null,null,null,null,null,null,"JUL",99145,94627,-4.5569620253164578E-2]
["AGO",81338,96675,117569,113567,126286,11.199556209110042,null,null,null,null,null,null,null,null,null,null,"AGO",117569,113659,-3.3257066063333007E-2]
["SEP",74494,78575,95658,88803,103598,16.660473182212314,null,null,null,null,null,null,null,null,null,null,"SEP",95658,88896,-7.0689330740764E-2]
["OCT",70641,79108,90301,84368,102160,21.088564384600801,null,null,null,null,null,null,null,null,null,null,"OCT",90301,84369,-6.5691409840422543E-2]
["NOV",63713,70227,91092,83399,91549,9.7722994280506867,null,null,null,null,null,null,null,null,null,null,"NOV",91092,83406,-8.437623501514957E-2]
["DIC",58797,62520,69230,69473,84814,22.081959898089892,null,null,null,null,null,null,null,null,null,null,"DIC",69230,69502,3.928932543694863E-3]
["TOTAL",{"$f":"SUM(B30:B41)","v":813637},{"$f":"SUM(C30:C41)","v":898885},{"$f":"SUM(D30:D41)","v":1022451},{"$f":"SUM(E30:E41)","v":1022205},{"$f":"SUM(F30:F41)","v":1155562},13.046013275223658,null,null,null,null,null,null,null,null,null,null,null,{"$f":"SUM(S30:S41)","v":1022451},{"$f":"SUM(T30:T41)","v":1023219}]
["Fuente : Anuarios de Migración Internacional - INEC (2009-2011)"]
["              Dirección Nacional de Migración (2012- 2013)"]
["Elaboración : Dirección de Investigación"]
["                      Ministerio de Turismo"]
[null,null,null,null,null,null,null,null,null,null,null,"2013-10-04"]

{"sheet":"M CLAVES","index":6,"n_rows":33,"n_cols":12,"rows_kept":33,"cut":false,"hidden":false,"merged":[[26,3,30,3],[31,4,31,5],[32,4,32,5],[25,10,25,11]]}
[]
[]
[]
[]
[]
[]
[]
[]
[]
[]
[]
[]
[]
[]
[]
[]
[]
[]
[]
[]
[]
[]
[]
[]
[null,null,null,null,null,null,null,null,"Acumulado","Acumulado"]
[null,null,null,null,"País","Dic. 2012","Dic. 2013","Variación","ENE-DIC 2012","ENE-DIC 2013","Variación "]
[null,null,null,"Mercados Clave","Colombia",37803,{"$f":"VLOOKUP(E27,'LLEGADA PAIS NACIONALIDAD TOTAL'!$D$14:$AB$238,25,0)","v":40896},{"$f":"+G27-F27","v":3093},349455,{"$f":"VLOOKUP(E27,'LLEGADA PAIS NACIONALIDAD TOTAL'!$D$14:$AD$238,27,0)","v":344363},{"$f":"+J27-I27","v":-5092},{"$f":"+J27/I27-1","v":-1.4571260963500254E-2}]
[null,null,null,null,"Estados Unidos",24605,{"$f":"VLOOKUP(E28,'LLEGADA PAIS NACIONALIDAD TOTAL'!$D$14:$AB$238,25,0)","v":24622},{"$f":"+G28-F28","v":17},248064,{"$f":"VLOOKUP(E28,'LLEGADA PAIS NACIONALIDAD TOTAL'!$D$14:$AD$238,27,0)","v":250785},{"$f":"+J28-I28","v":2721},{"$f":"+J28/I28-1","v":1.0968943498452122E-2}]
[null,null,null,null,"Perú",10882,{"$f":"VLOOKUP(E29,'LLEGADA PAIS NACIONALIDAD TOTAL'!$D$14:$AB$238,25,0)","v":12756},{"$f":"+G29-F29","v":1874},137084,{"$f":"VLOOKUP(E29,'LLEGADA PAIS NACIONALIDAD TOTAL'!$D$14:$AD$238,27,0)","v":150805},{"$f":"+J29-I29","v":13721},{"$f":"+J29/I29-1","v":0.10009191444661658}]
[null,null,null,null,"España",5235,{"$f":"VLOOKUP(E30,'LLEGADA PAIS NACIONALIDAD TOTAL'!$D$14:$AB$238,25,0)","v":5294},{"$f":"+G30-F30","v":59},65764,{"$f":"VLOOKUP(E30,'LLEGADA PAIS NACIONALIDAD TOTAL'!$D$14:$AD$238,27,0)","v":65245},{"$f":"+J30-I30","v":-519},{"$f":"+J30/I30-1","v":-7.891855726537278E-3}]
[null,null,null,null,"Alemania",2317,{"$f":"VLOOKUP(E31,'LLEGADA PAIS NACIONALIDAD TOTAL'!$D$14:$AB$238,25,0)","v":2391},{"$f":"+G31-F31","v":74},29582,{"$f":"VLOOKUP(E31,'LLEGADA PAIS NACIONALIDAD TOTAL'!$D$14:$AD$238,27,0)","v":28486},{"$f":"+J31-I31","v":-1096},{"$f":"+J31/I31-1","v":-3.7049557163139735E-2}]
[null,null,null,null,"TOTAL",null,{"$f":"SUM(G27:G31)","v":85959},{"$f":"+G32/G33","v":0.62835985643169912}]
[null,null,null,null,"ARRIBOS DICIEMBRE",null,{"$f":"+'MOVIMIENTOS - LLEGADAS'!J24","v":136799},null,null,null,"Ver Gráficos"]

{"sheet":"M CONSOLIDACION","index":7,"n_rows":32,"n_cols":12,"rows_kept":32,"cut":false,"hidden":false,"merged":[[22,3,29,3],[30,4,30,5],[31,4,31,5],[21,10,21,11]]}
[]
[]
[]
[]
[]
[]
[]
[]
[]
[]
[]
[]
[]
[]
[]
[]
[]
[]
[]
[]
[null,null,null,null,null,null,null,null,"Acumulado","Acumulado"]
[null,null,null,null,"País","Dic. 2012","Dic. 2013","Variación","ENE-DIC 2012","ENE-DIC 2013","Variación"]
[null,null,null,"Mercados de Consolidación","Argentina",3394,{"$f":"VLOOKUP(E23,'LLEGADA PAIS NACIONALIDAD TOTAL'!$D$14:$AB$238,25,0)","v":5315},{"$f":"+G23-F23","v":1921},46199,{"$f":"VLOOKUP(E23,'LLEGADA PAIS NACIONALIDAD TOTAL'!$D$14:$AD$238,27,0)","v":49575},{"$f":"+J23-I23","v":3376},{"$f":"+J23/I23-1","v":7.3075174787333053E-2}]
[null,null,null,null,"Chile",3485,{"$f":"VLOOKUP(E24,'LLEGADA PAIS NACIONALIDAD TOTAL'!$D$14:$AB$238,25,0)","v":3397},-88,41645,{"$f":"VLOOKUP(E24,'LLEGADA PAIS NACIONALIDAD TOTAL'!$D$14:$AD$238,27,0)","v":40945},{"$f":"+J24-I24","v":-700},-1.6808740545083412E-2]
[null,null,null,null,"Canadá",3005,{"$f":"VLOOKUP(E25,'LLEGADA PAIS NACIONALIDAD TOTAL'!$D$14:$AB$238,25,0)","v":2941},-64,26979,{"$f":"VLOOKUP(E25,'LLEGADA PAIS NACIONALIDAD TOTAL'!$D$14:$AD$238,27,0)","v":28257},{"$f":"+J25-I25","v":1278},4.7370176804180986E-2]
[null,null,null,null,"Gran Bretaña",1526,{"$f":"VLOOKUP(E26,'LLEGADA PAIS NACIONALIDAD TOTAL'!$D$14:$AB$238,25,0)","v":1496},{"$f":"+G26-F26","v":-30},21142,{"$f":"VLOOKUP(E26,'LLEGADA PAIS NACIONALIDAD TOTAL'!$D$14:$AD$238,27,0)","v":23479},2337,{"$f":"+J26/I26-1","v":0.11053826506479991}]
[null,null,null,null,"Francia",1338,{"$f":"VLOOKUP(E27,'LLEGADA PAIS NACIONALIDAD TOTAL'!$D$14:$AB$238,25,0)","v":1304},{"$f":"+G27-F27","v":-34},19547,{"$f":"VLOOKUP(E27,'LLEGADA PAIS NACIONALIDAD TOTAL'!$D$14:$AD$238,27,0)","v":20326},779,{"$f":"+J27/I27-1","v":3.9852662812707829E-2}]
[null,null,null,null,"Brasil",1491,{"$f":"VLOOKUP(E28,'LLEGADA PAIS NACIONALIDAD TOTAL'!$D$14:$AB$238,25,0)","v":1914},{"$f":"+G28-F28","v":423},18174,{"$f":"VLOOKUP(E28,'LLEGADA PAIS NACIONALIDAD TOTAL'!$D$14:$AD$238,27,0)","v":19445},1271,6.9935072080994809E-2]
[null,null,null,null,"Italia",1319,{"$f":"VLOOKUP(E29,'LLEGADA PAIS NACIONALIDAD TOTAL'!$D$14:$AB$238,25,0)","v":1374},55,14774,{"$f":"VLOOKUP(E29,'LLEGADA PAIS NACIONALIDAD TOTAL'!$D$14:$AD$238,27,0)","v":14733},-41,-2.7751455259239499E-3]
[null,null,null,null,"Holanda",1084,{"$f":"VLOOKUP(E30,'LLEGADA PAIS NACIONALIDAD TOTAL'!$D$14:$AB$238,25,0)","v":1246},162,12392,{"$f":"VLOOKUP(E30,'LLEGADA PAIS NACIONALIDAD TOTAL'!$D$14:$AD$238,27,0)","v":13930},1538,0.1241123305358296]
[null,null,null,null,"TOTAL",null,{"$f":"SUM(G23:G30)","v":18987},{"$f":"+G31/G32","v":0.13879487423153677}]
[null,null,null,null,"ARRIBOS  DICIEMBRE",null,{"$f":"+'MOVIMIENTOS - LLEGADAS'!J24","v":136799},null,null,null,"Ver Gráficos"]

{"sheet":"M OPORTUNIDAD","index":8,"n_rows":26,"n_cols":12,"rows_kept":26,"cut":false,"hidden":false,"merged":[[18,3,24,3],[24,4,24,5],[25,4,25,5],[17,10,17,11]]}
[]
[]
[]
[]
[]
[]
[]
[]
[]
[]
[]
[]
[]
[]
[]
[]
[null,null,null,null,null,null,null,null,"Acumulado","Acumulado"]
[null,null,null,null,"País","Dic. 2012","Dic. 2013","Variación","ENE -DIC 2012","ENE-DIC 2013","Variación"]
[null,null,null,"Mercados de Oportunidad","Venezuela",8264,{"$f":"VLOOKUP(E19,'LLEGADA PAIS NACIONALIDAD TOTAL'!$D$14:$AB$238,25,0)","v":10433},{"$f":"+G19-F19","v":2169},45701,{"$f":"VLOOKUP(E19,'LLEGADA PAIS NACIONALIDAD TOTAL'!$D$14:$AD$238,27,0)","v":102317},{"$f":"+J19-I19","v":56616},{"$f":"+J19/I19-1","v":1.2388350364324632}]
[null,null,null,null,"México",1766,{"$f":"VLOOKUP(E20,'LLEGADA PAIS NACIONALIDAD TOTAL'!$D$14:$AB$238,25,0)","v":2184},418,19642,{"$f":"VLOOKUP(E20,'LLEGADA PAIS NACIONALIDAD TOTAL'!$D$14:$AD$238,27,0)","v":21280},1638,8.3392729864575799E-2]
[null,null,null,null,"Panamá",856,{"$f":"VLOOKUP(E21,'LLEGADA PAIS NACIONALIDAD TOTAL'!$D$14:$AB$238,25,0)","v":1089},233,10090,{"$f":"VLOOKUP(E21,'LLEGADA PAIS NACIONALIDAD TOTAL'!$D$14:$AD$238,27,0)","v":11869},1779,0.17631318136769081]
[null,null,null,null,"Bélgica",429,{"$f":"VLOOKUP(E22,'LLEGADA PAIS NACIONALIDAD TOTAL'!$D$14:$AB$238,25,0)","v":462},{"$f":"+G22-F22","v":33},5341,{"$f":"VLOOKUP(E22,'LLEGADA PAIS NACIONALIDAD TOTAL'!$D$14:$AD$238,27,0)","v":5452},{"$f":"+J22-I22","v":111},2.0782624976596109E-2]
[null,null,null,null,"Costa Rica",524,{"$f":"VLOOKUP(E23,'LLEGADA PAIS NACIONALIDAD TOTAL'!$D$14:$AB$238,25,0)","v":797},{"$f":"+G23-F23","v":273},5060,{"$f":"VLOOKUP(E23,'LLEGADA PAIS NACIONALIDAD TOTAL'!$D$14:$AD$238,27,0)","v":7632},{"$f":"+J23-I23","v":2572},0.50830039525691695]
[null,null,null,null,"Austria",273,{"$f":"VLOOKUP(E24,'LLEGADA PAIS NACIONALIDAD TOTAL'!$D$14:$AB$238,25,0)","v":322},49,3095,{"$f":"VLOOKUP(E24,'LLEGADA PAIS NACIONALIDAD TOTAL'!$D$14:$AD$238,27,0)","v":3054},-41,-1.3247172859450762E-2]
[null,null,null,null,"TOTAL",null,{"$f":"SUM(G19:G24)","v":15287},{"$f":"+G25/G26","v":0.1117478928939539}]
[null,null,null,null,"ARRIBOS DICIEMBRE",null,{"$f":"+'MOVIMIENTOS - LLEGADAS'!J24","v":136799},null,null,null,"Ver Gráficos"]

{"sheet":"EXPLICACION VARIACIONES","index":9,"n_rows":76,"n_cols":9,"rows_kept":76,"cut":false,"hidden":true,"merged":[[67,1,73,1],[74,2,74,3],[75,2,75,3],[22,1,26,1],[27,2,27,3],[28,2,28,3],[45,1,52,1],[53,2,53,3],[54,2,54,3]]}
[]
[]
[]
[]
[]
[]
[]
[]
[]
[]
[]
[]
[]
[]
[]
[]
[]
[]
[]
[]
[null,null,null,null,null,null,"Acumulado","Acumulado"]
[null,null,"País","Oct 2010","Oct 2011","Variación","Ene-Oct 2010","Ene-Oct 2011","Variación"]
[null,"Mercados Clave","EEUU",16230,13229,{"$f":"+E23-D23","v":-3001},209043,200390,{"$f":"+H23-G23","v":-8653}]
[null,null,"Colombia",16140,20649,{"$f":"+E24-D24","v":4509},167605,213473,{"$f":"+H24-G24","v":45868}]
[null,null,"Perú",13367,12402,{"$f":"+E25-D25","v":-965},129751,122743,{"$f":"+H25-G25","v":-7008}]
[null,null,"España",4658,4188,{"$f":"+E26-D26","v":-470},48628,50138,{"$f":"+H26-G26","v":1510}]
[null,null,"Alemania",2343,2503,{"$f":"+E27-D27","v":160},20710,22156,{"$f":"+H27-G27","v":1446}]
[null,null,"TOTAL",null,{"$f":"SUM(E23:E27)","v":52971},{"$f":"+E28/E29","v":0.53427807756316503}]
[null,null,"ARRIBOS OCTUBRE",null,{"$f":"+'MOV. AÑOS Y MESES'!E19","v":99145},null,null,null,"Ver Gráficos"]
[]
[]
[]
[]
[]
[]
[]
[]
[]
[]
[]
[]
[]
[]
[null,null,null,null,null,null,"Acumulado","Acumulado"]
[null,null,"País","Oct 2010","Oct 2011","Variación","Ene-Oct 2010","Ene-Oct 2011","Variación"]
[null,"Mercados de Consolidación","Reino Unido",1862,2037,{"$f":"+E46-D46","v":175},19200,19376,{"$f":"+H46-G46","v":176}]
[null,null,"Canadá",1629,1892,263,19527,20295,768]
[null,null,"Francia",2151,2154,3,17012,17092,80]
[null,null,"Argentina",3034,2370,-664,25003,30377,5374]
[null,null,"Italia",1122,1214,92,12410,11893,-517]
[null,null,"Brasil",1280,1422,142,12464,14165,1701]
[null,null,"Chile",2084,2359,275,23705,28810,5105]
[null,null,"Holanda",998,1047,49,8716,8403,-313]
[null,null,"TOTAL",null,{"$f":"SUM(E46:E53)","v":14495},{"$f":"+E54/E55","v":0.14620001008623734}]
[null,null,"ARRIBOS OCTUBRE",null,{"$f":"+'MOV. AÑOS Y MESES'!E19","v":99145},null,null,null,"Ver Gráficos"]
[]
[]
[]
[]
[]
[]
[]
[]
[]
[]
[null,null,null,null,null,null,"Acumulado","Acumulado"]
[null,null,"País","Oct 2010","Oct 2011","Variación","Ene-Oct 2010","Ene-Oct 2011","Variación"]
[null,"Mercados de Oportunidad","Venezuela",2620,3527,{"$f":"+E68-D68","v":907},24906,28703,{"$f":"+H68-G68","v":3797}]
[null,null,"México",1476,1749,273,13098,14909,1811]
[null,null,"Panamá",382,875,493,3767,7243,3476]
[null,null,"Austria",203,239,36,2042,2247,205]
[null,null,"Suiza",861,899,38,7228,7611,383]
[null,null,"Bélgica",407,429,22,4202,4345,143]
[null,null,"Costa Rica",458,478,20,3696,3857,161]
[null,null,"TOTAL",null,{"$f":"SUM(E68:E74)","v":8196},{"$f":"+E75/E76","v":8.2666801149831062E-2}]
[null,null,"ARRIBOS OCTUBRE",null,{"$f":"+'MOV. AÑOS Y MESES'!E19","v":99145},null,null,null,"Ver Gráficos"]

{"sheet":"GRAFICO M CLAVE","index":10,"n_rows":0,"n_cols":0,"rows_kept":0,"cut":false,"hidden":false,"merged":[]}

{"sheet":"GRAFICO M CONSOLIDACION","index":11,"n_rows":0,"n_cols":0,"rows_kept":0,"cut":false,"hidden":false,"merged":[]}

{"sheet":"GRAFICO M OPORTUNIDAD","index":12,"n_rows":0,"n_cols":0,"rows_kept":0,"cut":false,"hidden":false,"merged":[]}

{"sheet":"MOV.JEFATURAS ENTRADAS","index":13,"n_rows":39,"n_cols":18,"rows_kept":39,"cut":false,"hidden":false,"merged":[[23,16,23,17],[23,4,23,5],[23,6,23,7],[23,8,23,9],[23,10,23,11],[23,12,23,13],[23,14,23,15],[9,14,9,15],[9,4,9,5],[9,6,9,7],[9,8,9,9],[9,10,9,11],[9,12,9,13],[10,3,11,3],[10,4,11,4],[10,5,11,5],[10,6,11,6],[10,7,11,7],[10,8,11,8],[10,9,11,9],[10,10,11,10],[10,11,11,11],[10,12,11,12],[10,13,11,13],[10,14,11,14],[10,15,11,15],[19,3,20,3],[19,4,20,4],[19,5,20,5],[19,6,20,6],[19,7,20,7],[19,8,20,8],[19,9,20,9],[19,10,20,10],[19,11,20,11],[19,12,20,12],[19,13,20,13],[19,14,20,14],[19,15,20,15],[24,3,25,3],[24,4,25,4],[24,5,25,5],[24,6,25,6],[24,7,25,7],[24,13,25,13],[24,14,25,14],[24,15,25,15],[24,8,25,8],[24,9,25,9],[24,10,25,10],[24,11,25,11],[24,12,25,12]]}
[]
[]
[]
[]
[]
[]
[]
[]
[]
[null,null,null,null,"ENE",null,"FEB",null,"MAR",null,"ABR",null,"MAY",null,"JUN"]
[null,null,null,"JEFATURAS",2012,2013,2012,2013,2012,2013,2012,2013,2012,2013,2012,2013]
[]
[]
[null,null,null,"PICHINCHA",41586,48061,38318,43488,41449,51320,38157,43055,41462,48524,53077,58930]
[null,null,null,"GUAYAS",32169,27662,28608,26403,26352,26884,21841,22168,23220,23871,27724,29966]
[null,null,null,"CARCHI",29598,31801,14407,13042,15364,19796,19293,11333,14288,13110,24036,19194]
[null,null,null,"EL ORO",19470,18359,15551,17836,10334,11736,9957,9933,9591,10119,9388,9953]
[null,null,null,"LOJA",1328,1208,1044,1097,878,881,1037,831,997,829,982,881]
[null,null,null,"OTRAS JEFATURAS",2965,3751,1593,1902,2571,2744,2342,2349,3086,1967,3085,2818]
[null,null,null,"TOTAL",{"$f":"SUM(E14:E19)","v":127116},{"$f":"SUM(F14:F19)","v":130842},99521,103768,96948,{"$f":"SUM(J14:J19)","v":113361},92627,89669,92644,98420,118292,121742]
[]
[]
[]
[null,null,null,null,"JUL",null,"AGO",null,"SEP",null,"OCT",null,"NOV",null,"DIC",null,"ACUMULADO "]
[null,null,null,"JEFATURAS",2012,2013,2012,2013,2012,2013,2012,2013,2012,2013,2012,2013,2012,2013]
[null,null,null,null,null,null,null,null,null,null,null,null,null,null,null,null,"Ene-Dic","Ene-Dic"]
[]
[null,null,null,"PICHINCHA",55940,65099,46426,54057,39845,49735,45427,53867,46399,56212,52000,60585,{"$f":"+E14+G14+I14+K14+M14+O14+E28+G28+I28+K28+M28+O28","v":540086},{"$f":"+F14+H14+J14+L14+N14+P14+F28+H28+J28+L28+N28+P28","v":632933}]
[null,null,null,"GUAYAS",31912,32765,27330,29903,21401,22226,22922,25250,22496,24321,30581,30089,{"$f":"+E15+G15+I15+K15+M15+O15+E29+G29+I29+K29+M29+O29","v":316556},321508]
[null,null,null,"CARCHI",26461,23141,16697,11885,12646,12083,15737,14895,16024,14726,23510,25627,228061,210633]
[null,null,null,"EL ORO",12320,13561,12425,13376,9023,10383,12111,14174,11265,13585,12547,15089,143982,158104]
[null,null,null,"LOJA",1341,1028,1378,1238,1128,800,1005,920,1042,849,1019,1012,13179,11574]
[null,null,null,"OTRAS JEFATURAS",2805,2546,2119,2117,1947,2145,1943,2413,2448,2368,3133,4397,30037,31517]
[null,null,null,"TOTAL",{"$f":"SUM(E28:E33)","v":130779},138140,106375,112576,85990,97372,99145,111519,{"$f":"SUM(M28:M33)","v":99674},112061,{"$f":"SUM(O28:O33)","v":122790},136799,1271901,1366269]
[]
[]
[null,null,null,"Fuente : Dirección Nacional de Migración "]
[null,null,null,"Elaboración : Dirección de Investigación -  Ministerio de Turismo"]
[null,null,null,"2013-12-04"]

{"sheet":"MOV.JEFATURAS SALIDAS","index":14,"n_rows":39,"n_cols":18,"rows_kept":39,"cut":false,"hidden":false,"merged":[[24,13,25,13],[24,14,25,14],[24,15,25,15],[24,8,25,8],[24,9,25,9],[24,10,25,10],[24,11,25,11],[24,12,25,12],[24,3,25,3],[24,4,25,4],[24,5,25,5],[24,6,25,6],[24,7,25,7],[10,14,11,14],[10,15,11,15],[19,3,20,3],[19,4,20,4],[19,5,20,5],[19,6,20,6],[19,7,20,7],[19,8,20,8],[19,9,20,9],[19,10,20,10],[19,11,20,11],[19,12,20,12],[19,13,20,13],[19,14,20,14],[19,15,20,15],[10,9,11,9],[10,10,11,10],[10,11,11,11],[10,12,11,12],[10,13,11,13],[10,3,11,3],[10,4,11,4],[10,5,11,5],[10,6,11,6],[10,7,11,7],[23,16,23,17],[39,14,40,14],[39,15,39,16],[9,4,9,5],[9,6,9,7],[9,8,9,9],[9,10,9,11],[9,12,9,13],[9,14,9,15],[23,4,23,5],[23,6,23,7],[23,8,23,9],[23,10,23,11],[23,12,23,13],[23,14,23,15],[10,8,11,8]]}
[]
[]
[]
[]
[]
[]
[]
[]
[]
[null,null,null,null,"ENE",null,"FEB",null,"MAR",null,"ABR",null,"MAY",null,"JUN"]
[null,null,null,"JEFATURAS",2012,2013,2012,2013,2012,2013,2012,2013,2012,2013,2012,2013]
[]
[]
[null,null,null,"PICHINCHA",28207,31539,30411,35938,34400,32343,34713,35570,37677,37754,29578,30223]
[null,null,null,"GUAYAS",37067,35898,42776,40999,44232,49685,34877,44998,33355,39640,27246,33674]
[null,null,null,"CARCHI",2122,2569,2575,3222,2554,2821,2102,2176,1783,2311,1944,2116]
[null,null,null,"EL ORO",8178,7020,12320,11827,7893,10761,7222,9682,6270,7242,5739,7781]
[null,null,null,"LOJA",1432,1643,1953,1924,1666,1748,1497,1707,1431,1547,1443,14463]
[null,null,null,"OTRAS JEFATURAS",526,439,573,554,708,934,555,761,531,598,472,705]
[null,null,null,"TOTAL",{"$f":"SUM(E14:E19)","v":77532},{"$f":"SUM(F14:F19)","v":79108},90608,94464,91453,98292,80966,94894,81047,89092,66422,88962]
[]
[]
[]
[null,null,null,null,"JUL",null,"AGO",null,"SEP",null,"OCT",null,"NOV",null,"DIC",null,"ACUMULADO  "]
[null,null,null,"JEFATURAS",2012,2013,2012,2013,2012,2013,2012,2013,2012,2013,2012,2013,2012,2013]
[null,null,null,null,null,null,null,null,null,null,null,null,null,null,null,null,"Ene-Dic","Ene-Dic"]
[]
[null,null,null,"PICHINCHA",48000,46926,53575,{"$f":"VLOOKUP(D28,'[4]POR PROVINCIA'!A$7:B$12,2,0)","v":55965},38810,40815,35431,37946,34528,34890,30619,32516,{"$f":"+E14+G14+I14+K14+M14+O14+E28+G28+I28+K28+M28+O28","v":435949},{"$f":"+F14+H14+J14+L14+N14+P14+F28+H28+J28+L28+N28+P28","v":452425}]
[null,null,null,"GUAYAS",30596,39761,37405,{"$f":"VLOOKUP(D29,'[4]POR PROVINCIA'!A$7:B$12,2,0)","v":47018},36648,49117,36293,46494,34254,42580,24866,33610,{"$f":"+E15+G15+I15+K15+M15+O15+E29+G29+I29+K29+M29+O29","v":419615},503474]
[null,null,null,"CARCHI",3946,3630,3751,{"$f":"VLOOKUP(D30,'[4]POR PROVINCIA'!A$7:B$12,2,0)","v":2420},2170,2216,2308,3134,2705,3194,3321,4202,31281,34011]
[null,null,null,"EL ORO",9260,9503,14358,{"$f":"VLOOKUP(D31,'[4]POR PROVINCIA'!A$7:B$12,2,0)","v":17546},8060,9052,7746,11376,9245,8241,7572,10009,103863,120040]
[null,null,null,"LOJA",2163,1870,2857,{"$f":"VLOOKUP(D32,'[4]POR PROVINCIA'!A$7:B$12,2,0)","v":2648},1856,1695,2101,2416,1924,1973,2553,3715,22876,37349]
[null,null,null,"OTRAS JEFATURAS",602,653,1621,689,1259,703,489,794,743,671,542,762,8621,8263]
[null,null,null,"TOTAL",{"$f":"SUM(E28:E33)","v":94567},102343,{"$f":"SUM(G28:G33)","v":113567},{"$f":"SUM(H28:H33)","v":126286},{"$f":"SUM(I28:I33)","v":88803},{"$f":"SUM(J28:J33)","v":103598},84368,102160,83399,91549,69473,84814,{"$f":"SUM(Q28:Q33)","v":1022205},1155562]
[]
[]
[null,null,null,"Fuente : Dirección Nacional de Migración "]
[null,null,null,"Elaboración : Dirección de Investigación-   Ministerio de Turismo"]
[null,null,null,"2013-12-09"]

{"sheet":"LLEGADA PAIS NACIONALIDAD TOTAL","index":15,"n_rows":243,"n_cols":33,"rows_kept":243,"cut":false,"hidden":false,"merged":[[10,31,10,32],[10,4,10,5],[10,6,10,7],[10,8,10,9],[10,10,10,11],[10,12,10,13],[10,14,10,15],[10,16,10,17],[10,18,10,19],[10,20,10,21],[10,22,10,23],[10,24,10,25],[10,26,10,27],[240,3,240,5],[241,3,241,4],[10,28,10,29],[11,3,12,3]]}
[]
[]
[]
[]
[]
[]
[]
[]
[]
[]
[null,null,null,null,"ENERO",null,"FEBRERO",null,"MARZO",null,"ABRIL",null,"MAY",null,"JUN",null,"JUL",null,"AGO",null,"SEP",null,"OCT",null,"NOV",null,"DIC",null,"Acumulado Ene-Dic",null,null,"%"]
[null,null,null,"PAIS","ECUATORIANOS","EXTRANJEROS","ECUATORIANOS","EXTRANJEROS","ECUATORIANOS","EXTRANJEROS","ECUATORIANOS","EXTRANJEROS","ECUATORIANOS","EXTRANJEROS","ECUATORIANOS","EXTRANJEROS","ECUATORIANOS","EXTRANJEROS","ECUATORIANOS","EXTRANJEROS","ECUATORIANOS","EXTRANJEROS","ECUATORIANOS","EXTRANJEROS","ECUATORIANOS","EXTRANJEROS","ECUATORIANOS","EXTRANJEROS","ECUATORIANOS","EXTRANJEROS",null,"ECUATORIANOS","EXTRANJEROS"]
[null,null,null,null,"SALIDA","ENTRADA","SALIDA","ENTRADA","SALIDA","ENTRADA","SALIDA","ENTRADA","SALIDA","ENTRADA","SALIDA","ENTRADA","SALIDA","ENTRADA","SALIDA","ENTRADA","SALIDA","ENTRADA","SALIDA","ENTRADA","SALIDA","ENTRADA","SALIDA","ENTRADA","SALIDA","ENTRADA",null,"SALIDA","ENTRADA"]
[null,null,null,"AFGANISTAN",1,0,0,3,0,16,1,0,0,0,4,0,0,0,1,0,0,1,0,5,1,0,0,0,{"$f":"+E14+G14+I14+K14+M14+O14+Q14+S14+U14+W14+Y14+AA14","v":8},{"$f":"+F14+H14+J14+L14+N14+P14+R14+T14+V14+X14+Z14+AB14","v":25},null,{"$f":"+AC14/AC$239*100","v":6.9230383138247883E-4},{"$f":"+AD14/AD$239*100","v":1.8298007200631794E-3}]
[null,null,null,"AFRICA SUD OCCIDENTAL",5,37,15,44,13,72,11,61,17,61,7,58,9,64,19,72,7,62,9,51,20,65,5,91,{"$f":"+E15+G15+I15+K15+M15+O15+Q15+S15+U15+W15+Y15+AA15","v":137},{"$f":"+F15+H15+J15+L15+N15+P15+R15+T15+V15+X15+Z15+AB15","v":738},null,{"$f":"+AC15/AC$239*100","v":1.185570311242495E-2},{"$f":"+AD15/AD$239*100","v":5.4015717256265056E-2}]
[null,null,null,"ALBANIA",0,7,1,14,1,17,1,10,0,13,0,5,1,7,0,8,0,9,0,18,0,32,0,8,4,148,null,3.4615191569123941E-4,1.0832420262774022E-2]
[null,null,null,"ALEMANIA",434,2166,427,2423,442,2703,532,1723,360,1866,430,1831,558,2972,522,3157,617,2235,507,2516,269,2503,294,2391,5392,28486,null,0.46661278235179077,2.0849481324687891]
[null,null,null,"ALTO VOLTA",0,0,0,0,0,0,0,0,0,0,0,0,0,0,0,0,0,0,0,0,0,0,0,0,0,0,null,0,0]
[null,null,null,"ANDORRA",2,5,2,3,0,6,1,1,0,3,0,1,0,3,0,1,0,3,1,2,4,2,0,0,10,30,null,8.6537978922809845E-4,2.195760864075815E-3]
[null,null,null,"ANGOLA",8,8,1,0,3,45,1,2,2,4,1,1,5,2,7,1,3,2,3,4,2,0,0,189,36,258,null,3.115367241221155E-3,1.8883543431052009E-2]
[null,null,null,"ANTIGUA BARBUDA",1,0,0,1,0,0,0,4,0,3,0,1,1,3,0,0,0,0,0,0,0,0,1,0,3,12,null,2.5961393676842955E-4,8.7830434563032601E-4]
[null,null,null,"APATRIDAS",0,0,0,0,0,0,0,0,0,0,0,0,0,0,0,0,0,0,0,0,0,0,0,0,0,0,null,0,0]
[null,null,null,"ARABIA SAUDITA",9,5,11,1,5,33,4,5,1,5,7,22,8,4,7,14,10,2,20,5,16,13,10,9,108,118,null,9.3461017236634632E-3,8.6366593986982078E-3]
[null,null,null,"ARGELIA",2,22,25,23,3,23,6,17,4,18,2,14,4,7,3,10,0,1,5,13,9,12,3,39,66,199,null,5.7115066089054502E-3,1.4565213731702907E-2]
[null,null,null,"ARGENTINA",1490,8106,1930,4989,2817,4348,2785,3136,2180,2874,2215,3509,2875,4123,3739,3131,3425,3349,3843,3142,3853,3553,2194,5315,33346,49575,null,2.8856954451600174,3.6284948278852847]
[null,null,null,"ARMENIA",0,4,1,0,0,4,0,1,0,3,0,1,0,0,0,0,0,4,0,4,0,0,0,0,1,21,null,8.6537978922809853E-5,1.5370326048530706E-3]
[null,null,null,"AUSTRALIA",64,1024,106,687,37,956,25,1070,44,1284,35,978,147,869,60,925,53,1150,33,1071,46,1074,58,951,708,12039,null,6.126888907734937E-2,0.88115883475362466]
[null,null,null,"AUSTRIA",25,278,25,243,28,202,17,148,29,162,16,187,48,443,30,301,47,219,26,257,11,292,19,322,321,3054,null,2.7778691234221966E-2,0.22352845596291798]
[null,null,null,"AZERBAIYAN",0,10,0,0,3,9,1,8,0,8,0,11,0,2,1,5,0,2,0,4,0,14,0,1,5,74,null,4.3268989461404923E-4,5.4162101313870109E-3]
[null,null,null,"BAHAMAS",49,14,29,1,11,13,18,9,25,10,71,13,25,10,76,7,35,8,30,2,16,4,19,5,404,96,null,3.496134348481518E-2,7.0264347650426081E-3]
[null,null,null,"BAHREIN",1,0,0,0,0,8,0,0,0,0,0,0,0,0,0,0,0,0,0,1,0,0,0,0,1,9,null,8.6537978922809853E-5,6.5872825922274464E-4]
[null,null,null,"BANGLADESH",2,1,0,1,1,18,0,2,1,1,0,1,1,1,0,3,0,1,1,4,0,3,0,0,6,36,null,5.1922787353685909E-4,2.6349130368909786E-3]
[null,null,null,"BARBADOS",0,2,5,1,0,0,0,10,0,2,1,3,0,4,0,3,1,3,0,0,0,3,0,3,7,34,null,6.0576585245966891E-4,2.4885289792859239E-3]
[null,null,null,"BELAU",0,0,0,0,0,0,0,0,0,0,0,0,0,0,0,0,0,0,0,0,0,0,0,0,0,0,null,0,0]
[null,null,null,"BÉLGICA",185,378,115,352,120,463,105,283,56,341,96,572,209,877,368,475,219,408,95,430,64,411,66,462,1698,5452,null,0.14694148821093111,0.39904294103137816]
[null,null,null,"BELICE",13,3,9,1,7,0,1,6,0,4,1,8,0,10,0,7,0,4,1,6,0,4,2,2,34,55,null,2.9422912833755349E-3,4.0255615841389945E-3]
[null,null,null,"BENIN",0,1,0,0,0,11,0,4,0,2,0,3,0,0,0,0,0,0,0,1,0,2,0,1,0,25,null,0,1.8298007200631794E-3]
[null,null,null,"BIELORUS",2,23,5,22,1,24,1,15,0,35,0,19,3,12,2,17,7,28,20,19,1,35,3,15,45,264,null,3.8942090515264433E-3,1.9322695603867172E-2]
[null,null,null,"BOLIVIA",155,583,160,491,135,396,132,368,139,496,159,502,205,644,205,547,381,524,312,497,254,612,155,622,2392,6282,null,0.20699884558336118,0.45979232493747574]
[null,null,null,"BOPHUTHATSWANA",0,0,0,0,0,0,0,0,0,0,0,0,0,0,0,0,0,0,0,0,0,0,0,0,0,0,null,0,0]
[null,null,null,"BOSNIA HERZEGOVINA",0,2,0,2,0,8,0,3,0,3,0,0,0,1,0,1,0,3,0,1,0,1,0,2,0,27,null,0,1.9761847776682338E-3]
[null,null,null,"BOTSWANA",0,0,0,0,0,3,0,0,0,0,0,0,0,0,0,1,0,0,0,1,0,1,0,3,0,9,null,0,6.5872825922274464E-4]
[null,null,null,"BRASIL",918,1828,879,1337,1043,1306,1093,1609,992,1592,915,1554,2810,1805,1229,1486,1178,1633,1154,1641,1230,1740,955,1914,14396,19445,null,1.2458007445727706,1.4232190000651408]
[null,null,null,"BRUNEI",0,0,3,0,0,0,0,0,0,0,0,2,0,0,0,2,0,0,0,0,0,0,0,0,3,4,null,2.5961393676842955E-4,2.9276811521010871E-4]
[null,null,null,"BULGARIA",0,57,0,19,0,36,0,15,2,25,0,26,3,56,0,36,0,24,1,36,1,18,1,31,8,379,null,6.9230383138247883E-4,2.7739778916157795E-2]
[null,null,null,"BURUNDI",0,0,0,0,0,5,0,1,0,0,0,0,0,0,0,0,0,0,0,0,1,0,0,0,1,6,null,8.6537978922809853E-5,4.39152172815163E-4]
[null,null,null,"BUTAN",0,0,0,0,0,0,0,0,0,0,0,0,0,0,0,0,0,0,0,0,0,0,0,0,0,0,null,0,0]
[null,null,null,"BURKINA FASO",0,0,0,0,0,0,0,0,0,0,0,0,0,0,0,0,0,0,0,0,1,0,0,0,1,0,null,8.6537978922809853E-5,0]
[null,null,null,"CABO VERDE",1,6,0,4,0,1,0,2,0,4,0,3,0,3,0,4,0,3,3,4,0,6,0,2,4,42,null,3.4615191569123941E-4,3.0740652097061413E-3]
[null,null,null,"CAMBOYA",0,1,0,0,0,9,0,0,0,0,0,1,0,0,0,0,0,0,0,1,0,0,0,1,0,13,null,0,9.5149637443285324E-4]
[null,null,null,"CAMERUN",0,9,0,2,1,5,0,12,0,4,1,15,1,9,0,3,0,2,0,8,0,1,0,6,3,76,null,2.5961393676842955E-4,5.5625941889920656E-3]
[null,null,null,"CANADÁ",665,2490,434,2642,574,2877,534,2308,646,2276,533,1930,655,2787,854,1893,766,1555,405,1909,340,2649,383,2941,6789,28257,null,0.58750633890695614,2.0681871578730102]
[null,null,null,"CENTRO AFRICA REPUBLI",0,1,0,0,0,1,0,1,0,0,0,1,0,1,0,1,0,0,0,1,0,0,0,0,0,7,null,0,5.1234420161769018E-4]
[null,null,null,"CHAD",0,3,0,5,0,7,0,0,0,1,0,0,0,1,0,1,0,0,0,0,0,2,0,0,0,20,null,0,1.4638405760505435E-3]
[null,null,null,"CHECOSLOVAQUIA",1,109,4,145,1,97,2,38,8,60,2,50,2,73,9,88,14,103,2,105,7,163,0,109,52,1140,null,4.499974903986112E-3,8.3438912834880988E-2]
[null,null,null,"CHILE",2620,5023,2455,6916,3236,2929,2464,2504,1793,2603,1588,2741,1829,3484,2350,3087,1985,3074,2757,2731,2171,2456,1812,3397,27060,40945,null,2.3417177096512347,2.9968476193194751]
[null,null,null,"CHINA POPULAR (PEKIN)",127,1021,157,862,197,1462,325,1247,265,1266,190,1199,183,1218,206,1457,285,1244,362,1351,216,1271,73,1137,2586,14735,null,0.22378721349438627,1.078484544405238]
[null,null,null,"CHIPRE",0,1,0,3,0,2,0,3,0,1,0,2,2,1,0,4,0,3,0,3,0,4,0,10,2,37,null,1.7307595784561971E-4,2.7081050656935055E-3]
[null,null,null,"CISKEI",0,0,0,1,0,0,0,0,0,0,0,0,0,0,0,0,0,0,0,1,0,0,0,0,0,2,null,0,1.4638405760505435E-4]
[null,null,null,"COLOMBIA",7798,46006,8674,21340,8069,31800,9964,21035,9248,23069,7850,31197,10187,35036,10204,22168,9395,21809,9187,25426,8127,24581,8911,40896,107614,344363,null,9.3126980637992602,25.204626614524667]
[null,null,null,"COMORAS",0,0,0,0,0,1,0,0,0,1,0,1,0,0,0,0,0,0,0,0,0,0,0,0,0,3,null,0,2.195760864075815E-4]
[null,null,null,"CONGO",0,1,0,1,0,15,0,0,0,0,0,4,0,2,0,5,1,1,1,3,1,1,0,7,3,40,null,2.5961393676842955E-4,2.9276811521010871E-3]
[null,null,null,"COREA NORTE",0,0,0,0,0,0,0,2,0,0,0,1,0,1,0,1,0,0,0,1,0,1,0,1,0,8,null,0,5.8553623042021741E-4]
[null,null,null,"COREA SUR",0,22,0,18,0,23,0,26,0,32,0,21,0,23,1,22,2,20,0,23,0,24,0,32,3,286,null,2.5961393676842955E-4,2.0932920237522773E-2]
[null,null,null,"COSTA DE MARFIL",3,0,4,0,0,6,2,2,1,0,0,1,1,2,2,1,1,2,1,4,0,3,1,1,16,22,null,1.3846076627649577E-3,1.6102246336555978E-3]
[null,null,null,"COSTA RICA",591,471,317,341,324,656,459,563,327,561,338,623,345,727,331,574,361,736,276,775,272,808,254,797,4195,7632,null,0.36302682158118732,0.55860156382088744]
[null,null,null,"CROACIA",1,26,0,24,5,21,2,12,1,25,1,15,3,66,1,27,2,19,0,35,0,54,5,72,21,396,null,1.8172975573790067E-3,2.8984043405800762E-2]
[null,null,null,"CUBA",642,1772,1424,1371,905,1405,888,2004,691,1848,628,1761,899,2049,879,2473,1179,2321,818,2262,680,2579,872,2764,10505,24609,null,0.90908146858411742,1.8011826368013912]
[null,null,null,"CURAZAO",295,1,77,0,59,1,78,4,110,0,33,2,43,6,703,4,59,0,137,4,28,1,47,1,1669,24,null,0.14443188682216965,1.756608691260652E-3]
[null,null,null,"DINAMARCA",15,310,15,255,9,293,15,190,14,150,14,162,26,327,35,116,21,137,9,220,10,319,11,187,194,2666,null,1.6788367911025111E-2,0.19512994878753745]
[null,null,null,"DJIBOUTI",0,1,0,0,0,1,0,0,0,2,0,0,0,0,0,0,0,0,0,0,0,1,0,0,0,5,null,0,3.6596014401263588E-4]
[null,null,null,"DOMINICA",0,2,0,4,0,2,0,6,3,6,0,4,0,2,1,2,0,0,1,0,1,2,0,1,6,31,null,5.1922787353685909E-4,2.2689528928783423E-3]
[null,null,null,"ECUADOR",0,0,0,0,0,0,0,0,0,0,0,0,0,0,0,0,0,0,0,0,0,0,0,0,0,0,null,0,0]
[null,null,null,"EGIPTO",4,8,47,18,43,59,50,19,50,15,30,14,70,26,39,14,36,12,72,15,6,20,3,48,450,268,null,3.8942090515264434E-2,1.9615463719077283E-2]
[null,null,null,"EL SALVADOR",198,349,218,357,264,291,361,247,298,285,305,519,387,332,306,362,246,201,223,217,355,299,199,185,3360,3644,null,0.2907676091806411,0.26671175295640903]
[null,null,null,"EMIRATOS A. UNIDOS",35,0,24,2,17,11,22,1,32,5,13,3,17,1,13,0,24,4,34,1,20,0,31,3,282,31,null,2.4403710056232378E-2,2.2689528928783423E-3]
[null,null,null,"ESCOCIA",5,6,2,8,4,18,3,4,4,5,3,10,6,11,3,12,9,7,5,12,4,6,9,7,57,106,null,4.9326647986001615E-3,7.7583550530678806E-3]
[null,null,null,"ESLOVENIA",1,8,1,3,1,5,0,28,0,17,1,12,1,11,0,14,0,6,7,13,0,13,0,16,12,146,null,1.0384557470737182E-3,1.0686036205168966E-2]
[null,null,null,"ESPAÑA",8142,5153,8025,4902,9151,4754,8375,4167,9390,4714,7244,7043,8276,6002,8269,6688,11448,5921,9452,5039,6354,5568,5434,5294,99560,65245,null,{"$f":"+AC79/AC$239*100","v":8.6157211815549495},4.7754139192208855]
[null,null,null,"ESTADOS UNIDOS",25192,19066,32666,18900,36111,21984,33434,15382,32202,19921,25251,31587,34068,30504,42883,22786,36736,14066,34046,16004,33883,15963,28599,24622,{"$f":"+E80+G80+I80+K80+M80+O80+Q80+S80+U80+W80+Y80+AA80","v":395071},{"$f":"+F80+H80+J80+L80+N80+P80+R80+T80+V80+X80+Z80+AB80","v":250785},null,34.188645871013414,{"$f":"+AD80/AD$239*100","v":18.355462943241776}]
[null,null,null,"ESTONIA",0,27,0,11,0,25,1,16,0,2,11,3,0,7,1,10,1,1,0,9,0,18,0,17,14,146,null,1.2115317049193378E-3,1.0686036205168966E-2]
[null,null,null,"ETIOPIA",1,1,1,0,2,8,0,2,2,2,0,2,3,1,0,0,8,0,1,0,2,0,2,4,22,20,null,1.903835536301817E-3,1.4638405760505435E-3]
[null,null,null,"FIJI",0,0,1,0,0,1,1,0,0,1,0,1,1,0,0,0,1,0,0,0,0,2,1,0,5,5,null,4.3268989461404923E-4,3.6596014401263588E-4]
[null,null,null,"FILIPINAS",2,234,3,261,2,202,5,140,2,179,5,162,9,211,11,203,6,198,1,311,4,286,0,425,50,2812,null,4.3268989461404924E-3,0.2058159849927064]
[null,null,null,"FINLANDIA",11,98,4,100,16,125,5,60,10,73,11,74,7,69,11,76,5,71,8,123,12,135,1,154,101,1158,null,8.740335871203795E-3,8.4756369353326463E-2]
[null,null,null,"FRANCIA",245,1594,220,1463,275,1718,176,1481,325,1653,276,1445,394,2335,554,2008,482,1773,341,1851,222,1701,180,1304,3690,20326,null,0.31932514222516833,1.4877011774401674]
[null,null,null,"GABON",2,0,0,0,0,12,2,0,0,1,0,0,1,4,0,0,2,0,0,0,2,1,0,0,9,18,null,7.7884181030528875E-4,1.3174565184454893E-3]
[null,null,null,"GAMBIA",0,0,0,1,0,0,4,1,0,1,0,0,0,2,0,0,0,0,0,0,0,0,0,1,4,6,null,3.4615191569123941E-4,4.39152172815163E-4]
[null,null,null,"GEORGIA",0,3,0,3,0,5,0,4,0,14,1,2,0,4,0,4,1,6,0,3,0,4,0,3,2,55,null,1.7307595784561971E-4,4.0255615841389945E-3]
[null,null,null,"GHANA",0,8,0,3,1,6,0,2,0,4,1,4,0,11,0,11,0,6,0,7,1,7,0,5,3,74,null,2.5961393676842955E-4,5.4162101313870109E-3]
[null,null,null,"GRAN BRETAÑA",251,1841,190,1478,204,1880,181,1904,192,2071,195,1882,290,3107,285,2098,540,1573,235,1963,203,2186,173,1496,2939,23479,null,0.25433512005413816,1.7184756442545357]
[null,null,null,"GRANADA",1,1,0,1,0,0,0,4,0,1,0,1,1,2,2,0,0,0,0,4,0,0,0,0,4,14,null,3.4615191569123941E-4,1.0246884032353804E-3]
[null,null,null,"GRECIA",5,45,2,39,0,40,11,47,13,41,7,36,11,38,10,52,11,32,5,46,6,53,1,67,82,536,null,7.0961142716704081E-3,3.9230927438154567E-2]
[null,null,null,"GUATEMALA",117,221,193,190,180,219,226,305,140,277,129,369,110,284,127,284,133,331,177,274,231,277,124,205,1887,3236,null,0.16329716622734219,0.23684940520497794]
[null,null,null,"GUINEA",7,5,0,4,2,10,2,3,2,4,0,0,0,1,2,1,1,1,3,3,1,2,0,1,20,35,null,1.7307595784561969E-3,2.5617210080884512E-3]
[null,null,null,"GUINEA BISAU",0,0,0,1,0,1,0,0,0,0,0,0,0,0,0,0,0,0,0,0,0,0,0,0,0,2,null,0,1.4638405760505435E-4]
[null,null,null,"GUINEA ECUATORIAL",0,3,1,0,1,2,1,0,0,0,0,0,2,0,0,0,1,0,1,1,0,0,0,0,7,6,null,6.0576585245966891E-4,4.39152172815163E-4]
[null,null,null,"GUYANA",2,3,0,10,3,4,0,7,6,5,1,6,2,5,1,5,0,2,2,3,0,5,1,16,18,71,null,1.5576836206105775E-3,5.1966340449794294E-3]
[null,null,null,"HAITI",133,642,9,678,125,1352,44,1285,42,1293,49,1194,126,991,5,985,19,1325,27,1327,22,1178,51,1915,652,14165,null,5.6422762257672024E-2,1.0367650879877974]
[null,null,null,"HOLANDA",531,1026,322,894,582,988,625,1246,683,1025,719,1048,857,1858,862,1101,673,1016,472,1264,452,1218,365,1246,7143,13930,null,0.61814078344563073,1.0195649612192037]
[null,null,null,"HONDURAS",321,136,116,96,178,112,361,129,330,156,223,173,169,116,182,131,139,109,106,172,91,127,283,156,2499,1613,null,0.21625840932810184,0.11805874245847632]
[null,null,null,"HUNGRÍA",0,42,3,18,1,32,8,27,6,26,1,21,9,20,1,23,7,18,2,33,2,63,4,26,44,349,null,3.8076710726036339E-3,2.5544018052081983E-2]
[null,null,null,"INDIA",21,190,23,311,30,366,6,324,14,209,8,337,17,265,3,220,23,278,26,255,39,281,72,363,282,3399,null,2.4403710056232378E-2,0.24877970589978984]
[null,null,null,"INDONESIA",6,20,1,63,3,54,3,20,4,9,5,36,7,55,8,60,3,11,9,82,11,16,1,21,61,447,null,5.2788167142914007E-3,3.2716836874729642E-2]
[null,null,null,"IRAK",8,2,3,0,2,12,10,0,5,6,11,1,8,0,12,3,6,0,8,0,8,2,4,2,85,28,null,7.3557282084388371E-3,2.0493768064707607E-3]
[null,null,null,"IRAN",0,0,0,1,0,1,0,0,0,0,0,0,0,0,0,1,0,0,0,0,1,14,0,1,1,18,null,8.6537978922809853E-5,1.3174565184454893E-3]
[null,null,null,"IRLANDA",3,215,5,171,5,220,10,212,4,286,8,262,8,366,6,264,2,229,8,209,2,179,5,158,66,2771,null,5.7115066089054502E-3,0.20281511181180281]
[null,null,null,"ISLANDIA",0,5,0,5,4,30,0,7,0,10,0,12,0,8,0,8,0,6,0,1,0,11,2,17,6,120,null,5.1922787353685909E-4,8.7830434563032599E-3]
[null,null,null,"ISRAEL",32,213,62,254,62,289,65,385,79,565,93,471,82,534,39,366,190,419,107,228,49,198,22,166,882,4088,null,7.6326497409918287E-2,0.29920901374473108]
[null,null,null,"ITALIA",2595,1288,2192,1083,2193,1123,1871,1003,1581,965,1450,1253,1707,1315,1832,1710,3085,1177,1692,1172,1201,1270,974,1374,22373,14733,null,1.9361142024400246,1.0783381603476327]
[null,null,null,"JAMAICA",19,12,180,9,41,55,8,26,33,4,15,27,252,7,1024,8,23,10,19,8,15,6,23,10,1652,182,null,0.14296074118048188,1.3320949242059945E-2]
[null,null,null,"JAPÓN",26,479,14,468,25,528,20,461,30,343,20,436,31,410,32,466,35,527,54,361,32,511,11,602,330,5592,null,2.8557533044527253E-2,0.4092898250637319]
[null,null,null,"JORDANIA",2,6,1,9,1,16,1,5,1,5,0,9,2,3,1,7,3,4,3,9,0,6,0,3,15,82,null,1.2980696838421478E-3,6.0017463618072279E-3]
[null,null,null,"KAMPUCHEA",0,0,0,0,0,0,0,0,0,0,0,0,0,0,0,0,0,0,0,0,0,0,0,0,0,0,null,0,0]
[null,null,null,"KAZAJSTAN",2,37,1,7,2,14,2,3,0,7,0,17,1,10,0,8,1,11,1,9,0,11,0,14,10,148,null,8.6537978922809845E-4,1.0832420262774022E-2]
[null,null,null,"KENIA",2,4,2,1,1,6,2,10,4,6,3,3,2,0,9,1,4,2,2,4,2,1,0,5,33,43,null,2.8557533044527251E-3,3.1472572385086686E-3]
[null,null,null,"KIRGUISTAN",0,2,0,0,0,3,0,0,0,1,0,0,0,1,0,0,2,1,0,0,0,0,0,0,2,8,null,1.7307595784561971E-4,5.8553623042021741E-4]
[null,null,null,"KIRIBATI",6,1,2,7,3,5,1,10,21,6,9,13,0,6,2,1,2,13,0,12,6,6,6,2,58,82,null,5.0192027775229717E-3,6.0017463618072279E-3]
[null,null,null,"KUWAIT",9,6,2,1,0,41,1,6,1,2,2,6,1,4,9,0,0,5,1,5,0,1,2,3,28,80,null,2.4230634098386756E-3,5.8553623042021741E-3]
[null,null,null,"LAOS",0,0,0,0,0,0,0,0,0,0,0,0,0,0,0,0,0,0,0,0,0,0,0,0,0,0,null,0,0]
[null,null,null,"LESOTHO",0,0,0,0,0,5,0,0,0,0,0,1,0,0,0,0,0,1,0,0,0,0,0,0,0,7,null,0,5.1234420161769018E-4]
[null,null,null,"LETONIA",0,14,0,21,0,13,0,4,0,11,0,6,0,3,1,8,1,6,0,7,0,7,0,9,2,109,null,1.7307595784561971E-4,7.977931139475463E-3]
[null,null,null,"LÍBANO",0,18,1,37,2,22,1,23,0,27,12,36,1,17,16,22,4,27,1,22,0,30,2,22,40,303,null,3.4615191569123938E-3,2.2177184727165736E-2]
[null,null,null,"LIBERIA",1,0,0,0,0,2,0,0,0,0,0,0,0,0,0,0,1,1,0,0,0,0,2,2,4,5,null,3.4615191569123941E-4,3.6596014401263588E-4]
[null,null,null,"LIBIA",2,0,0,0,1,1,1,0,3,1,0,1,0,0,0,0,0,0,1,0,0,1,0,1,8,5,null,6.9230383138247883E-4,3.6596014401263588E-4]
[null,null,null,"LIECHTENSTEIN",0,3,0,0,0,1,0,1,1,1,0,0,2,2,0,3,0,2,0,1,0,3,0,4,3,21,null,2.5961393676842955E-4,1.5370326048530706E-3]
[null,null,null,"LITUANIA",0,41,0,32,1,34,1,121,0,29,0,23,3,21,0,18,0,23,0,24,1,28,1,51,7,445,null,6.0576585245966891E-4,3.257045281712459E-2]
[null,null,null,"LUXEMBURGO",2,8,5,9,3,26,0,8,0,8,0,9,1,21,3,47,6,16,4,5,4,19,1,10,29,186,null,2.5096013887614859E-3,1.3613717357270055E-2]
[null,null,null,"MADAGASCAR",0,1,0,4,0,1,0,4,0,2,1,1,0,0,0,1,0,1,0,0,0,0,0,1,1,16,null,8.6537978922809853E-5,1.1710724608404348E-3]
[null,null,null,"MALASIA",12,13,4,7,1,18,3,24,5,33,6,14,1,11,16,17,6,22,8,29,5,21,2,33,69,242,null,5.9711205456738801E-3,1.7712470970211575E-2]
[null,null,null,"MALAWI",0,1,0,0,0,0,0,0,0,1,0,0,0,0,0,0,0,1,0,0,0,0,0,0,0,3,null,0,2.195760864075815E-4]
[null,null,null,"MALDIVAS",0,0,0,0,0,9,0,0,0,2,0,0,0,0,0,0,0,0,0,0,0,0,0,1,0,12,null,0,8.7830434563032601E-4]
[null,null,null,"MALI",0,0,0,0,0,5,0,0,0,1,0,0,0,0,0,1,0,1,0,0,0,0,0,2,0,10,null,0,7.3192028802527176E-4]
[null,null,null,"MALTA",1,7,2,0,2,3,1,2,0,2,1,6,2,1,1,4,7,4,0,2,2,4,0,1,19,36,null,1.6442215995333873E-3,2.6349130368909786E-3]
[null,null,null,"MALVINAS",0,0,0,0,0,0,0,0,0,0,0,0,0,0,0,0,0,0,0,0,0,0,0,0,0,0,null,0,0]
[null,null,null,"MANCHURIA",0,0,0,0,0,0,0,0,0,0,0,0,0,0,0,0,0,0,0,0,0,0,0,0,0,0,null,0,0]
[null,null,null,"MARRUECOS",2,5,1,12,3,28,0,5,3,14,7,10,0,11,1,8,17,12,0,14,9,7,0,25,43,151,null,3.7211330936808237E-3,1.1051996349181603E-2]
[null,null,null,"MARSHALL ISLAS",0,0,0,0,0,0,0,1,0,0,0,0,0,0,0,0,0,0,0,0,0,0,0,0,0,1,null,0,7.3192028802527176E-5]
[null,null,null,"MAURICIO",0,0,0,1,0,0,0,2,0,0,0,1,2,1,0,5,0,2,0,0,0,1,0,0,2,13,null,1.7307595784561971E-4,9.5149637443285324E-4]
[null,null,null,"MAURITANIA",0,0,0,0,0,1,0,1,0,1,0,0,0,1,0,0,0,0,0,0,0,0,0,1,0,5,null,0,3.6596014401263588E-4]
[null,null,null,"MÉXICO",1598,1622,2771,1447,1872,1754,2210,1753,1977,1667,1439,1706,3021,2095,4623,1654,2143,1741,2112,1887,2374,1770,2158,2184,28298,21280,null,2.4488517275576731,1.5575263729177784]
[null,null,null,"MICRONESIA",0,0,0,1,0,3,0,0,0,0,0,0,0,0,0,0,0,0,0,0,0,0,0,0,0,4,null,0,2.9276811521010871E-4]
[null,null,null,"MOLDOVA",0,2,0,2,0,1,0,1,0,2,0,2,0,3,0,4,0,4,0,2,0,1,0,2,0,26,null,{"$f":"+AC143/AC$239*100","v":0},1.9029927488657065E-3]
[null,null,null,"MÓNACO",0,0,0,0,1,0,0,0,0,1,0,0,2,0,0,4,0,1,0,2,0,0,0,0,{"$f":"+E144+G144+I144+K144+M144+O144+Q144+S144+U144+W144+Y144+AA144","v":3},{"$f":"+F144+H144+J144+L144+N144+P144+R144+T144+V144+X144+Z144+AB144","v":8},null,2.5961393676842955E-4,{"$f":"+AD144/AD$239*100","v":5.8553623042021741E-4}]
[null,null,null,"MONGOLIA",0,1,0,0,0,7,0,0,0,0,0,2,0,1,0,0,0,0,3,1,0,2,0,1,3,15,null,2.5961393676842955E-4,1.0978804320379075E-3]
[null,null,null,"MOZAMBIQUE",1,0,1,0,1,4,0,2,0,2,0,1,1,1,0,2,2,1,0,5,1,2,0,56,7,76,null,6.0576585245966891E-4,5.5625941889920656E-3]
[null,null,null,"MYANMAR",0,2,0,8,0,4,0,22,0,15,0,5,0,14,0,3,0,0,0,0,0,2,0,9,0,84,null,0,6.1481304194122826E-3]
[null,null,null,"NAMIBIA",0,2,0,0,0,13,0,1,0,0,0,0,0,0,0,0,0,3,1,5,0,0,0,230,1,254,null,8.6537978922809853E-5,1.8590775315841905E-2]
[null,null,null,"NAURU",0,0,0,0,0,0,0,0,0,0,0,0,0,0,0,0,0,0,0,0,0,0,0,0,0,0,null,0,0]
[null,null,null,"NEPAL",0,0,0,1,0,4,1,2,0,2,0,1,0,2,0,1,0,2,0,3,0,0,0,2,1,20,null,8.6537978922809853E-5,1.4638405760505435E-3]
[null,null,null,"NICARAGUA",319,103,183,79,291,90,137,92,90,93,77,89,50,149,51,120,44,80,76,90,93,124,39,86,1450,1195,null,0.1254800694380743,8.7464474419019972E-2]
[null,null,null,"NIGER",0,0,0,0,0,0,0,0,0,0,0,0,0,0,0,0,0,0,0,0,0,0,0,0,0,0,null,0,0]
[null,null,null,"NIGERIA",0,8,0,14,1,51,2,5,0,12,0,6,0,11,0,7,0,8,1,6,0,9,2,8,6,145,null,5.1922787353685909E-4,1.061284417636644E-2]
[null,null,null,"NORUEGA",27,148,13,199,7,227,16,148,5,88,27,164,31,183,34,138,11,63,6,193,19,167,11,164,207,1882,null,1.7913361637021639E-2,0.13774739820635615]
[null,null,null,"NUEVA GUINEA",0,1,0,0,0,1,0,1,0,0,0,1,0,1,0,1,0,0,0,1,0,0,0,0,0,7,null,0,5.1234420161769018E-4]
[null,null,null,"NUEVA ZELANDIA",12,91,4,73,3,116,2,195,1,169,6,167,10,203,7,169,5,154,6,142,7,128,2,150,65,1757,null,5.6249686299826409E-3,0.12859839460604025]
[null,null,null,"O.N. AFRICA",0,0,0,1,0,1,0,0,0,0,0,0,0,0,0,0,0,0,0,0,0,1,0,0,0,3,null,0,2.195760864075815E-4]
[null,null,null,"O.N. AMERICA",0,0,0,0,0,1,0,0,0,0,0,0,0,0,0,0,0,0,0,0,0,0,0,0,0,1,null,0,7.3192028802527176E-5]
[null,null,null,"O.N. ASIA",0,0,0,0,0,0,0,0,0,0,0,0,0,0,0,0,0,0,0,0,0,0,0,0,0,0,null,0,0]
[null,null,null,"O.N. EUROPA",0,0,0,0,0,0,0,0,0,0,0,0,0,0,0,0,0,0,0,0,0,0,0,0,0,0,null,0,0]
[null,null,null,"O.N. OCEANIA",0,0,0,0,0,0,0,0,0,0,0,0,0,0,0,0,0,0,0,0,0,0,0,0,0,0,null,0,0]
[null,null,null,"OMAN",13,0,1,0,2,7,1,0,2,1,0,0,1,0,13,4,3,0,2,0,2,1,4,1,44,14,null,3.8076710726036339E-3,1.0246884032353804E-3]
[null,null,null,"PAKISTÁN",4,13,2,7,2,17,3,12,1,19,1,13,1,11,2,7,4,9,7,8,2,12,3,12,32,140,null,2.7692153255299153E-3,1.0246884032353805E-2]
[null,null,null,"PALESTINA",0,0,0,0,0,0,0,0,0,0,0,0,0,0,0,0,0,0,0,0,0,0,0,0,0,0,null,0,0]
[null,null,null,"PANAMÁ",4392,820,5433,861,6518,1022,5734,938,5197,933,3704,1017,6742,1093,9688,1090,5747,980,6524,1039,7141,987,5740,1089,72560,11869,null,6.279195750639083,0.86871618985719501]
[null,null,null,"PAPUA NUEVA GUINEA",0,0,0,0,1,0,0,0,0,0,0,2,0,0,0,0,0,0,3,0,0,0,0,0,4,2,null,3.4615191569123941E-4,1.4638405760505435E-4]
[null,null,null,"PARAGUAY",50,124,53,92,63,244,56,96,97,108,33,81,64,88,84,123,95,89,69,125,72,104,50,70,786,1344,null,6.8018851433328545E-2,9.8370086710596522E-2]
[null,null,null,"PERÚ",12972,14211,18155,14852,16821,11264,16490,9327,13649,10278,14960,9880,16309,13891,25819,14019,15811,11340,19075,15189,15556,13798,17557,12756,203174,150805,null,17.582267329662969,11.03772390356511]
[null,null,null,"POLONIA",7,227,6,188,2,219,11,148,7,142,8,199,9,170,5,128,14,110,3,154,16,223,8,136,96,2044,null,8.3076459765897455E-3,0.14960450687236554]
[null,null,null,"PORTUGAL",19,147,16,178,16,167,33,129,21,135,15,165,28,163,4,150,26,159,24,160,31,185,15,173,248,1911,null,2.1461418772856844E-2,0.13986996704162943]
[null,null,null,"PUERTO RICO",48,1,60,6,51,5,49,13,36,17,54,23,56,7,80,7,34,5,63,10,54,21,54,10,639,125,null,5.5297768531675492E-2,9.149003600315897E-3]
[null,null,null,"QATAR",2,17,2,60,1,9,4,0,6,3,2,5,4,1,5,1,3,1,41,2,0,0,11,3,81,102,null,7.0095762927475979E-3,7.4655869378577721E-3]
[null,null,null,"REP.ARABE UNIDA",0,0,0,0,0,0,0,0,0,0,0,0,0,0,0,0,0,0,0,0,0,0,0,0,0,0,null,0,0]
[null,null,null,"REP. DOMINICANA",550,195,1338,288,343,257,539,268,1222,331,514,316,1887,304,754,282,427,286,1542,331,305,363,291,251,9712,3472,null,0.84045685129832925,0.25412272400237434]
[null,null,null,"RUANDA",0,0,0,0,0,0,0,0,0,0,0,0,0,0,0,0,0,0,0,0,0,0,0,0,0,0,null,0,0]
[null,null,null,"RUMANIA",0,64,1,73,2,67,1,34,8,62,5,65,8,65,4,68,5,66,5,68,1,95,4,82,44,809,null,3.8076710726036339E-3,5.9212351301244484E-2]
[null,null,null,"RUSIA",0,10,0,7,0,4,0,7,0,6,0,3,3,10,1,10,0,16,0,9,0,12,0,9,4,103,null,3.4615191569123941E-4,7.5387789666602981E-3]
[null,null,null,"SALOMON ISLAS",0,0,0,0,0,0,0,0,0,0,0,0,0,0,0,0,0,0,0,0,0,0,0,0,0,0,null,0,0]
[null,null,null,"SAMOA OCCIDENTAL",0,1,1,0,2,0,0,2,0,0,0,0,6,1,0,1,0,0,1,0,0,1,1,0,11,6,null,9.5191776815090848E-4,4.39152172815163E-4]
[null,null,null,"SAN MARINO",1,0,0,0,0,4,0,2,1,0,0,0,7,0,136,0,0,0,0,2,1,1,0,2,146,11,null,1.2634544922730239E-2,8.0511231682779889E-4]
[null,null,null,"SAN VICENTE Y LAS GRANADI",0,1,0,0,0,2,0,1,0,0,0,2,0,3,0,0,0,0,0,0,0,0,0,0,0,9,null,0,6.5872825922274464E-4]
[null,null,null,"SANTA LUCÍA",2,0,0,3,0,0,0,2,0,0,0,1,0,2,2,1,0,0,0,0,0,0,0,3,4,12,null,3.4615191569123941E-4,8.7830434563032601E-4]
[null,null,null,"SANTO TOME Y PRINCIPE",0,0,0,1,1,6,0,0,0,0,0,0,0,0,0,0,0,0,3,0,0,0,0,0,4,7,null,3.4615191569123941E-4,5.1234420161769018E-4]
[null,null,null,"SENEGAL",0,134,0,123,0,123,0,110,0,142,0,75,0,89,0,67,0,161,0,103,2,148,0,113,2,1388,null,1.7307595784561971E-4,0.10159053597790771]
[null,null,null,"SEYCHELLES",0,0,0,0,0,0,0,0,0,0,0,0,0,1,0,0,0,1,0,0,0,0,0,0,0,2,null,0,1.4638405760505435E-4]
[null,null,null,"SIERRA LEONA",0,4,0,3,0,8,0,4,0,5,0,5,0,4,0,4,0,1,0,5,0,0,0,2,0,45,null,0,3.2936412961137229E-3]
[null,null,null,"SINGAPUR",13,43,3,19,2,65,2,35,4,38,3,42,4,48,13,46,8,34,11,48,4,40,4,68,71,526,null,6.1441965035194997E-3,3.8499007150129293E-2]
[null,null,null,"SIRIA",0,0,0,5,0,2,1,0,0,4,0,0,0,0,0,1,0,0,0,0,0,3,0,1,1,16,null,8.6537978922809853E-5,1.1710724608404348E-3]
[null,null,null,"SOMALIA",0,0,0,0,0,0,0,0,0,1,0,0,0,2,0,0,0,0,0,0,0,1,0,0,0,4,null,0,2.9276811521010871E-4]
[null,null,null,"SRILANKA",0,5,0,4,1,15,0,4,0,24,0,9,0,3,0,1,1,1,0,2,0,1,0,87,2,156,null,1.7307595784561971E-4,1.1417956493194239E-2]
[null,null,null,"SUAZILANDIA",0,0,0,0,0,0,0,0,0,0,0,0,0,0,0,0,0,0,0,0,0,0,0,0,0,0,null,0,0]
[null,null,null,"SUDÁFRICA",5,37,15,44,13,72,11,61,17,61,7,58,9,64,19,72,7,62,9,51,20,65,5,91,137,738,null,1.185570311242495E-2,5.4015717256265056E-2]
[null,null,null,"SUDÁN",1,0,0,0,0,7,0,1,0,0,0,2,1,1,1,1,0,0,0,0,0,0,0,0,3,12,null,2.5961393676842955E-4,8.7830434563032601E-4]
[null,null,null,"SUECIA",47,409,45,324,59,396,24,226,36,148,40,262,58,260,75,97,21,163,11,389,23,518,13,561,452,3753,null,3.9115166473110051E-2,0.27468968409588451]
[null,null,null,"SUIZA",336,828,186,679,182,834,166,795,163,869,174,719,314,1433,377,703,220,695,202,884,144,918,134,1080,2598,10437,null,0.22482566924146002,0.76390520461197609]
[null,null,null,"SURINAM",1,2,0,6,1,6,0,14,2,10,0,3,1,9,19,12,0,7,58,9,54,7,2,3,138,88,null,1.194224109134776E-2,6.4408985346223911E-3]
[null,null,null,"SWAZILANDIA",0,0,0,0,0,0,0,0,0,0,0,0,0,0,0,0,0,0,0,0,0,0,0,0,0,0,null,0,0]
[null,null,null,"TAILANDIA",4,19,14,5,9,57,5,16,6,21,8,26,8,10,4,13,8,13,12,14,7,17,2,13,87,224,null,7.5288041662844576E-3,1.6395014451766086E-2]
[null,null,null,"TAIWAN-CHINA",4,49,7,87,10,51,6,83,4,66,6,72,4,51,15,52,16,58,20,81,6,68,5,97,103,815,null,8.9134118290494137E-3,5.9651503474059654E-2]
[null,null,null,"TANGANICA",0,0,0,0,0,0,0,0,0,0,0,0,0,0,0,0,0,0,0,0,0,0,0,0,0,0,null,0,0]
[null,null,null,"TANZANIA",0,1,0,0,0,0,0,0,0,0,0,0,0,1,1,2,0,1,0,0,0,0,0,1,1,6,null,8.6537978922809853E-5,4.39152172815163E-4]
[null,null,null,"TAYIKISTAN",0,3,0,1,0,0,0,0,0,1,0,0,0,0,0,2,0,0,0,0,0,1,0,0,0,8,null,0,5.8553623042021741E-4]
[null,null,null,"TOGO",0,0,0,2,0,3,0,0,0,0,0,1,0,1,0,0,0,0,0,0,0,0,0,0,0,7,null,0,5.1234420161769018E-4]
[null,null,null,"TONGA",0,0,0,0,0,0,0,0,0,0,0,0,0,0,0,0,0,0,0,0,0,0,0,0,0,0,null,0,0]
[null,null,null,"TRANSKEI",0,0,0,0,0,0,0,0,0,0,0,0,0,0,0,0,0,0,0,0,0,0,0,0,0,0,null,0,0]
[null,null,null,"TRINIDAD Y TOBAGO",7,22,11,13,16,20,1,36,6,15,11,19,17,39,25,21,11,14,13,20,13,9,11,31,142,259,null,1.2288393007038999E-2,1.8956735459854539E-2]
[null,null,null,"TÚNEZ",1,2,1,4,3,4,1,1,0,2,0,4,0,8,1,5,0,4,0,3,2,3,0,10,9,50,null,{"$f":"+AC207/AC$239*100","v":7.7884181030528875E-4},3.6596014401263587E-3]
[null,null,null,"TURKMENISTAN",0,0,0,2,0,1,0,0,0,0,0,0,0,0,0,0,0,2,0,1,0,0,0,0,{"$f":"+E208+G208+I208+K208+M208+O208+Q208+S208+U208+W208+Y208+AA208","v":0},{"$f":"+F208+H208+J208+L208+N208+P208+R208+T208+V208+X208+Z208+AB208","v":6},null,0,{"$f":"+AD208/AD$239*100","v":4.39152172815163E-4}]
[null,null,null,"TURQUÍA",18,68,14,28,31,91,22,40,34,46,31,48,27,56,36,37,44,42,23,70,13,39,18,39,311,604,null,2.6913311444993863E-2,4.4207985396726414E-2]
[null,null,null,"TUVALU",0,0,0,0,0,0,0,1,0,0,0,0,0,0,0,0,0,1,0,0,0,0,0,0,0,2,null,0,1.4638405760505435E-4]
[null,null,null,"UCRANIA",7,109,4,119,4,85,4,201,10,124,5,106,36,117,40,117,38,156,131,93,50,148,65,222,394,1597,null,3.4095963695587081E-2,0.11688766999763589]
[null,null,null,"UGANDA",2,0,1,2,0,17,0,1,0,2,1,4,0,3,0,1,0,5,0,2,0,3,0,2,4,42,null,3.4615191569123941E-4,3.0740652097061413E-3]
[null,null,null,"URUGUAY",49,407,137,282,107,389,167,359,144,327,56,375,90,311,75,376,74,305,124,557,198,347,104,281,1325,4316,null,0.11466282207272306,0.31589679631170731]
[null,null,null,"UZBEKISTAN",0,0,0,1,0,2,21,3,0,0,0,1,0,0,0,0,0,0,0,0,0,0,0,8,21,15,null,1.8172975573790067E-3,1.0978804320379075E-3]
[null,null,null,"VANUATO",0,0,0,1,0,0,0,0,0,0,0,0,0,0,0,0,1,0,0,0,0,0,0,0,1,1,null,8.6537978922809853E-5,7.3192028802527176E-5]
[null,null,null,"VATICANO O SANTA SEDE",0,0,0,0,0,0,0,0,0,1,0,0,0,0,0,0,2,1,0,0,0,0,0,0,2,2,null,1.7307595784561971E-4,1.4638405760505435E-4]
[null,null,null,"VENDA",0,0,0,0,0,0,0,0,0,0,0,0,0,0,0,0,0,0,0,0,0,0,0,0,0,0,null,0,0]
[null,null,null,"VENEZUELA",2240,4841,1223,6135,1554,5411,1027,5984,1052,6553,915,7546,1349,9664,1191,9623,1060,9461,805,12951,743,13715,851,10433,14010,102317,null,1.2123970847085659,7.4887888109881731]
[null,null,null,"VIETNAM NORTE",5,96,1,3,0,16,0,1,1,4,3,2,4,6,5,18,0,4,0,7,0,6,2,99,21,262,null,1.8172975573790067E-3,1.917631154626212E-2]
[null,null,null,"VIETNAM SUR",5,96,1,3,0,16,0,1,1,4,3,2,4,6,5,18,0,4,0,7,0,6,2,99,21,262,null,1.8172975573790067E-3,1.917631154626212E-2]
[null,null,null,"YEMEN ARABE",0,3,0,1,0,4,0,5,0,2,0,3,0,2,0,2,0,2,0,1,0,3,0,5,0,33,null,0,2.4153369504833965E-3]
[null,null,null,"YEMEN POPULAR",0,3,0,1,0,4,0,5,0,2,0,3,0,2,0,2,0,2,0,1,0,3,0,5,0,33,null,0,2.4153369504833965E-3]
[null,null,null,"YUGOSLAVIA",0,13,0,23,1,21,0,5,0,14,0,13,1,10,0,7,1,9,0,15,0,9,0,22,3,161,null,2.5961393676842955E-4,1.1783916637206874E-2]
[null,null,null,"ZAIRE",0,0,0,0,0,0,0,0,0,0,0,0,0,0,0,0,0,0,0,0,0,0,0,0,0,0,null,0,0]
[null,null,null,"ZAMBIA",0,0,0,0,0,12,0,0,0,1,0,1,0,2,1,0,0,0,1,0,0,0,0,1,2,17,null,1.7307595784561971E-4,1.2442644896429619E-3]
[null,null,null,"ZIMBABWE",0,1,0,2,0,16,0,1,0,3,0,3,0,4,1,1,0,2,0,4,0,1,0,1,1,39,null,8.6537978922809853E-5,2.8544891232985597E-3]
[null,null,null,"BERMUDAS",1,5,1,3,3,0,1,2,0,0,0,6,0,6,3,2,3,1,1,1,0,2,1,3,14,31,null,1.2115317049193378E-3,2.2689528928783423E-3]
[null,null,null,"ISLA BOUVET",0,0,0,0,0,1,0,0,0,0,0,0,0,0,0,0,0,1,0,0,0,0,0,0,0,2,null,0,1.4638405760505435E-4]
[null,null,null,"BURKINA FASO",0,0,0,0,0,11,0,0,0,0,0,1,0,1,0,0,0,0,0,0,1,1,0,0,1,14,null,8.6537978922809853E-5,1.0246884032353804E-3]
[null,null,null,"POLINESIA FRANCESA",0,1,0,0,0,0,2,1,0,0,0,0,0,1,134,0,0,0,0,0,0,1,3,0,139,4,null,1.202877907027057E-2,2.9276811521010871E-4]
[null,null,null,"GROELANDIA",0,0,0,0,0,0,0,0,0,0,0,0,0,0,0,0,0,0,0,0,0,0,0,0,0,0,null,0,0]
[null,null,null,"GUADALUPE",2,1,5,2,0,1,0,1,0,1,0,0,0,2,0,0,0,2,0,1,0,1,0,0,7,12,null,6.0576585245966891E-4,8.7830434563032601E-4]
[null,null,null,"HONG KONG",12,14,19,15,16,29,35,24,16,16,24,16,6,12,15,17,9,25,48,28,7,21,5,38,212,255,null,1.8346051531635689E-2,1.8663967344644431E-2]
[null,null,null,"PAÍSES BAJOS (LOS)",0,0,0,3,0,5,0,5,0,4,0,1,0,2,0,2,0,6,0,3,0,6,0,4,0,41,null,0,3.000873180903614E-3]
[null,null,null,"NUEVA CALEDONIA",0,2,0,1,0,5,1,2,1,1,0,0,0,1,0,1,0,3,0,1,0,0,0,1,2,18,null,1.7307595784561971E-4,1.3174565184454893E-3]
[null,null,null,"REPÚBLICA ESLOVACA/ESLOVAQUIA",0,2,0,5,0,2,0,1,0,0,0,3,0,1,0,4,0,1,0,3,0,4,0,1,0,27,null,0,1.9761847776682338E-3]
[null,null,null,"SAHARA OCCIDENTAL",0,2,0,0,0,0,0,4,0,4,0,1,0,2,0,0,0,0,0,0,0,1,0,21,0,35,null,0,2.5617210080884512E-3]
[null,null,null,"PAIS DESCONOCIDO",2249,858,2877,830,2681,853,2735,786,2798,746,15565,736,4135,670,4491,989,3696,809,3940,978,3675,850,4892,1009,53734,10114,null,4.6500317594382645,0.74026417930875987]
[null,null,null,null,{"$f":"SUM(E14:E238)","v":79108},130842,94464,103768,98292,113361,94894,89669,89092,98420,88962,121742,102343,138140,126286,112576,103598,97372,102160,111519,91549,112061,84814,136799,{"$f":"SUM(AC14:AC238)","v":1155562},{"$f":"SUM(AD14:AD238)","v":1366269},null,99.999999999999972,100.00000000000004]
[]
[null,null,null,"Fuente : Dirección Nacional de Migración "]
[null,null,null,"Elaboración: Dirección de Investigación"]
[null,null,null,"2013-12-09"]

{"sheet":"LLEGADAS EXTRANJEROS","index":16,"n_rows":234,"n_cols":20,"rows_kept":234,"cut":false,"hidden":false,"merged":[]}
[]
[]
[]
[]
[]
[]
[]
[]
[]
[]
[null,null,null,null,null,"ENTRADA","ENTRADA","ENTRADA","ENTRADA","ENTRADA","ENTRADA","ENTRADA","ENTRADA","ENTRADA","ENTRADA","ENTRADA","ENTRADA","ENTRADA",null,"ENTRADA"]
[null,null,null,"RK","PAIS","ENE","FEB","MAR","ABR","MAY","JUN","JUL","AGO","SEP","OCT","NOV","DIC","Acumulado Ene-Dic",null,"%"]
[null,null,null,1,"COLOMBIA",46006,21340,31800,21035,23069,31197,35036,22168,21809,{"$f":"VLOOKUP(E13,'LLEGADA PAIS NACIONALIDAD TOTAL'!$D$14:$X$238,21,0)","v":25426},{"$f":"VLOOKUP(E13,'LLEGADA PAIS NACIONALIDAD TOTAL'!$D$14:$Z$238,23,0)","v":24581},{"$f":"VLOOKUP(E13,'LLEGADA PAIS NACIONALIDAD TOTAL'!$D$14:$AB$238,25,0)","v":40896},{"$f":"SUM(F13:Q13)","v":344363},null,{"$f":"+R13/R$232*100","v":25.204626614524667}]
[null,null,null,2,"ESTADOS UNIDOS",19066,18900,21984,15382,19921,31587,30504,22786,14066,{"$f":"VLOOKUP(E14,'LLEGADA PAIS NACIONALIDAD TOTAL'!$D$14:$X$238,21,0)","v":16004},{"$f":"VLOOKUP(E14,'LLEGADA PAIS NACIONALIDAD TOTAL'!$D$14:$Z$238,23,0)","v":15963},{"$f":"VLOOKUP(E14,'LLEGADA PAIS NACIONALIDAD TOTAL'!$D$14:$AB$238,25,0)","v":24622},250785,null,{"$f":"+R14/R$232*100","v":18.355462943241776}]
[null,null,null,3,"PERÚ",14211,14852,11264,9327,10278,9880,13891,14019,11340,{"$f":"VLOOKUP(E15,'LLEGADA PAIS NACIONALIDAD TOTAL'!$D$14:$X$238,21,0)","v":15189},{"$f":"VLOOKUP(E15,'LLEGADA PAIS NACIONALIDAD TOTAL'!$D$14:$Z$238,23,0)","v":13798},{"$f":"VLOOKUP(E15,'LLEGADA PAIS NACIONALIDAD TOTAL'!$D$14:$AB$238,25,0)","v":12756},150805,null,11.03772390356511]
[null,null,null,4,"VENEZUELA",4841,6135,5411,5984,6553,7546,9664,9623,9461,{"$f":"VLOOKUP(E16,'LLEGADA PAIS NACIONALIDAD TOTAL'!$D$14:$X$238,21,0)","v":12951},{"$f":"VLOOKUP(E16,'LLEGADA PAIS NACIONALIDAD TOTAL'!$D$14:$Z$238,23,0)","v":13715},{"$f":"VLOOKUP(E16,'LLEGADA PAIS NACIONALIDAD TOTAL'!$D$14:$AB$238,25,0)","v":10433},102317,null,7.4887888109881731]
[null,null,null,5,"ESPAÑA",5153,4902,4754,4167,4714,7043,6002,6688,5921,{"$f":"VLOOKUP(E17,'LLEGADA PAIS NACIONALIDAD TOTAL'!$D$14:$X$238,21,0)","v":5039},{"$f":"VLOOKUP(E17,'LLEGADA PAIS NACIONALIDAD TOTAL'!$D$14:$Z$238,23,0)","v":5568},{"$f":"VLOOKUP(E17,'LLEGADA PAIS NACIONALIDAD TOTAL'!$D$14:$AB$238,25,0)","v":5294},65245,null,4.7754139192208855]
[null,null,null,6,"ARGENTINA",8106,4989,4348,3136,2874,3509,4123,3131,3349,{"$f":"VLOOKUP(E18,'LLEGADA PAIS NACIONALIDAD TOTAL'!$D$14:$X$238,21,0)","v":3142},{"$f":"VLOOKUP(E18,'LLEGADA PAIS NACIONALIDAD TOTAL'!$D$14:$Z$238,23,0)","v":3553},{"$f":"VLOOKUP(E18,'LLEGADA PAIS NACIONALIDAD TOTAL'!$D$14:$AB$238,25,0)","v":5315},49575,null,3.6284948278852847]
[null,null,null,7,"CHILE",5023,6916,2929,2504,2603,2741,3484,3087,3074,{"$f":"VLOOKUP(E19,'LLEGADA PAIS NACIONALIDAD TOTAL'!$D$14:$X$238,21,0)","v":2731},{"$f":"VLOOKUP(E19,'LLEGADA PAIS NACIONALIDAD TOTAL'!$D$14:$Z$238,23,0)","v":2456},{"$f":"VLOOKUP(E19,'LLEGADA PAIS NACIONALIDAD TOTAL'!$D$14:$AB$238,25,0)","v":3397},40945,null,2.9968476193194751]
[null,null,null,8,"ALEMANIA",2166,2423,2703,1723,1866,1831,2972,3157,2235,{"$f":"VLOOKUP(E20,'LLEGADA PAIS NACIONALIDAD TOTAL'!$D$14:$X$238,21,0)","v":2516},{"$f":"VLOOKUP(E20,'LLEGADA PAIS NACIONALIDAD TOTAL'!$D$14:$Z$238,23,0)","v":2503},{"$f":"VLOOKUP(E20,'LLEGADA PAIS NACIONALIDAD TOTAL'!$D$14:$AB$238,25,0)","v":2391},28486,null,2.0849481324687891]
[null,null,null,9,"CANADÁ",2490,2642,2877,2308,2276,1930,2787,1893,1555,{"$f":"VLOOKUP(E21,'LLEGADA PAIS NACIONALIDAD TOTAL'!$D$14:$X$238,21,0)","v":1909},{"$f":"VLOOKUP(E21,'LLEGADA PAIS NACIONALIDAD TOTAL'!$D$14:$Z$238,23,0)","v":2649},{"$f":"VLOOKUP(E21,'LLEGADA PAIS NACIONALIDAD TOTAL'!$D$14:$AB$238,25,0)","v":2941},28257,null,2.0681871578730102]
[null,null,null,10,"CUBA",1772,1371,1405,2004,1848,1761,2049,2473,2321,{"$f":"VLOOKUP(E22,'LLEGADA PAIS NACIONALIDAD TOTAL'!$D$14:$X$238,21,0)","v":2262},{"$f":"VLOOKUP(E22,'LLEGADA PAIS NACIONALIDAD TOTAL'!$D$14:$Z$238,23,0)","v":2579},{"$f":"VLOOKUP(E22,'LLEGADA PAIS NACIONALIDAD TOTAL'!$D$14:$AB$238,25,0)","v":2764},24609,null,1.8011826368013912]
[null,null,null,11,"GRAN BRETAÑA",1841,1478,1880,1904,2071,1882,3107,2098,1573,{"$f":"VLOOKUP(E23,'LLEGADA PAIS NACIONALIDAD TOTAL'!$D$14:$X$238,21,0)","v":1963},{"$f":"VLOOKUP(E23,'LLEGADA PAIS NACIONALIDAD TOTAL'!$D$14:$Z$238,23,0)","v":2186},{"$f":"VLOOKUP(E23,'LLEGADA PAIS NACIONALIDAD TOTAL'!$D$14:$AB$238,25,0)","v":1496},23479,null,{"$f":"+R23/R$232*100","v":1.7184756442545357}]
[null,null,null,12,"MÉXICO",1622,1447,1754,1753,1667,1706,2095,1654,1741,{"$f":"VLOOKUP(E24,'LLEGADA PAIS NACIONALIDAD TOTAL'!$D$14:$X$238,21,0)","v":1887},{"$f":"VLOOKUP(E24,'LLEGADA PAIS NACIONALIDAD TOTAL'!$D$14:$Z$238,23,0)","v":1770},{"$f":"VLOOKUP(E24,'LLEGADA PAIS NACIONALIDAD TOTAL'!$D$14:$AB$238,25,0)","v":2184},21280,null,{"$f":"+R24/R$232*100","v":1.5575263729177784}]
[null,null,null,13,"FRANCIA",1594,1463,1718,1481,1653,1445,2335,2008,1773,{"$f":"VLOOKUP(E25,'LLEGADA PAIS NACIONALIDAD TOTAL'!$D$14:$X$238,21,0)","v":1851},{"$f":"VLOOKUP(E25,'LLEGADA PAIS NACIONALIDAD TOTAL'!$D$14:$Z$238,23,0)","v":1701},{"$f":"VLOOKUP(E25,'LLEGADA PAIS NACIONALIDAD TOTAL'!$D$14:$AB$238,25,0)","v":1304},20326,null,1.4877011774401674]
[null,null,null,14,"BRASIL",1828,1337,1306,1609,1592,1554,1805,1486,1633,{"$f":"VLOOKUP(E26,'LLEGADA PAIS NACIONALIDAD TOTAL'!$D$14:$X$238,21,0)","v":1641},{"$f":"VLOOKUP(E26,'LLEGADA PAIS NACIONALIDAD TOTAL'!$D$14:$Z$238,23,0)","v":1740},{"$f":"VLOOKUP(E26,'LLEGADA PAIS NACIONALIDAD TOTAL'!$D$14:$AB$238,25,0)","v":1914},19445,null,1.4232190000651408]
[null,null,null,15,"CHINA POPULAR (PEKIN)",1021,862,1462,1247,1266,1199,1218,1457,1244,{"$f":"VLOOKUP(E27,'LLEGADA PAIS NACIONALIDAD TOTAL'!$D$14:$X$238,21,0)","v":1351},{"$f":"VLOOKUP(E27,'LLEGADA PAIS NACIONALIDAD TOTAL'!$D$14:$Z$238,23,0)","v":1271},{"$f":"VLOOKUP(E27,'LLEGADA PAIS NACIONALIDAD TOTAL'!$D$14:$AB$238,25,0)","v":1137},14735,null,1.078484544405238]
[null,null,null,16,"ITALIA",1288,1083,1123,1003,965,1253,1315,1710,1177,{"$f":"VLOOKUP(E28,'LLEGADA PAIS NACIONALIDAD TOTAL'!$D$14:$X$238,21,0)","v":1172},{"$f":"VLOOKUP(E28,'LLEGADA PAIS NACIONALIDAD TOTAL'!$D$14:$Z$238,23,0)","v":1270},{"$f":"VLOOKUP(E28,'LLEGADA PAIS NACIONALIDAD TOTAL'!$D$14:$AB$238,25,0)","v":1374},14733,null,1.0783381603476327]
[null,null,null,17,"HAITI",642,678,1352,1285,1293,1194,991,985,1325,{"$f":"VLOOKUP(E29,'LLEGADA PAIS NACIONALIDAD TOTAL'!$D$14:$X$238,21,0)","v":1327},{"$f":"VLOOKUP(E29,'LLEGADA PAIS NACIONALIDAD TOTAL'!$D$14:$Z$238,23,0)","v":1178},{"$f":"VLOOKUP(E29,'LLEGADA PAIS NACIONALIDAD TOTAL'!$D$14:$AB$238,25,0)","v":1915},14165,null,1.0367650879877974]
[null,null,null,18,"HOLANDA",1026,894,988,1246,1025,1048,1858,1101,1016,{"$f":"VLOOKUP(E30,'LLEGADA PAIS NACIONALIDAD TOTAL'!$D$14:$X$238,21,0)","v":1264},{"$f":"VLOOKUP(E30,'LLEGADA PAIS NACIONALIDAD TOTAL'!$D$14:$Z$238,23,0)","v":1218},{"$f":"VLOOKUP(E30,'LLEGADA PAIS NACIONALIDAD TOTAL'!$D$14:$AB$238,25,0)","v":1246},13930,null,1.0195649612192037]
[null,null,null,19,"AUSTRALIA",1024,687,956,1070,1284,978,869,925,1150,{"$f":"VLOOKUP(E31,'LLEGADA PAIS NACIONALIDAD TOTAL'!$D$14:$X$238,21,0)","v":1071},{"$f":"VLOOKUP(E31,'LLEGADA PAIS NACIONALIDAD TOTAL'!$D$14:$Z$238,23,0)","v":1074},{"$f":"VLOOKUP(E31,'LLEGADA PAIS NACIONALIDAD TOTAL'!$D$14:$AB$238,25,0)","v":951},12039,null,0.88115883475362466]
[null,null,null,20,"PANAMÁ",820,861,1022,938,933,1017,1093,1090,980,{"$f":"VLOOKUP(E32,'LLEGADA PAIS NACIONALIDAD TOTAL'!$D$14:$X$238,21,0)","v":1039},{"$f":"VLOOKUP(E32,'LLEGADA PAIS NACIONALIDAD TOTAL'!$D$14:$Z$238,23,0)","v":987},{"$f":"VLOOKUP(E32,'LLEGADA PAIS NACIONALIDAD TOTAL'!$D$14:$AB$238,25,0)","v":1089},11869,null,0.86871618985719501]
[null,null,null,21,"SUIZA",828,679,834,795,869,719,1433,703,695,{"$f":"VLOOKUP(E33,'LLEGADA PAIS NACIONALIDAD TOTAL'!$D$14:$X$238,21,0)","v":884},{"$f":"VLOOKUP(E33,'LLEGADA PAIS NACIONALIDAD TOTAL'!$D$14:$Z$238,23,0)","v":918},{"$f":"VLOOKUP(E33,'LLEGADA PAIS NACIONALIDAD TOTAL'!$D$14:$AB$238,25,0)","v":1080},10437,null,0.76390520461197609]
[null,null,null,22,"COSTA RICA",471,341,656,563,561,623,727,574,736,{"$f":"VLOOKUP(E34,'LLEGADA PAIS NACIONALIDAD TOTAL'!$D$14:$X$238,21,0)","v":775},{"$f":"VLOOKUP(E34,'LLEGADA PAIS NACIONALIDAD TOTAL'!$D$14:$Z$238,23,0)","v":808},{"$f":"VLOOKUP(E34,'LLEGADA PAIS NACIONALIDAD TOTAL'!$D$14:$AB$238,25,0)","v":797},{"$f":"SUM(F34:Q34)","v":7632},null,{"$f":"+R34/R$232*100","v":0.55860156382088744}]
[null,null,null,23,"BOLIVIA",583,491,396,368,496,502,644,547,524,{"$f":"VLOOKUP(E35,'LLEGADA PAIS NACIONALIDAD TOTAL'!$D$14:$X$238,21,0)","v":497},{"$f":"VLOOKUP(E35,'LLEGADA PAIS NACIONALIDAD TOTAL'!$D$14:$Z$238,23,0)","v":612},{"$f":"VLOOKUP(E35,'LLEGADA PAIS NACIONALIDAD TOTAL'!$D$14:$AB$238,25,0)","v":622},6282,null,0.45979232493747574]
[null,null,null,24,"JAPÓN",479,468,528,461,343,436,410,466,527,{"$f":"VLOOKUP(E36,'LLEGADA PAIS NACIONALIDAD TOTAL'!$D$14:$X$238,21,0)","v":361},{"$f":"VLOOKUP(E36,'LLEGADA PAIS NACIONALIDAD TOTAL'!$D$14:$Z$238,23,0)","v":511},{"$f":"VLOOKUP(E36,'LLEGADA PAIS NACIONALIDAD TOTAL'!$D$14:$AB$238,25,0)","v":602},5592,null,0.4092898250637319]
[null,null,null,25,"BÉLGICA",378,352,463,283,341,572,877,475,408,{"$f":"VLOOKUP(E37,'LLEGADA PAIS NACIONALIDAD TOTAL'!$D$14:$X$238,21,0)","v":430},{"$f":"VLOOKUP(E37,'LLEGADA PAIS NACIONALIDAD TOTAL'!$D$14:$Z$238,23,0)","v":411},{"$f":"VLOOKUP(E37,'LLEGADA PAIS NACIONALIDAD TOTAL'!$D$14:$AB$238,25,0)","v":462},5452,null,0.39904294103137816]
[null,null,null,26,"URUGUAY",407,282,389,359,327,375,311,376,305,{"$f":"VLOOKUP(E38,'LLEGADA PAIS NACIONALIDAD TOTAL'!$D$14:$X$238,21,0)","v":557},{"$f":"VLOOKUP(E38,'LLEGADA PAIS NACIONALIDAD TOTAL'!$D$14:$Z$238,23,0)","v":347},{"$f":"VLOOKUP(E38,'LLEGADA PAIS NACIONALIDAD TOTAL'!$D$14:$AB$238,25,0)","v":281},4316,null,0.31589679631170731]
[null,null,null,27,"ISRAEL",213,254,289,385,565,471,534,366,419,{"$f":"VLOOKUP(E39,'LLEGADA PAIS NACIONALIDAD TOTAL'!$D$14:$X$238,21,0)","v":228},{"$f":"VLOOKUP(E39,'LLEGADA PAIS NACIONALIDAD TOTAL'!$D$14:$Z$238,23,0)","v":198},{"$f":"VLOOKUP(E39,'LLEGADA PAIS NACIONALIDAD TOTAL'!$D$14:$AB$238,25,0)","v":166},4088,null,0.29920901374473108]
[null,null,null,28,"SUECIA",409,324,396,226,148,262,260,97,163,{"$f":"VLOOKUP(E40,'LLEGADA PAIS NACIONALIDAD TOTAL'!$D$14:$X$238,21,0)","v":389},{"$f":"VLOOKUP(E40,'LLEGADA PAIS NACIONALIDAD TOTAL'!$D$14:$Z$238,23,0)","v":518},{"$f":"VLOOKUP(E40,'LLEGADA PAIS NACIONALIDAD TOTAL'!$D$14:$AB$238,25,0)","v":561},3753,null,0.27468968409588451]
[null,null,null,29,"EL SALVADOR",349,357,291,247,285,519,332,362,201,{"$f":"VLOOKUP(E41,'LLEGADA PAIS NACIONALIDAD TOTAL'!$D$14:$X$238,21,0)","v":217},{"$f":"VLOOKUP(E41,'LLEGADA PAIS NACIONALIDAD TOTAL'!$D$14:$Z$238,23,0)","v":299},{"$f":"VLOOKUP(E41,'LLEGADA PAIS NACIONALIDAD TOTAL'!$D$14:$AB$238,25,0)","v":185},3644,null,0.26671175295640903]
[null,null,null,30,"REP. DOMINICANA",195,288,257,268,331,316,304,282,286,{"$f":"VLOOKUP(E42,'LLEGADA PAIS NACIONALIDAD TOTAL'!$D$14:$X$238,21,0)","v":331},{"$f":"VLOOKUP(E42,'LLEGADA PAIS NACIONALIDAD TOTAL'!$D$14:$Z$238,23,0)","v":363},{"$f":"VLOOKUP(E42,'LLEGADA PAIS NACIONALIDAD TOTAL'!$D$14:$AB$238,25,0)","v":251},3472,null,0.25412272400237434]
[null,null,null,31,"INDIA",190,311,366,324,209,337,265,220,278,{"$f":"VLOOKUP(E43,'LLEGADA PAIS NACIONALIDAD TOTAL'!$D$14:$X$238,21,0)","v":255},{"$f":"VLOOKUP(E43,'LLEGADA PAIS NACIONALIDAD TOTAL'!$D$14:$Z$238,23,0)","v":281},{"$f":"VLOOKUP(E43,'LLEGADA PAIS NACIONALIDAD TOTAL'!$D$14:$AB$238,25,0)","v":363},3399,null,0.24877970589978984]
[null,null,null,32,"GUATEMALA",221,190,219,305,277,369,284,284,331,{"$f":"VLOOKUP(E44,'LLEGADA PAIS NACIONALIDAD TOTAL'!$D$14:$X$238,21,0)","v":274},{"$f":"VLOOKUP(E44,'LLEGADA PAIS NACIONALIDAD TOTAL'!$D$14:$Z$238,23,0)","v":277},{"$f":"VLOOKUP(E44,'LLEGADA PAIS NACIONALIDAD TOTAL'!$D$14:$AB$238,25,0)","v":205},3236,null,0.23684940520497794]
[null,null,null,33,"AUSTRIA",278,243,202,148,162,187,443,301,219,{"$f":"VLOOKUP(E45,'LLEGADA PAIS NACIONALIDAD TOTAL'!$D$14:$X$238,21,0)","v":257},{"$f":"VLOOKUP(E45,'LLEGADA PAIS NACIONALIDAD TOTAL'!$D$14:$Z$238,23,0)","v":292},{"$f":"VLOOKUP(E45,'LLEGADA PAIS NACIONALIDAD TOTAL'!$D$14:$AB$238,25,0)","v":322},3054,null,0.22352845596291798]
[null,null,null,34,"FILIPINAS",234,261,202,140,179,162,211,203,198,{"$f":"VLOOKUP(E46,'LLEGADA PAIS NACIONALIDAD TOTAL'!$D$14:$X$238,21,0)","v":311},{"$f":"VLOOKUP(E46,'LLEGADA PAIS NACIONALIDAD TOTAL'!$D$14:$Z$238,23,0)","v":286},{"$f":"VLOOKUP(E46,'LLEGADA PAIS NACIONALIDAD TOTAL'!$D$14:$AB$238,25,0)","v":425},2812,null,0.2058159849927064]
[null,null,null,35,"IRLANDA",215,171,220,212,286,262,366,264,229,{"$f":"VLOOKUP(E47,'LLEGADA PAIS NACIONALIDAD TOTAL'!$D$14:$X$238,21,0)","v":209},{"$f":"VLOOKUP(E47,'LLEGADA PAIS NACIONALIDAD TOTAL'!$D$14:$Z$238,23,0)","v":179},{"$f":"VLOOKUP(E47,'LLEGADA PAIS NACIONALIDAD TOTAL'!$D$14:$AB$238,25,0)","v":158},2771,null,0.20281511181180281]
[null,null,null,36,"DINAMARCA",310,255,293,190,150,162,327,116,137,{"$f":"VLOOKUP(E48,'LLEGADA PAIS NACIONALIDAD TOTAL'!$D$14:$X$238,21,0)","v":220},{"$f":"VLOOKUP(E48,'LLEGADA PAIS NACIONALIDAD TOTAL'!$D$14:$Z$238,23,0)","v":319},{"$f":"VLOOKUP(E48,'LLEGADA PAIS NACIONALIDAD TOTAL'!$D$14:$AB$238,25,0)","v":187},2666,null,0.19512994878753745]
[null,null,null,37,"POLONIA",227,188,219,148,142,199,170,128,110,{"$f":"VLOOKUP(E49,'LLEGADA PAIS NACIONALIDAD TOTAL'!$D$14:$X$238,21,0)","v":154},{"$f":"VLOOKUP(E49,'LLEGADA PAIS NACIONALIDAD TOTAL'!$D$14:$Z$238,23,0)","v":223},{"$f":"VLOOKUP(E49,'LLEGADA PAIS NACIONALIDAD TOTAL'!$D$14:$AB$238,25,0)","v":136},2044,null,0.14960450687236554]
[null,null,null,38,"PORTUGAL",147,178,167,129,135,165,163,150,159,{"$f":"VLOOKUP(E50,'LLEGADA PAIS NACIONALIDAD TOTAL'!$D$14:$X$238,21,0)","v":160},{"$f":"VLOOKUP(E50,'LLEGADA PAIS NACIONALIDAD TOTAL'!$D$14:$Z$238,23,0)","v":185},{"$f":"VLOOKUP(E50,'LLEGADA PAIS NACIONALIDAD TOTAL'!$D$14:$AB$238,25,0)","v":173},1911,null,0.13986996704162943]
[null,null,null,39,"NORUEGA",148,199,227,148,88,164,183,138,63,{"$f":"VLOOKUP(E51,'LLEGADA PAIS NACIONALIDAD TOTAL'!$D$14:$X$238,21,0)","v":193},{"$f":"VLOOKUP(E51,'LLEGADA PAIS NACIONALIDAD TOTAL'!$D$14:$Z$238,23,0)","v":167},{"$f":"VLOOKUP(E51,'LLEGADA PAIS NACIONALIDAD TOTAL'!$D$14:$AB$238,25,0)","v":164},1882,null,0.13774739820635615]
[null,null,null,40,"NUEVA ZELANDIA",91,73,116,195,169,167,203,169,154,{"$f":"VLOOKUP(E52,'LLEGADA PAIS NACIONALIDAD TOTAL'!$D$14:$X$238,21,0)","v":142},{"$f":"VLOOKUP(E52,'LLEGADA PAIS NACIONALIDAD TOTAL'!$D$14:$Z$238,23,0)","v":128},{"$f":"VLOOKUP(E52,'LLEGADA PAIS NACIONALIDAD TOTAL'!$D$14:$AB$238,25,0)","v":150},1757,null,0.12859839460604025]
[null,null,null,41,"HONDURAS",136,96,112,129,156,173,116,131,109,{"$f":"VLOOKUP(E53,'LLEGADA PAIS NACIONALIDAD TOTAL'!$D$14:$X$238,21,0)","v":172},{"$f":"VLOOKUP(E53,'LLEGADA PAIS NACIONALIDAD TOTAL'!$D$14:$Z$238,23,0)","v":127},{"$f":"VLOOKUP(E53,'LLEGADA PAIS NACIONALIDAD TOTAL'!$D$14:$AB$238,25,0)","v":156},1613,null,0.11805874245847632]
[null,null,null,42,"UCRANIA",109,119,85,201,124,106,117,117,156,{"$f":"VLOOKUP(E54,'LLEGADA PAIS NACIONALIDAD TOTAL'!$D$14:$X$238,21,0)","v":93},{"$f":"VLOOKUP(E54,'LLEGADA PAIS NACIONALIDAD TOTAL'!$D$14:$Z$238,23,0)","v":148},{"$f":"VLOOKUP(E54,'LLEGADA PAIS NACIONALIDAD TOTAL'!$D$14:$AB$238,25,0)","v":222},1597,null,0.11688766999763589]
[null,null,null,43,"SENEGAL",134,123,123,110,142,75,89,67,161,{"$f":"VLOOKUP(E55,'LLEGADA PAIS NACIONALIDAD TOTAL'!$D$14:$X$238,21,0)","v":103},{"$f":"VLOOKUP(E55,'LLEGADA PAIS NACIONALIDAD TOTAL'!$D$14:$Z$238,23,0)","v":148},{"$f":"VLOOKUP(E55,'LLEGADA PAIS NACIONALIDAD TOTAL'!$D$14:$AB$238,25,0)","v":113},1388,null,0.10159053597790771]
[null,null,null,44,"PARAGUAY",124,92,244,96,108,81,88,123,89,{"$f":"VLOOKUP(E56,'LLEGADA PAIS NACIONALIDAD TOTAL'!$D$14:$X$238,21,0)","v":125},{"$f":"VLOOKUP(E56,'LLEGADA PAIS NACIONALIDAD TOTAL'!$D$14:$Z$238,23,0)","v":104},{"$f":"VLOOKUP(E56,'LLEGADA PAIS NACIONALIDAD TOTAL'!$D$14:$AB$238,25,0)","v":70},1344,null,9.8370086710596522E-2]
[null,null,null,45,"NICARAGUA",103,79,90,92,93,89,149,120,80,{"$f":"VLOOKUP(E57,'LLEGADA PAIS NACIONALIDAD TOTAL'!$D$14:$X$238,21,0)","v":90},{"$f":"VLOOKUP(E57,'LLEGADA PAIS NACIONALIDAD TOTAL'!$D$14:$Z$238,23,0)","v":124},{"$f":"VLOOKUP(E57,'LLEGADA PAIS NACIONALIDAD TOTAL'!$D$14:$AB$238,25,0)","v":86},1195,null,8.7464474419019972E-2]
[null,null,null,46,"FINLANDIA",98,100,125,60,73,74,69,76,71,{"$f":"VLOOKUP(E58,'LLEGADA PAIS NACIONALIDAD TOTAL'!$D$14:$X$238,21,0)","v":123},{"$f":"VLOOKUP(E58,'LLEGADA PAIS NACIONALIDAD TOTAL'!$D$14:$Z$238,23,0)","v":135},{"$f":"VLOOKUP(E58,'LLEGADA PAIS NACIONALIDAD TOTAL'!$D$14:$AB$238,25,0)","v":154},1158,null,8.4756369353326463E-2]
[null,null,null,47,"CHECOSLOVAQUIA",109,145,97,38,60,50,73,88,103,{"$f":"VLOOKUP(E59,'LLEGADA PAIS NACIONALIDAD TOTAL'!$D$14:$X$238,21,0)","v":105},{"$f":"VLOOKUP(E59,'LLEGADA PAIS NACIONALIDAD TOTAL'!$D$14:$Z$238,23,0)","v":163},{"$f":"VLOOKUP(E59,'LLEGADA PAIS NACIONALIDAD TOTAL'!$D$14:$AB$238,25,0)","v":109},1140,null,8.3438912834880988E-2]
[null,null,null,48,"TAIWAN-CHINA",49,87,51,83,66,72,51,52,58,{"$f":"VLOOKUP(E60,'LLEGADA PAIS NACIONALIDAD TOTAL'!$D$14:$X$238,21,0)","v":81},{"$f":"VLOOKUP(E60,'LLEGADA PAIS NACIONALIDAD TOTAL'!$D$14:$Z$238,23,0)","v":68},{"$f":"VLOOKUP(E60,'LLEGADA PAIS NACIONALIDAD TOTAL'!$D$14:$AB$238,25,0)","v":97},815,null,5.9651503474059654E-2]
[null,null,null,49,"RUMANIA",64,73,67,34,62,65,65,68,66,{"$f":"VLOOKUP(E61,'LLEGADA PAIS NACIONALIDAD TOTAL'!$D$14:$X$238,21,0)","v":68},{"$f":"VLOOKUP(E61,'LLEGADA PAIS NACIONALIDAD TOTAL'!$D$14:$Z$238,23,0)","v":95},{"$f":"VLOOKUP(E61,'LLEGADA PAIS NACIONALIDAD TOTAL'!$D$14:$AB$238,25,0)","v":82},809,null,5.9212351301244484E-2]
[null,null,null,50,"AFRICA SUD OCCIDENTAL",37,44,72,61,61,58,64,72,62,{"$f":"VLOOKUP(E62,'LLEGADA PAIS NACIONALIDAD TOTAL'!$D$14:$X$238,21,0)","v":51},{"$f":"VLOOKUP(E62,'LLEGADA PAIS NACIONALIDAD TOTAL'!$D$14:$Z$238,23,0)","v":65},{"$f":"VLOOKUP(E62,'LLEGADA PAIS NACIONALIDAD TOTAL'!$D$14:$AB$238,25,0)","v":91},738,null,5.4015717256265056E-2]
[null,null,null,51,"SUDÁFRICA",37,44,72,61,61,58,64,72,62,{"$f":"VLOOKUP(E63,'LLEGADA PAIS NACIONALIDAD TOTAL'!$D$14:$X$238,21,0)","v":51},{"$f":"VLOOKUP(E63,'LLEGADA PAIS NACIONALIDAD TOTAL'!$D$14:$Z$238,23,0)","v":65},{"$f":"VLOOKUP(E63,'LLEGADA PAIS NACIONALIDAD TOTAL'!$D$14:$AB$238,25,0)","v":91},738,null,5.4015717256265056E-2]
[null,null,null,52,"TURQUÍA",68,28,91,40,46,48,56,37,42,{"$f":"VLOOKUP(E64,'LLEGADA PAIS NACIONALIDAD TOTAL'!$D$14:$X$238,21,0)","v":70},{"$f":"VLOOKUP(E64,'LLEGADA PAIS NACIONALIDAD TOTAL'!$D$14:$Z$238,23,0)","v":39},{"$f":"VLOOKUP(E64,'LLEGADA PAIS NACIONALIDAD TOTAL'!$D$14:$AB$238,25,0)","v":39},604,null,4.4207985396726414E-2]
[null,null,null,53,"GRECIA",45,39,40,47,41,36,38,52,32,{"$f":"VLOOKUP(E65,'LLEGADA PAIS NACIONALIDAD TOTAL'!$D$14:$X$238,21,0)","v":46},{"$f":"VLOOKUP(E65,'LLEGADA PAIS NACIONALIDAD TOTAL'!$D$14:$Z$238,23,0)","v":53},{"$f":"VLOOKUP(E65,'LLEGADA PAIS NACIONALIDAD TOTAL'!$D$14:$AB$238,25,0)","v":67},536,null,3.9230927438154567E-2]
[null,null,null,54,"SINGAPUR",43,19,65,35,38,42,48,46,34,{"$f":"VLOOKUP(E66,'LLEGADA PAIS NACIONALIDAD TOTAL'!$D$14:$X$238,21,0)","v":48},{"$f":"VLOOKUP(E66,'LLEGADA PAIS NACIONALIDAD TOTAL'!$D$14:$Z$238,23,0)","v":40},{"$f":"VLOOKUP(E66,'LLEGADA PAIS NACIONALIDAD TOTAL'!$D$14:$AB$238,25,0)","v":68},526,null,3.8499007150129293E-2]
[null,null,null,55,"INDONESIA",20,63,54,20,9,36,55,60,11,{"$f":"VLOOKUP(E67,'LLEGADA PAIS NACIONALIDAD TOTAL'!$D$14:$X$238,21,0)","v":82},{"$f":"VLOOKUP(E67,'LLEGADA PAIS NACIONALIDAD TOTAL'!$D$14:$Z$238,23,0)","v":16},{"$f":"VLOOKUP(E67,'LLEGADA PAIS NACIONALIDAD TOTAL'!$D$14:$AB$238,25,0)","v":21},447,null,3.2716836874729642E-2]
[null,null,null,56,"LITUANIA",41,32,34,121,29,23,21,18,23,{"$f":"VLOOKUP(E68,'LLEGADA PAIS NACIONALIDAD TOTAL'!$D$14:$X$238,21,0)","v":24},{"$f":"VLOOKUP(E68,'LLEGADA PAIS NACIONALIDAD TOTAL'!$D$14:$Z$238,23,0)","v":28},{"$f":"VLOOKUP(E68,'LLEGADA PAIS NACIONALIDAD TOTAL'!$D$14:$AB$238,25,0)","v":51},445,null,3.257045281712459E-2]
[null,null,null,57,"CROACIA",26,24,21,12,25,15,66,27,19,{"$f":"VLOOKUP(E69,'LLEGADA PAIS NACIONALIDAD TOTAL'!$D$14:$X$238,21,0)","v":35},{"$f":"VLOOKUP(E69,'LLEGADA PAIS NACIONALIDAD TOTAL'!$D$14:$Z$238,23,0)","v":54},{"$f":"VLOOKUP(E69,'LLEGADA PAIS NACIONALIDAD TOTAL'!$D$14:$AB$238,25,0)","v":72},396,null,2.8984043405800762E-2]
[null,null,null,58,"BULGARIA",57,19,36,15,25,26,56,36,24,{"$f":"VLOOKUP(E70,'LLEGADA PAIS NACIONALIDAD TOTAL'!$D$14:$X$238,21,0)","v":36},{"$f":"VLOOKUP(E70,'LLEGADA PAIS NACIONALIDAD TOTAL'!$D$14:$Z$238,23,0)","v":18},{"$f":"VLOOKUP(E70,'LLEGADA PAIS NACIONALIDAD TOTAL'!$D$14:$AB$238,25,0)","v":31},379,null,2.7739778916157795E-2]
[null,null,null,59,"HUNGRÍA",42,18,32,27,26,21,20,23,18,{"$f":"VLOOKUP(E71,'LLEGADA PAIS NACIONALIDAD TOTAL'!$D$14:$X$238,21,0)","v":33},{"$f":"VLOOKUP(E71,'LLEGADA PAIS NACIONALIDAD TOTAL'!$D$14:$Z$238,23,0)","v":63},{"$f":"VLOOKUP(E71,'LLEGADA PAIS NACIONALIDAD TOTAL'!$D$14:$AB$238,25,0)","v":26},349,null,2.5544018052081983E-2]
[null,null,null,60,"LÍBANO",18,37,22,23,27,36,17,22,27,{"$f":"VLOOKUP(E72,'LLEGADA PAIS NACIONALIDAD TOTAL'!$D$14:$X$238,21,0)","v":22},{"$f":"VLOOKUP(E72,'LLEGADA PAIS NACIONALIDAD TOTAL'!$D$14:$Z$238,23,0)","v":30},{"$f":"VLOOKUP(E72,'LLEGADA PAIS NACIONALIDAD TOTAL'!$D$14:$AB$238,25,0)","v":22},303,null,2.2177184727165736E-2]
[null,null,null,61,"COREA SUR",22,18,23,26,32,21,23,22,20,{"$f":"VLOOKUP(E73,'LLEGADA PAIS NACIONALIDAD TOTAL'!$D$14:$X$238,21,0)","v":23},{"$f":"VLOOKUP(E73,'LLEGADA PAIS NACIONALIDAD TOTAL'!$D$14:$Z$238,23,0)","v":24},{"$f":"VLOOKUP(E73,'LLEGADA PAIS NACIONALIDAD TOTAL'!$D$14:$AB$238,25,0)","v":32},286,null,2.0932920237522773E-2]
[null,null,null,62,"EGIPTO",8,18,59,19,15,14,26,14,12,{"$f":"VLOOKUP(E74,'LLEGADA PAIS NACIONALIDAD TOTAL'!$D$14:$X$238,21,0)","v":15},{"$f":"VLOOKUP(E74,'LLEGADA PAIS NACIONALIDAD TOTAL'!$D$14:$Z$238,23,0)","v":20},{"$f":"VLOOKUP(E74,'LLEGADA PAIS NACIONALIDAD TOTAL'!$D$14:$AB$238,25,0)","v":48},268,null,1.9615463719077283E-2]
[null,null,null,63,"BIELORUS",23,22,24,15,35,19,12,17,28,{"$f":"VLOOKUP(E75,'LLEGADA PAIS NACIONALIDAD TOTAL'!$D$14:$X$238,21,0)","v":19},{"$f":"VLOOKUP(E75,'LLEGADA PAIS NACIONALIDAD TOTAL'!$D$14:$Z$238,23,0)","v":35},{"$f":"VLOOKUP(E75,'LLEGADA PAIS NACIONALIDAD TOTAL'!$D$14:$AB$238,25,0)","v":15},264,null,1.9322695603867172E-2]
[null,null,null,64,"VIETNAM NORTE",96,3,16,1,4,2,6,18,4,{"$f":"VLOOKUP(E76,'LLEGADA PAIS NACIONALIDAD TOTAL'!$D$14:$X$238,21,0)","v":7},{"$f":"VLOOKUP(E76,'LLEGADA PAIS NACIONALIDAD TOTAL'!$D$14:$Z$238,23,0)","v":6},{"$f":"VLOOKUP(E76,'LLEGADA PAIS NACIONALIDAD TOTAL'!$D$14:$AB$238,25,0)","v":99},262,null,1.917631154626212E-2]
[null,null,null,65,"VIETNAM SUR",96,3,16,1,4,2,6,18,4,{"$f":"VLOOKUP(E77,'LLEGADA PAIS NACIONALIDAD TOTAL'!$D$14:$X$238,21,0)","v":7},{"$f":"VLOOKUP(E77,'LLEGADA PAIS NACIONALIDAD TOTAL'!$D$14:$Z$238,23,0)","v":6},{"$f":"VLOOKUP(E77,'LLEGADA PAIS NACIONALIDAD TOTAL'!$D$14:$AB$238,25,0)","v":99},262,null,1.917631154626212E-2]
[null,null,null,66,"TRINIDAD Y TOBAGO",22,13,20,36,15,19,39,21,14,{"$f":"VLOOKUP(E78,'LLEGADA PAIS NACIONALIDAD TOTAL'!$D$14:$X$238,21,0)","v":20},{"$f":"VLOOKUP(E78,'LLEGADA PAIS NACIONALIDAD TOTAL'!$D$14:$Z$238,23,0)","v":9},{"$f":"VLOOKUP(E78,'LLEGADA PAIS NACIONALIDAD TOTAL'!$D$14:$AB$238,25,0)","v":31},259,null,1.8956735459854539E-2]
[null,null,null,67,"ANGOLA",8,0,45,2,4,1,2,1,2,{"$f":"VLOOKUP(E79,'LLEGADA PAIS NACIONALIDAD TOTAL'!$D$14:$X$238,21,0)","v":4},{"$f":"VLOOKUP(E79,'LLEGADA PAIS NACIONALIDAD TOTAL'!$D$14:$Z$238,23,0)","v":0},{"$f":"VLOOKUP(E79,'LLEGADA PAIS NACIONALIDAD TOTAL'!$D$14:$AB$238,25,0)","v":189},258,null,1.8883543431052009E-2]
[null,null,null,68,"HONG KONG",14,15,29,24,16,16,12,17,25,{"$f":"VLOOKUP(E80,'LLEGADA PAIS NACIONALIDAD TOTAL'!$D$14:$X$238,21,0)","v":28},{"$f":"VLOOKUP(E80,'LLEGADA PAIS NACIONALIDAD TOTAL'!$D$14:$Z$238,23,0)","v":21},{"$f":"VLOOKUP(E80,'LLEGADA PAIS NACIONALIDAD TOTAL'!$D$14:$AB$238,25,0)","v":38},255,null,1.8663967344644431E-2]
[null,null,null,69,"NAMIBIA",2,0,13,1,0,0,0,0,3,{"$f":"VLOOKUP(E81,'LLEGADA PAIS NACIONALIDAD TOTAL'!$D$14:$X$238,21,0)","v":5},{"$f":"VLOOKUP(E81,'LLEGADA PAIS NACIONALIDAD TOTAL'!$D$14:$Z$238,23,0)","v":0},{"$f":"VLOOKUP(E81,'LLEGADA PAIS NACIONALIDAD TOTAL'!$D$14:$AB$238,25,0)","v":230},254,null,1.8590775315841905E-2]
[null,null,null,70,"MALASIA",13,7,18,24,33,14,11,17,22,{"$f":"VLOOKUP(E82,'LLEGADA PAIS NACIONALIDAD TOTAL'!$D$14:$X$238,21,0)","v":29},{"$f":"VLOOKUP(E82,'LLEGADA PAIS NACIONALIDAD TOTAL'!$D$14:$Z$238,23,0)","v":21},{"$f":"VLOOKUP(E82,'LLEGADA PAIS NACIONALIDAD TOTAL'!$D$14:$AB$238,25,0)","v":33},242,null,1.7712470970211575E-2]
[null,null,null,71,"TAILANDIA",19,5,57,16,21,26,10,13,13,{"$f":"VLOOKUP(E83,'LLEGADA PAIS NACIONALIDAD TOTAL'!$D$14:$X$238,21,0)","v":14},{"$f":"VLOOKUP(E83,'LLEGADA PAIS NACIONALIDAD TOTAL'!$D$14:$Z$238,23,0)","v":17},{"$f":"VLOOKUP(E83,'LLEGADA PAIS NACIONALIDAD TOTAL'!$D$14:$AB$238,25,0)","v":13},224,null,1.6395014451766086E-2]
[null,null,null,72,"ARGELIA",22,23,23,17,18,14,7,10,1,{"$f":"VLOOKUP(E84,'LLEGADA PAIS NACIONALIDAD TOTAL'!$D$14:$X$238,21,0)","v":13},{"$f":"VLOOKUP(E84,'LLEGADA PAIS NACIONALIDAD TOTAL'!$D$14:$Z$238,23,0)","v":12},{"$f":"VLOOKUP(E84,'LLEGADA PAIS NACIONALIDAD TOTAL'!$D$14:$AB$238,25,0)","v":39},199,null,1.4565213731702907E-2]
[null,null,null,73,"LUXEMBURGO",8,9,26,8,8,9,21,47,16,{"$f":"VLOOKUP(E85,'LLEGADA PAIS NACIONALIDAD TOTAL'!$D$14:$X$238,21,0)","v":5},{"$f":"VLOOKUP(E85,'LLEGADA PAIS NACIONALIDAD TOTAL'!$D$14:$Z$238,23,0)","v":19},{"$f":"VLOOKUP(E85,'LLEGADA PAIS NACIONALIDAD TOTAL'!$D$14:$AB$238,25,0)","v":10},186,null,1.3613717357270055E-2]
[null,null,null,74,"JAMAICA",12,9,55,26,4,27,7,8,10,{"$f":"VLOOKUP(E86,'LLEGADA PAIS NACIONALIDAD TOTAL'!$D$14:$X$238,21,0)","v":8},{"$f":"VLOOKUP(E86,'LLEGADA PAIS NACIONALIDAD TOTAL'!$D$14:$Z$238,23,0)","v":6},{"$f":"VLOOKUP(E86,'LLEGADA PAIS NACIONALIDAD TOTAL'!$D$14:$AB$238,25,0)","v":10},182,null,1.3320949242059945E-2]
[null,null,null,75,"YUGOSLAVIA",13,23,21,5,14,13,10,7,9,{"$f":"VLOOKUP(E87,'LLEGADA PAIS NACIONALIDAD TOTAL'!$D$14:$X$238,21,0)","v":15},{"$f":"VLOOKUP(E87,'LLEGADA PAIS NACIONALIDAD TOTAL'!$D$14:$Z$238,23,0)","v":9},{"$f":"VLOOKUP(E87,'LLEGADA PAIS NACIONALIDAD TOTAL'!$D$14:$AB$238,25,0)","v":22},161,null,1.1783916637206874E-2]
[null,null,null,76,"SRILANKA",5,4,15,4,24,9,3,1,1,{"$f":"VLOOKUP(E88,'LLEGADA PAIS NACIONALIDAD TOTAL'!$D$14:$X$238,21,0)","v":2},{"$f":"VLOOKUP(E88,'LLEGADA PAIS NACIONALIDAD TOTAL'!$D$14:$Z$238,23,0)","v":1},{"$f":"VLOOKUP(E88,'LLEGADA PAIS NACIONALIDAD TOTAL'!$D$14:$AB$238,25,0)","v":87},156,null,1.1417956493194239E-2]
[null,null,null,77,"MARRUECOS",5,12,28,5,14,10,11,8,12,{"$f":"VLOOKUP(E89,'LLEGADA PAIS NACIONALIDAD TOTAL'!$D$14:$X$238,21,0)","v":14},{"$f":"VLOOKUP(E89,'LLEGADA PAIS NACIONALIDAD TOTAL'!$D$14:$Z$238,23,0)","v":7},{"$f":"VLOOKUP(E89,'LLEGADA PAIS NACIONALIDAD TOTAL'!$D$14:$AB$238,25,0)","v":25},151,null,1.1051996349181603E-2]
[null,null,null,78,"ALBANIA",7,14,17,10,13,5,7,8,9,{"$f":"VLOOKUP(E90,'LLEGADA PAIS NACIONALIDAD TOTAL'!$D$14:$X$238,21,0)","v":18},{"$f":"VLOOKUP(E90,'LLEGADA PAIS NACIONALIDAD TOTAL'!$D$14:$Z$238,23,0)","v":32},{"$f":"VLOOKUP(E90,'LLEGADA PAIS NACIONALIDAD TOTAL'!$D$14:$AB$238,25,0)","v":8},148,null,1.0832420262774022E-2]
[null,null,null,79,"KAZAJSTAN",37,7,14,3,7,17,10,8,11,{"$f":"VLOOKUP(E91,'LLEGADA PAIS NACIONALIDAD TOTAL'!$D$14:$X$238,21,0)","v":9},{"$f":"VLOOKUP(E91,'LLEGADA PAIS NACIONALIDAD TOTAL'!$D$14:$Z$238,23,0)","v":11},{"$f":"VLOOKUP(E91,'LLEGADA PAIS NACIONALIDAD TOTAL'!$D$14:$AB$238,25,0)","v":14},148,null,1.0832420262774022E-2]
[null,null,null,80,"ESLOVENIA",8,3,5,28,17,12,11,14,6,{"$f":"VLOOKUP(E92,'LLEGADA PAIS NACIONALIDAD TOTAL'!$D$14:$X$238,21,0)","v":13},{"$f":"VLOOKUP(E92,'LLEGADA PAIS NACIONALIDAD TOTAL'!$D$14:$Z$238,23,0)","v":13},{"$f":"VLOOKUP(E92,'LLEGADA PAIS NACIONALIDAD TOTAL'!$D$14:$AB$238,25,0)","v":16},146,null,1.0686036205168966E-2]
[null,null,null,81,"ESTONIA",27,11,25,16,2,3,7,10,1,{"$f":"VLOOKUP(E93,'LLEGADA PAIS NACIONALIDAD TOTAL'!$D$14:$X$238,21,0)","v":9},{"$f":"VLOOKUP(E93,'LLEGADA PAIS NACIONALIDAD TOTAL'!$D$14:$Z$238,23,0)","v":18},{"$f":"VLOOKUP(E93,'LLEGADA PAIS NACIONALIDAD TOTAL'!$D$14:$AB$238,25,0)","v":17},146,null,1.0686036205168966E-2]
[null,null,null,82,"NIGERIA",8,14,51,5,12,6,11,7,8,{"$f":"VLOOKUP(E94,'LLEGADA PAIS NACIONALIDAD TOTAL'!$D$14:$X$238,21,0)","v":6},{"$f":"VLOOKUP(E94,'LLEGADA PAIS NACIONALIDAD TOTAL'!$D$14:$Z$238,23,0)","v":9},{"$f":"VLOOKUP(E94,'LLEGADA PAIS NACIONALIDAD TOTAL'!$D$14:$AB$238,25,0)","v":8},145,null,1.061284417636644E-2]
[null,null,null,83,"PAKISTÁN",13,7,17,12,19,13,11,7,9,{"$f":"VLOOKUP(E95,'LLEGADA PAIS NACIONALIDAD TOTAL'!$D$14:$X$238,21,0)","v":8},{"$f":"VLOOKUP(E95,'LLEGADA PAIS NACIONALIDAD TOTAL'!$D$14:$Z$238,23,0)","v":12},{"$f":"VLOOKUP(E95,'LLEGADA PAIS NACIONALIDAD TOTAL'!$D$14:$AB$238,25,0)","v":12},140,null,1.0246884032353805E-2]
[null,null,null,84,"PUERTO RICO",1,6,5,13,17,23,7,7,5,{"$f":"VLOOKUP(E96,'LLEGADA PAIS NACIONALIDAD TOTAL'!$D$14:$X$238,21,0)","v":10},{"$f":"VLOOKUP(E96,'LLEGADA PAIS NACIONALIDAD TOTAL'!$D$14:$Z$238,23,0)","v":21},{"$f":"VLOOKUP(E96,'LLEGADA PAIS NACIONALIDAD TOTAL'!$D$14:$AB$238,25,0)","v":10},125,null,9.149003600315897E-3]
[null,null,null,85,"ISLANDIA",5,5,30,7,10,12,8,8,6,{"$f":"VLOOKUP(E97,'LLEGADA PAIS NACIONALIDAD TOTAL'!$D$14:$X$238,21,0)","v":1},{"$f":"VLOOKUP(E97,'LLEGADA PAIS NACIONALIDAD TOTAL'!$D$14:$Z$238,23,0)","v":11},{"$f":"VLOOKUP(E97,'LLEGADA PAIS NACIONALIDAD TOTAL'!$D$14:$AB$238,25,0)","v":17},120,null,8.7830434563032599E-3]
[null,null,null,86,"ARABIA SAUDITA",5,1,33,5,5,22,4,14,2,{"$f":"VLOOKUP(E98,'LLEGADA PAIS NACIONALIDAD TOTAL'!$D$14:$X$238,21,0)","v":5},{"$f":"VLOOKUP(E98,'LLEGADA PAIS NACIONALIDAD TOTAL'!$D$14:$Z$238,23,0)","v":13},{"$f":"VLOOKUP(E98,'LLEGADA PAIS NACIONALIDAD TOTAL'!$D$14:$AB$238,25,0)","v":9},{"$f":"SUM(F98:Q98)","v":118},null,{"$f":"+R98/R$232*100","v":8.6366593986982078E-3}]
[null,null,null,87,"LETONIA",14,21,13,4,11,6,3,8,6,{"$f":"VLOOKUP(E99,'LLEGADA PAIS NACIONALIDAD TOTAL'!$D$14:$X$238,21,0)","v":7},{"$f":"VLOOKUP(E99,'LLEGADA PAIS NACIONALIDAD TOTAL'!$D$14:$Z$238,23,0)","v":7},{"$f":"VLOOKUP(E99,'LLEGADA PAIS NACIONALIDAD TOTAL'!$D$14:$AB$238,25,0)","v":9},109,null,7.977931139475463E-3]
[null,null,null,88,"ESCOCIA",6,8,18,4,5,10,11,12,7,{"$f":"VLOOKUP(E100,'LLEGADA PAIS NACIONALIDAD TOTAL'!$D$14:$X$238,21,0)","v":12},{"$f":"VLOOKUP(E100,'LLEGADA PAIS NACIONALIDAD TOTAL'!$D$14:$Z$238,23,0)","v":6},{"$f":"VLOOKUP(E100,'LLEGADA PAIS NACIONALIDAD TOTAL'!$D$14:$AB$238,25,0)","v":7},106,null,7.7583550530678806E-3]
[null,null,null,89,"RUSIA",10,7,4,7,6,3,10,10,16,{"$f":"VLOOKUP(E101,'LLEGADA PAIS NACIONALIDAD TOTAL'!$D$14:$X$238,21,0)","v":9},{"$f":"VLOOKUP(E101,'LLEGADA PAIS NACIONALIDAD TOTAL'!$D$14:$Z$238,23,0)","v":12},{"$f":"VLOOKUP(E101,'LLEGADA PAIS NACIONALIDAD TOTAL'!$D$14:$AB$238,25,0)","v":9},103,null,7.5387789666602981E-3]
[null,null,null,90,"QATAR",17,60,9,0,3,5,1,1,1,{"$f":"VLOOKUP(E102,'LLEGADA PAIS NACIONALIDAD TOTAL'!$D$14:$X$238,21,0)","v":2},{"$f":"VLOOKUP(E102,'LLEGADA PAIS NACIONALIDAD TOTAL'!$D$14:$Z$238,23,0)","v":0},{"$f":"VLOOKUP(E102,'LLEGADA PAIS NACIONALIDAD TOTAL'!$D$14:$AB$238,25,0)","v":3},102,null,7.4655869378577721E-3]
[null,null,null,91,"BAHAMAS",14,1,13,9,10,13,10,7,8,{"$f":"VLOOKUP(E103,'LLEGADA PAIS NACIONALIDAD TOTAL'!$D$14:$X$238,21,0)","v":2},{"$f":"VLOOKUP(E103,'LLEGADA PAIS NACIONALIDAD TOTAL'!$D$14:$Z$238,23,0)","v":4},{"$f":"VLOOKUP(E103,'LLEGADA PAIS NACIONALIDAD TOTAL'!$D$14:$AB$238,25,0)","v":5},96,null,7.0264347650426081E-3]
[null,null,null,92,"SURINAM",2,6,6,14,10,3,9,12,7,{"$f":"VLOOKUP(E104,'LLEGADA PAIS NACIONALIDAD TOTAL'!$D$14:$X$238,21,0)","v":9},{"$f":"VLOOKUP(E104,'LLEGADA PAIS NACIONALIDAD TOTAL'!$D$14:$Z$238,23,0)","v":7},{"$f":"VLOOKUP(E104,'LLEGADA PAIS NACIONALIDAD TOTAL'!$D$14:$AB$238,25,0)","v":3},88,null,6.4408985346223911E-3]
[null,null,null,93,"MYANMAR",2,8,4,22,15,5,14,3,0,{"$f":"VLOOKUP(E105,'LLEGADA PAIS NACIONALIDAD TOTAL'!$D$14:$X$238,21,0)","v":0},{"$f":"VLOOKUP(E105,'LLEGADA PAIS NACIONALIDAD TOTAL'!$D$14:$Z$238,23,0)","v":2},{"$f":"VLOOKUP(E105,'LLEGADA PAIS NACIONALIDAD TOTAL'!$D$14:$AB$238,25,0)","v":9},84,null,6.1481304194122826E-3]
[null,null,null,94,"KIRIBATI",1,7,5,10,6,13,6,1,13,{"$f":"VLOOKUP(E106,'LLEGADA PAIS NACIONALIDAD TOTAL'!$D$14:$X$238,21,0)","v":12},{"$f":"VLOOKUP(E106,'LLEGADA PAIS NACIONALIDAD TOTAL'!$D$14:$Z$238,23,0)","v":6},{"$f":"VLOOKUP(E106,'LLEGADA PAIS NACIONALIDAD TOTAL'!$D$14:$AB$238,25,0)","v":2},82,null,6.0017463618072279E-3]
[null,null,null,95,"JORDANIA",6,9,16,5,5,9,3,7,4,{"$f":"VLOOKUP(E107,'LLEGADA PAIS NACIONALIDAD TOTAL'!$D$14:$X$238,21,0)","v":9},{"$f":"VLOOKUP(E107,'LLEGADA PAIS NACIONALIDAD TOTAL'!$D$14:$Z$238,23,0)","v":6},{"$f":"VLOOKUP(E107,'LLEGADA PAIS NACIONALIDAD TOTAL'!$D$14:$AB$238,25,0)","v":3},82,null,6.0017463618072279E-3]
[null,null,null,96,"KUWAIT",6,1,41,6,2,6,4,0,5,{"$f":"VLOOKUP(E108,'LLEGADA PAIS NACIONALIDAD TOTAL'!$D$14:$X$238,21,0)","v":5},{"$f":"VLOOKUP(E108,'LLEGADA PAIS NACIONALIDAD TOTAL'!$D$14:$Z$238,23,0)","v":1},{"$f":"VLOOKUP(E108,'LLEGADA PAIS NACIONALIDAD TOTAL'!$D$14:$AB$238,25,0)","v":3},80,null,5.8553623042021741E-3]
[null,null,null,97,"CAMERUN",9,2,5,12,4,15,9,3,2,{"$f":"VLOOKUP(E109,'LLEGADA PAIS NACIONALIDAD TOTAL'!$D$14:$X$238,21,0)","v":8},{"$f":"VLOOKUP(E109,'LLEGADA PAIS NACIONALIDAD TOTAL'!$D$14:$Z$238,23,0)","v":1},{"$f":"VLOOKUP(E109,'LLEGADA PAIS NACIONALIDAD TOTAL'!$D$14:$AB$238,25,0)","v":6},76,null,5.5625941889920656E-3]
[null,null,null,98,"MOZAMBIQUE",0,0,4,2,2,1,1,2,1,{"$f":"VLOOKUP(E110,'LLEGADA PAIS NACIONALIDAD TOTAL'!$D$14:$X$238,21,0)","v":5},{"$f":"VLOOKUP(E110,'LLEGADA PAIS NACIONALIDAD TOTAL'!$D$14:$Z$238,23,0)","v":2},{"$f":"VLOOKUP(E110,'LLEGADA PAIS NACIONALIDAD TOTAL'!$D$14:$AB$238,25,0)","v":56},76,null,5.5625941889920656E-3]
[null,null,null,99,"AZERBAIYAN",10,0,9,8,8,11,2,5,2,{"$f":"VLOOKUP(E111,'LLEGADA PAIS NACIONALIDAD TOTAL'!$D$14:$X$238,21,0)","v":4},{"$f":"VLOOKUP(E111,'LLEGADA PAIS NACIONALIDAD TOTAL'!$D$14:$Z$238,23,0)","v":14},{"$f":"VLOOKUP(E111,'LLEGADA PAIS NACIONALIDAD TOTAL'!$D$14:$AB$238,25,0)","v":1},74,null,5.4162101313870109E-3]
[null,null,null,100,"GHANA",8,3,6,2,4,4,11,11,6,{"$f":"VLOOKUP(E112,'LLEGADA PAIS NACIONALIDAD TOTAL'!$D$14:$X$238,21,0)","v":7},{"$f":"VLOOKUP(E112,'LLEGADA PAIS NACIONALIDAD TOTAL'!$D$14:$Z$238,23,0)","v":7},{"$f":"VLOOKUP(E112,'LLEGADA PAIS NACIONALIDAD TOTAL'!$D$14:$AB$238,25,0)","v":5},74,null,5.4162101313870109E-3]
[null,null,null,101,"GUYANA",3,10,4,7,5,6,5,5,2,{"$f":"VLOOKUP(E113,'LLEGADA PAIS NACIONALIDAD TOTAL'!$D$14:$X$238,21,0)","v":3},{"$f":"VLOOKUP(E113,'LLEGADA PAIS NACIONALIDAD TOTAL'!$D$14:$Z$238,23,0)","v":5},{"$f":"VLOOKUP(E113,'LLEGADA PAIS NACIONALIDAD TOTAL'!$D$14:$AB$238,25,0)","v":16},71,null,5.1966340449794294E-3]
[null,null,null,102,"BELICE",3,1,0,6,4,8,10,7,4,{"$f":"VLOOKUP(E114,'LLEGADA PAIS NACIONALIDAD TOTAL'!$D$14:$X$238,21,0)","v":6},{"$f":"VLOOKUP(E114,'LLEGADA PAIS NACIONALIDAD TOTAL'!$D$14:$Z$238,23,0)","v":4},{"$f":"VLOOKUP(E114,'LLEGADA PAIS NACIONALIDAD TOTAL'!$D$14:$AB$238,25,0)","v":2},55,null,4.0255615841389945E-3]
[null,null,null,103,"GEORGIA",3,3,5,4,14,2,4,4,6,{"$f":"VLOOKUP(E115,'LLEGADA PAIS NACIONALIDAD TOTAL'!$D$14:$X$238,21,0)","v":3},{"$f":"VLOOKUP(E115,'LLEGADA PAIS NACIONALIDAD TOTAL'!$D$14:$Z$238,23,0)","v":4},{"$f":"VLOOKUP(E115,'LLEGADA PAIS NACIONALIDAD TOTAL'!$D$14:$AB$238,25,0)","v":3},55,null,4.0255615841389945E-3]
[null,null,null,104,"TÚNEZ",2,4,4,1,2,4,8,5,4,{"$f":"VLOOKUP(E116,'LLEGADA PAIS NACIONALIDAD TOTAL'!$D$14:$X$238,21,0)","v":3},{"$f":"VLOOKUP(E116,'LLEGADA PAIS NACIONALIDAD TOTAL'!$D$14:$Z$238,23,0)","v":3},{"$f":"VLOOKUP(E116,'LLEGADA PAIS NACIONALIDAD TOTAL'!$D$14:$AB$238,25,0)","v":10},50,null,3.6596014401263587E-3]
[null,null,null,105,"SIERRA LEONA",4,3,8,4,5,5,4,4,1,{"$f":"VLOOKUP(E117,'LLEGADA PAIS NACIONALIDAD TOTAL'!$D$14:$X$238,21,0)","v":5},{"$f":"VLOOKUP(E117,'LLEGADA PAIS NACIONALIDAD TOTAL'!$D$14:$Z$238,23,0)","v":0},{"$f":"VLOOKUP(E117,'LLEGADA PAIS NACIONALIDAD TOTAL'!$D$14:$AB$238,25,0)","v":2},45,null,3.2936412961137229E-3]
[null,null,null,106,"KENIA",4,1,6,10,6,3,0,1,2,{"$f":"VLOOKUP(E118,'LLEGADA PAIS NACIONALIDAD TOTAL'!$D$14:$X$238,21,0)","v":4},{"$f":"VLOOKUP(E118,'LLEGADA PAIS NACIONALIDAD TOTAL'!$D$14:$Z$238,23,0)","v":1},{"$f":"VLOOKUP(E118,'LLEGADA PAIS NACIONALIDAD TOTAL'!$D$14:$AB$238,25,0)","v":5},43,null,3.1472572385086686E-3]
[null,null,null,107,"UGANDA",0,2,17,1,2,4,3,1,5,{"$f":"VLOOKUP(E119,'LLEGADA PAIS NACIONALIDAD TOTAL'!$D$14:$X$238,21,0)","v":2},{"$f":"VLOOKUP(E119,'LLEGADA PAIS NACIONALIDAD TOTAL'!$D$14:$Z$238,23,0)","v":3},{"$f":"VLOOKUP(E119,'LLEGADA PAIS NACIONALIDAD TOTAL'!$D$14:$AB$238,25,0)","v":2},42,null,3.0740652097061413E-3]
[null,null,null,108,"CABO VERDE",6,4,1,2,4,3,3,4,3,{"$f":"VLOOKUP(E120,'LLEGADA PAIS NACIONALIDAD TOTAL'!$D$14:$X$238,21,0)","v":4},{"$f":"VLOOKUP(E120,'LLEGADA PAIS NACIONALIDAD TOTAL'!$D$14:$Z$238,23,0)","v":6},{"$f":"VLOOKUP(E120,'LLEGADA PAIS NACIONALIDAD TOTAL'!$D$14:$AB$238,25,0)","v":2},42,null,3.0740652097061413E-3]
[null,null,null,109,"PAÍSES BAJOS (LOS)",0,3,5,5,4,1,2,2,6,{"$f":"VLOOKUP(E121,'LLEGADA PAIS NACIONALIDAD TOTAL'!$D$14:$X$238,21,0)","v":3},{"$f":"VLOOKUP(E121,'LLEGADA PAIS NACIONALIDAD TOTAL'!$D$14:$Z$238,23,0)","v":6},{"$f":"VLOOKUP(E121,'LLEGADA PAIS NACIONALIDAD TOTAL'!$D$14:$AB$238,25,0)","v":4},41,null,3.000873180903614E-3]
[null,null,null,110,"CONGO",1,1,15,0,0,4,2,5,1,{"$f":"VLOOKUP(E122,'LLEGADA PAIS NACIONALIDAD TOTAL'!$D$14:$X$238,21,0)","v":3},{"$f":"VLOOKUP(E122,'LLEGADA PAIS NACIONALIDAD TOTAL'!$D$14:$Z$238,23,0)","v":1},{"$f":"VLOOKUP(E122,'LLEGADA PAIS NACIONALIDAD TOTAL'!$D$14:$AB$238,25,0)","v":7},40,null,2.9276811521010871E-3]
[null,null,null,111,"ZIMBABWE",1,2,16,1,3,3,4,1,2,{"$f":"VLOOKUP(E123,'LLEGADA PAIS NACIONALIDAD TOTAL'!$D$14:$X$238,21,0)","v":4},{"$f":"VLOOKUP(E123,'LLEGADA PAIS NACIONALIDAD TOTAL'!$D$14:$Z$238,23,0)","v":1},{"$f":"VLOOKUP(E123,'LLEGADA PAIS NACIONALIDAD TOTAL'!$D$14:$AB$238,25,0)","v":1},39,null,2.8544891232985597E-3]
[null,null,null,112,"CHIPRE",1,3,2,3,1,2,1,4,3,{"$f":"VLOOKUP(E124,'LLEGADA PAIS NACIONALIDAD TOTAL'!$D$14:$X$238,21,0)","v":3},{"$f":"VLOOKUP(E124,'LLEGADA PAIS NACIONALIDAD TOTAL'!$D$14:$Z$238,23,0)","v":4},{"$f":"VLOOKUP(E124,'LLEGADA PAIS NACIONALIDAD TOTAL'!$D$14:$AB$238,25,0)","v":10},37,null,2.7081050656935055E-3]
[null,null,null,113,"BANGLADESH",1,1,18,2,1,1,1,3,1,{"$f":"VLOOKUP(E125,'LLEGADA PAIS NACIONALIDAD TOTAL'!$D$14:$X$238,21,0)","v":4},{"$f":"VLOOKUP(E125,'LLEGADA PAIS NACIONALIDAD TOTAL'!$D$14:$Z$238,23,0)","v":3},{"$f":"VLOOKUP(E125,'LLEGADA PAIS NACIONALIDAD TOTAL'!$D$14:$AB$238,25,0)","v":0},36,null,2.6349130368909786E-3]
[null,null,null,114,"MALTA",7,0,3,2,2,6,1,4,4,{"$f":"VLOOKUP(E126,'LLEGADA PAIS NACIONALIDAD TOTAL'!$D$14:$X$238,21,0)","v":2},{"$f":"VLOOKUP(E126,'LLEGADA PAIS NACIONALIDAD TOTAL'!$D$14:$Z$238,23,0)","v":4},{"$f":"VLOOKUP(E126,'LLEGADA PAIS NACIONALIDAD TOTAL'!$D$14:$AB$238,25,0)","v":1},36,null,2.6349130368909786E-3]
[null,null,null,115,"GUINEA",5,4,10,3,4,0,1,1,1,{"$f":"VLOOKUP(E127,'LLEGADA PAIS NACIONALIDAD TOTAL'!$D$14:$X$238,21,0)","v":3},{"$f":"VLOOKUP(E127,'LLEGADA PAIS NACIONALIDAD TOTAL'!$D$14:$Z$238,23,0)","v":2},{"$f":"VLOOKUP(E127,'LLEGADA PAIS NACIONALIDAD TOTAL'!$D$14:$AB$238,25,0)","v":1},35,null,2.5617210080884512E-3]
[null,null,null,116,"SAHARA OCCIDENTAL",2,0,0,4,4,1,2,0,0,{"$f":"VLOOKUP(E128,'LLEGADA PAIS NACIONALIDAD TOTAL'!$D$14:$X$238,21,0)","v":0},{"$f":"VLOOKUP(E128,'LLEGADA PAIS NACIONALIDAD TOTAL'!$D$14:$Z$238,23,0)","v":1},{"$f":"VLOOKUP(E128,'LLEGADA PAIS NACIONALIDAD TOTAL'!$D$14:$AB$238,25,0)","v":21},35,null,2.5617210080884512E-3]
[null,null,null,117,"BARBADOS",2,1,0,10,2,3,4,3,3,{"$f":"VLOOKUP(E129,'LLEGADA PAIS NACIONALIDAD TOTAL'!$D$14:$X$238,21,0)","v":0},{"$f":"VLOOKUP(E129,'LLEGADA PAIS NACIONALIDAD TOTAL'!$D$14:$Z$238,23,0)","v":3},{"$f":"VLOOKUP(E129,'LLEGADA PAIS NACIONALIDAD TOTAL'!$D$14:$AB$238,25,0)","v":3},34,null,2.4885289792859239E-3]
[null,null,null,118,"YEMEN ARABE",3,1,4,5,2,3,2,2,2,{"$f":"VLOOKUP(E130,'LLEGADA PAIS NACIONALIDAD TOTAL'!$D$14:$X$238,21,0)","v":1},{"$f":"VLOOKUP(E130,'LLEGADA PAIS NACIONALIDAD TOTAL'!$D$14:$Z$238,23,0)","v":3},{"$f":"VLOOKUP(E130,'LLEGADA PAIS NACIONALIDAD TOTAL'!$D$14:$AB$238,25,0)","v":5},33,null,2.4153369504833965E-3]
[null,null,null,119,"YEMEN POPULAR",3,1,4,5,2,3,2,2,2,{"$f":"VLOOKUP(E131,'LLEGADA PAIS NACIONALIDAD TOTAL'!$D$14:$X$238,21,0)","v":1},{"$f":"VLOOKUP(E131,'LLEGADA PAIS NACIONALIDAD TOTAL'!$D$14:$Z$238,23,0)","v":3},{"$f":"VLOOKUP(E131,'LLEGADA PAIS NACIONALIDAD TOTAL'!$D$14:$AB$238,25,0)","v":5},33,null,2.4153369504833965E-3]
[null,null,null,120,"DOMINICA",2,4,2,6,6,4,2,2,0,{"$f":"VLOOKUP(E132,'LLEGADA PAIS NACIONALIDAD TOTAL'!$D$14:$X$238,21,0)","v":0},{"$f":"VLOOKUP(E132,'LLEGADA PAIS NACIONALIDAD TOTAL'!$D$14:$Z$238,23,0)","v":2},{"$f":"VLOOKUP(E132,'LLEGADA PAIS NACIONALIDAD TOTAL'!$D$14:$AB$238,25,0)","v":1},31,null,2.2689528928783423E-3]
[null,null,null,121,"EMIRATOS A. UNIDOS",0,2,11,1,5,3,1,0,4,{"$f":"VLOOKUP(E133,'LLEGADA PAIS NACIONALIDAD TOTAL'!$D$14:$X$238,21,0)","v":1},{"$f":"VLOOKUP(E133,'LLEGADA PAIS NACIONALIDAD TOTAL'!$D$14:$Z$238,23,0)","v":0},{"$f":"VLOOKUP(E133,'LLEGADA PAIS NACIONALIDAD TOTAL'!$D$14:$AB$238,25,0)","v":3},31,null,2.2689528928783423E-3]
[null,null,null,122,"BERMUDAS",5,3,0,2,0,6,6,2,1,{"$f":"VLOOKUP(E134,'LLEGADA PAIS NACIONALIDAD TOTAL'!$D$14:$X$238,21,0)","v":1},{"$f":"VLOOKUP(E134,'LLEGADA PAIS NACIONALIDAD TOTAL'!$D$14:$Z$238,23,0)","v":2},{"$f":"VLOOKUP(E134,'LLEGADA PAIS NACIONALIDAD TOTAL'!$D$14:$AB$238,25,0)","v":3},31,null,2.2689528928783423E-3]
[null,null,null,123,"ANDORRA",5,3,6,1,3,1,3,1,3,{"$f":"VLOOKUP(E135,'LLEGADA PAIS NACIONALIDAD TOTAL'!$D$14:$X$238,21,0)","v":2},{"$f":"VLOOKUP(E135,'LLEGADA PAIS NACIONALIDAD TOTAL'!$D$14:$Z$238,23,0)","v":2},{"$f":"VLOOKUP(E135,'LLEGADA PAIS NACIONALIDAD TOTAL'!$D$14:$AB$238,25,0)","v":0},30,null,2.195760864075815E-3]
[null,null,null,124,"IRAK",2,0,12,0,6,1,0,3,0,{"$f":"VLOOKUP(E136,'LLEGADA PAIS NACIONALIDAD TOTAL'!$D$14:$X$238,21,0)","v":0},{"$f":"VLOOKUP(E136,'LLEGADA PAIS NACIONALIDAD TOTAL'!$D$14:$Z$238,23,0)","v":2},{"$f":"VLOOKUP(E136,'LLEGADA PAIS NACIONALIDAD TOTAL'!$D$14:$AB$238,25,0)","v":2},28,null,2.0493768064707607E-3]
[null,null,null,125,"REPÚBLICA ESLOVACA/ESLOVAQUIA",2,5,2,1,0,3,1,4,1,{"$f":"VLOOKUP(E137,'LLEGADA PAIS NACIONALIDAD TOTAL'!$D$14:$X$238,21,0)","v":3},{"$f":"VLOOKUP(E137,'LLEGADA PAIS NACIONALIDAD TOTAL'!$D$14:$Z$238,23,0)","v":4},{"$f":"VLOOKUP(E137,'LLEGADA PAIS NACIONALIDAD TOTAL'!$D$14:$AB$238,25,0)","v":1},27,null,1.9761847776682338E-3]
[null,null,null,126,"BOSNIA HERZEGOVINA",2,2,8,3,3,0,1,1,3,{"$f":"VLOOKUP(E138,'LLEGADA PAIS NACIONALIDAD TOTAL'!$D$14:$X$238,21,0)","v":1},{"$f":"VLOOKUP(E138,'LLEGADA PAIS NACIONALIDAD TOTAL'!$D$14:$Z$238,23,0)","v":1},{"$f":"VLOOKUP(E138,'LLEGADA PAIS NACIONALIDAD TOTAL'!$D$14:$AB$238,25,0)","v":2},27,null,1.9761847776682338E-3]
[null,null,null,127,"MOLDOVA",2,2,1,1,2,2,3,4,4,{"$f":"VLOOKUP(E139,'LLEGADA PAIS NACIONALIDAD TOTAL'!$D$14:$X$238,21,0)","v":2},{"$f":"VLOOKUP(E139,'LLEGADA PAIS NACIONALIDAD TOTAL'!$D$14:$Z$238,23,0)","v":1},{"$f":"VLOOKUP(E139,'LLEGADA PAIS NACIONALIDAD TOTAL'!$D$14:$AB$238,25,0)","v":2},26,null,1.9029927488657065E-3]
[null,null,null,128,"AFGANISTAN",0,3,16,0,0,0,0,0,1,{"$f":"VLOOKUP(E140,'LLEGADA PAIS NACIONALIDAD TOTAL'!$D$14:$X$238,21,0)","v":5},{"$f":"VLOOKUP(E140,'LLEGADA PAIS NACIONALIDAD TOTAL'!$D$14:$Z$238,23,0)","v":0},{"$f":"VLOOKUP(E140,'LLEGADA PAIS NACIONALIDAD TOTAL'!$D$14:$AB$238,25,0)","v":0},25,null,1.8298007200631794E-3]
[null,null,null,129,"BENIN",1,0,11,4,2,3,0,0,0,{"$f":"VLOOKUP(E141,'LLEGADA PAIS NACIONALIDAD TOTAL'!$D$14:$X$238,21,0)","v":1},{"$f":"VLOOKUP(E141,'LLEGADA PAIS NACIONALIDAD TOTAL'!$D$14:$Z$238,23,0)","v":2},{"$f":"VLOOKUP(E141,'LLEGADA PAIS NACIONALIDAD TOTAL'!$D$14:$AB$238,25,0)","v":1},25,null,1.8298007200631794E-3]
[null,null,null,130,"CURAZAO",1,0,1,4,0,2,6,4,0,{"$f":"VLOOKUP(E142,'LLEGADA PAIS NACIONALIDAD TOTAL'!$D$14:$X$238,21,0)","v":4},{"$f":"VLOOKUP(E142,'LLEGADA PAIS NACIONALIDAD TOTAL'!$D$14:$Z$238,23,0)","v":1},{"$f":"VLOOKUP(E142,'LLEGADA PAIS NACIONALIDAD TOTAL'!$D$14:$AB$238,25,0)","v":1},24,null,1.756608691260652E-3]
[null,null,null,131,"COSTA DE MARFIL",0,0,6,2,0,1,2,1,2,{"$f":"VLOOKUP(E143,'LLEGADA PAIS NACIONALIDAD TOTAL'!$D$14:$X$238,21,0)","v":4},{"$f":"VLOOKUP(E143,'LLEGADA PAIS NACIONALIDAD TOTAL'!$D$14:$Z$238,23,0)","v":3},{"$f":"VLOOKUP(E143,'LLEGADA PAIS NACIONALIDAD TOTAL'!$D$14:$AB$238,25,0)","v":1},22,null,1.6102246336555978E-3]
[null,null,null,132,"ARMENIA",4,0,4,1,3,1,0,0,4,{"$f":"VLOOKUP(E144,'LLEGADA PAIS NACIONALIDAD TOTAL'!$D$14:$X$238,21,0)","v":4},{"$f":"VLOOKUP(E144,'LLEGADA PAIS NACIONALIDAD TOTAL'!$D$14:$Z$238,23,0)","v":0},{"$f":"VLOOKUP(E144,'LLEGADA PAIS NACIONALIDAD TOTAL'!$D$14:$AB$238,25,0)","v":0},21,null,1.5370326048530706E-3]
[null,null,null,133,"LIECHTENSTEIN",3,0,1,1,1,0,2,3,2,{"$f":"VLOOKUP(E145,'LLEGADA PAIS NACIONALIDAD TOTAL'!$D$14:$X$238,21,0)","v":1},{"$f":"VLOOKUP(E145,'LLEGADA PAIS NACIONALIDAD TOTAL'!$D$14:$Z$238,23,0)","v":3},{"$f":"VLOOKUP(E145,'LLEGADA PAIS NACIONALIDAD TOTAL'!$D$14:$AB$238,25,0)","v":4},21,null,1.5370326048530706E-3]
[null,null,null,134,"CHAD",3,5,7,0,1,0,1,1,0,{"$f":"VLOOKUP(E146,'LLEGADA PAIS NACIONALIDAD TOTAL'!$D$14:$X$238,21,0)","v":0},{"$f":"VLOOKUP(E146,'LLEGADA PAIS NACIONALIDAD TOTAL'!$D$14:$Z$238,23,0)","v":2},{"$f":"VLOOKUP(E146,'LLEGADA PAIS NACIONALIDAD TOTAL'!$D$14:$AB$238,25,0)","v":0},20,null,1.4638405760505435E-3]
[null,null,null,135,"NEPAL",0,1,4,2,2,1,2,1,2,{"$f":"VLOOKUP(E147,'LLEGADA PAIS NACIONALIDAD TOTAL'!$D$14:$X$238,21,0)","v":3},{"$f":"VLOOKUP(E147,'LLEGADA PAIS NACIONALIDAD TOTAL'!$D$14:$Z$238,23,0)","v":0},{"$f":"VLOOKUP(E147,'LLEGADA PAIS NACIONALIDAD TOTAL'!$D$14:$AB$238,25,0)","v":2},20,null,1.4638405760505435E-3]
[null,null,null,136,"ETIOPIA",1,0,8,2,2,2,1,0,0,{"$f":"VLOOKUP(E148,'LLEGADA PAIS NACIONALIDAD TOTAL'!$D$14:$X$238,21,0)","v":0},{"$f":"VLOOKUP(E148,'LLEGADA PAIS NACIONALIDAD TOTAL'!$D$14:$Z$238,23,0)","v":0},{"$f":"VLOOKUP(E148,'LLEGADA PAIS NACIONALIDAD TOTAL'!$D$14:$AB$238,25,0)","v":4},20,null,1.4638405760505435E-3]
[null,null,null,137,"GABON",0,0,12,0,1,0,4,0,0,{"$f":"VLOOKUP(E149,'LLEGADA PAIS NACIONALIDAD TOTAL'!$D$14:$X$238,21,0)","v":0},{"$f":"VLOOKUP(E149,'LLEGADA PAIS NACIONALIDAD TOTAL'!$D$14:$Z$238,23,0)","v":1},{"$f":"VLOOKUP(E149,'LLEGADA PAIS NACIONALIDAD TOTAL'!$D$14:$AB$238,25,0)","v":0},18,null,1.3174565184454893E-3]
[null,null,null,138,"NUEVA CALEDONIA",2,1,5,2,1,0,1,1,3,{"$f":"VLOOKUP(E150,'LLEGADA PAIS NACIONALIDAD TOTAL'!$D$14:$X$238,21,0)","v":1},{"$f":"VLOOKUP(E150,'LLEGADA PAIS NACIONALIDAD TOTAL'!$D$14:$Z$238,23,0)","v":0},{"$f":"VLOOKUP(E150,'LLEGADA PAIS NACIONALIDAD TOTAL'!$D$14:$AB$238,25,0)","v":1},18,null,1.3174565184454893E-3]
[null,null,null,139,"IRAN",0,1,1,0,0,0,0,1,0,{"$f":"VLOOKUP(E151,'LLEGADA PAIS NACIONALIDAD TOTAL'!$D$14:$X$238,21,0)","v":0},{"$f":"VLOOKUP(E151,'LLEGADA PAIS NACIONALIDAD TOTAL'!$D$14:$Z$238,23,0)","v":14},{"$f":"VLOOKUP(E151,'LLEGADA PAIS NACIONALIDAD TOTAL'!$D$14:$AB$238,25,0)","v":1},18,null,1.3174565184454893E-3]
[null,null,null,140,"ZAMBIA",0,0,12,0,1,1,2,0,0,{"$f":"VLOOKUP(E152,'LLEGADA PAIS NACIONALIDAD TOTAL'!$D$14:$X$238,21,0)","v":0},{"$f":"VLOOKUP(E152,'LLEGADA PAIS NACIONALIDAD TOTAL'!$D$14:$Z$238,23,0)","v":0},{"$f":"VLOOKUP(E152,'LLEGADA PAIS NACIONALIDAD TOTAL'!$D$14:$AB$238,25,0)","v":1},17,null,1.2442644896429619E-3]
[null,null,null,141,"MADAGASCAR",1,4,1,4,2,1,0,1,1,{"$f":"VLOOKUP(E153,'LLEGADA PAIS NACIONALIDAD TOTAL'!$D$14:$X$238,21,0)","v":0},{"$f":"VLOOKUP(E153,'LLEGADA PAIS NACIONALIDAD TOTAL'!$D$14:$Z$238,23,0)","v":0},{"$f":"VLOOKUP(E153,'LLEGADA PAIS NACIONALIDAD TOTAL'!$D$14:$AB$238,25,0)","v":1},16,null,1.1710724608404348E-3]
[null,null,null,142,"SIRIA",0,5,2,0,4,0,0,1,0,{"$f":"VLOOKUP(E154,'LLEGADA PAIS NACIONALIDAD TOTAL'!$D$14:$X$238,21,0)","v":0},{"$f":"VLOOKUP(E154,'LLEGADA PAIS NACIONALIDAD TOTAL'!$D$14:$Z$238,23,0)","v":3},{"$f":"VLOOKUP(E154,'LLEGADA PAIS NACIONALIDAD TOTAL'!$D$14:$AB$238,25,0)","v":1},16,null,1.1710724608404348E-3]
[null,null,null,143,"MONGOLIA",1,0,7,0,0,2,1,0,0,{"$f":"VLOOKUP(E155,'LLEGADA PAIS NACIONALIDAD TOTAL'!$D$14:$X$238,21,0)","v":1},{"$f":"VLOOKUP(E155,'LLEGADA PAIS NACIONALIDAD TOTAL'!$D$14:$Z$238,23,0)","v":2},{"$f":"VLOOKUP(E155,'LLEGADA PAIS NACIONALIDAD TOTAL'!$D$14:$AB$238,25,0)","v":1},15,null,1.0978804320379075E-3]
[null,null,null,144,"UZBEKISTAN",0,1,2,3,0,1,0,0,0,{"$f":"VLOOKUP(E156,'LLEGADA PAIS NACIONALIDAD TOTAL'!$D$14:$X$238,21,0)","v":0},{"$f":"VLOOKUP(E156,'LLEGADA PAIS NACIONALIDAD TOTAL'!$D$14:$Z$238,23,0)","v":0},{"$f":"VLOOKUP(E156,'LLEGADA PAIS NACIONALIDAD TOTAL'!$D$14:$AB$238,25,0)","v":8},15,null,1.0978804320379075E-3]
[null,null,null,145,"GRANADA",1,1,0,4,1,1,2,0,0,{"$f":"VLOOKUP(E157,'LLEGADA PAIS NACIONALIDAD TOTAL'!$D$14:$X$238,21,0)","v":4},{"$f":"VLOOKUP(E157,'LLEGADA PAIS NACIONALIDAD TOTAL'!$D$14:$Z$238,23,0)","v":0},{"$f":"VLOOKUP(E157,'LLEGADA PAIS NACIONALIDAD TOTAL'!$D$14:$AB$238,25,0)","v":0},14,null,1.0246884032353804E-3]
[null,null,null,146,"BURKINA FASO",0,0,11,0,0,1,1,0,0,{"$f":"VLOOKUP(E158,'LLEGADA PAIS NACIONALIDAD TOTAL'!$D$14:$X$238,21,0)","v":0},1,{"$f":"VLOOKUP(E158,'LLEGADA PAIS NACIONALIDAD TOTAL'!$D$14:$AB$238,25,0)","v":0},14,null,1.0246884032353804E-3]
[null,null,null,147,"OMAN",0,0,7,0,1,0,0,4,0,{"$f":"VLOOKUP(E159,'LLEGADA PAIS NACIONALIDAD TOTAL'!$D$14:$X$238,21,0)","v":0},{"$f":"VLOOKUP(E159,'LLEGADA PAIS NACIONALIDAD TOTAL'!$D$14:$Z$238,23,0)","v":1},{"$f":"VLOOKUP(E159,'LLEGADA PAIS NACIONALIDAD TOTAL'!$D$14:$AB$238,25,0)","v":1},14,null,1.0246884032353804E-3]
[null,null,null,148,"MAURICIO",0,1,0,2,0,1,1,5,2,{"$f":"VLOOKUP(E160,'LLEGADA PAIS NACIONALIDAD TOTAL'!$D$14:$X$238,21,0)","v":0},{"$f":"VLOOKUP(E160,'LLEGADA PAIS NACIONALIDAD TOTAL'!$D$14:$Z$238,23,0)","v":1},{"$f":"VLOOKUP(E160,'LLEGADA PAIS NACIONALIDAD TOTAL'!$D$14:$AB$238,25,0)","v":0},13,null,9.5149637443285324E-4]
[null,null,null,149,"CAMBOYA",1,0,9,0,0,1,0,0,0,{"$f":"VLOOKUP(E161,'LLEGADA PAIS NACIONALIDAD TOTAL'!$D$14:$X$238,21,0)","v":1},{"$f":"VLOOKUP(E161,'LLEGADA PAIS NACIONALIDAD TOTAL'!$D$14:$Z$238,23,0)","v":0},{"$f":"VLOOKUP(E161,'LLEGADA PAIS NACIONALIDAD TOTAL'!$D$14:$AB$238,25,0)","v":1},13,null,9.5149637443285324E-4]
[null,null,null,150,"ANTIGUA BARBUDA",0,1,0,4,3,1,3,0,0,{"$f":"VLOOKUP(E162,'LLEGADA PAIS NACIONALIDAD TOTAL'!$D$14:$X$238,21,0)","v":0},{"$f":"VLOOKUP(E162,'LLEGADA PAIS NACIONALIDAD TOTAL'!$D$14:$Z$238,23,0)","v":0},{"$f":"VLOOKUP(E162,'LLEGADA PAIS NACIONALIDAD TOTAL'!$D$14:$AB$238,25,0)","v":0},{"$f":"SUM(F162:Q162)","v":12},null,{"$f":"+R162/R$232*100","v":8.7830434563032601E-4}]
[null,null,null,151,"SUDÁN",0,0,7,1,0,2,1,1,0,{"$f":"VLOOKUP(E163,'LLEGADA PAIS NACIONALIDAD TOTAL'!$D$14:$X$238,21,0)","v":0},{"$f":"VLOOKUP(E163,'LLEGADA PAIS NACIONALIDAD TOTAL'!$D$14:$Z$238,23,0)","v":0},{"$f":"VLOOKUP(E163,'LLEGADA PAIS NACIONALIDAD TOTAL'!$D$14:$AB$238,25,0)","v":0},12,null,8.7830434563032601E-4]
[null,null,null,152,"GUADALUPE",1,2,1,1,1,0,2,0,2,{"$f":"VLOOKUP(E164,'LLEGADA PAIS NACIONALIDAD TOTAL'!$D$14:$X$238,21,0)","v":1},{"$f":"VLOOKUP(E164,'LLEGADA PAIS NACIONALIDAD TOTAL'!$D$14:$Z$238,23,0)","v":1},{"$f":"VLOOKUP(E164,'LLEGADA PAIS NACIONALIDAD TOTAL'!$D$14:$AB$238,25,0)","v":0},12,null,8.7830434563032601E-4]
[null,null,null,153,"MALDIVAS",0,0,9,0,2,0,0,0,0,{"$f":"VLOOKUP(E165,'LLEGADA PAIS NACIONALIDAD TOTAL'!$D$14:$X$238,21,0)","v":0},{"$f":"VLOOKUP(E165,'LLEGADA PAIS NACIONALIDAD TOTAL'!$D$14:$Z$238,23,0)","v":0},{"$f":"VLOOKUP(E165,'LLEGADA PAIS NACIONALIDAD TOTAL'!$D$14:$AB$238,25,0)","v":1},12,null,8.7830434563032601E-4]
[null,null,null,154,"SANTA LUCÍA",0,3,0,2,0,1,2,1,0,{"$f":"VLOOKUP(E166,'LLEGADA PAIS NACIONALIDAD TOTAL'!$D$14:$X$238,21,0)","v":0},{"$f":"VLOOKUP(E166,'LLEGADA PAIS NACIONALIDAD TOTAL'!$D$14:$Z$238,23,0)","v":0},{"$f":"VLOOKUP(E166,'LLEGADA PAIS NACIONALIDAD TOTAL'!$D$14:$AB$238,25,0)","v":3},12,null,8.7830434563032601E-4]
[null,null,null,155,"SAN MARINO",0,0,4,2,0,0,0,0,0,{"$f":"VLOOKUP(E167,'LLEGADA PAIS NACIONALIDAD TOTAL'!$D$14:$X$238,21,0)","v":2},{"$f":"VLOOKUP(E167,'LLEGADA PAIS NACIONALIDAD TOTAL'!$D$14:$Z$238,23,0)","v":1},{"$f":"VLOOKUP(E167,'LLEGADA PAIS NACIONALIDAD TOTAL'!$D$14:$AB$238,25,0)","v":2},11,null,8.0511231682779889E-4]
[null,null,null,156,"MALI",0,0,5,0,1,0,0,1,1,{"$f":"VLOOKUP(E168,'LLEGADA PAIS NACIONALIDAD TOTAL'!$D$14:$X$238,21,0)","v":0},{"$f":"VLOOKUP(E168,'LLEGADA PAIS NACIONALIDAD TOTAL'!$D$14:$Z$238,23,0)","v":0},{"$f":"VLOOKUP(E168,'LLEGADA PAIS NACIONALIDAD TOTAL'!$D$14:$AB$238,25,0)","v":2},10,null,7.3192028802527176E-4]
[null,null,null,157,"SAN VICENTE Y LAS GRANADI",1,0,2,1,0,2,3,0,0,{"$f":"VLOOKUP(E169,'LLEGADA PAIS NACIONALIDAD TOTAL'!$D$14:$X$238,21,0)","v":0},{"$f":"VLOOKUP(E169,'LLEGADA PAIS NACIONALIDAD TOTAL'!$D$14:$Z$238,23,0)","v":0},{"$f":"VLOOKUP(E169,'LLEGADA PAIS NACIONALIDAD TOTAL'!$D$14:$AB$238,25,0)","v":0},9,null,6.5872825922274464E-4]
[null,null,null,158,"BAHREIN",0,0,8,0,0,0,0,0,0,{"$f":"VLOOKUP(E170,'LLEGADA PAIS NACIONALIDAD TOTAL'!$D$14:$X$238,21,0)","v":1},{"$f":"VLOOKUP(E170,'LLEGADA PAIS NACIONALIDAD TOTAL'!$D$14:$Z$238,23,0)","v":0},{"$f":"VLOOKUP(E170,'LLEGADA PAIS NACIONALIDAD TOTAL'!$D$14:$AB$238,25,0)","v":0},9,null,6.5872825922274464E-4]
[null,null,null,159,"BOTSWANA",0,0,3,0,0,0,0,1,0,{"$f":"VLOOKUP(E171,'LLEGADA PAIS NACIONALIDAD TOTAL'!$D$14:$X$238,21,0)","v":1},{"$f":"VLOOKUP(E171,'LLEGADA PAIS NACIONALIDAD TOTAL'!$D$14:$Z$238,23,0)","v":1},{"$f":"VLOOKUP(E171,'LLEGADA PAIS NACIONALIDAD TOTAL'!$D$14:$AB$238,25,0)","v":3},9,null,6.5872825922274464E-4]
[null,null,null,160,"KIRGUISTAN",2,0,3,0,1,0,1,0,1,{"$f":"VLOOKUP(E172,'LLEGADA PAIS NACIONALIDAD TOTAL'!$D$14:$X$238,21,0)","v":0},{"$f":"VLOOKUP(E172,'LLEGADA PAIS NACIONALIDAD TOTAL'!$D$14:$Z$238,23,0)","v":0},{"$f":"VLOOKUP(E172,'LLEGADA PAIS NACIONALIDAD TOTAL'!$D$14:$AB$238,25,0)","v":0},8,null,5.8553623042021741E-4]
[null,null,null,161,"MÓNACO",0,0,0,0,1,0,0,4,1,{"$f":"VLOOKUP(E173,'LLEGADA PAIS NACIONALIDAD TOTAL'!$D$14:$X$238,21,0)","v":2},{"$f":"VLOOKUP(E173,'LLEGADA PAIS NACIONALIDAD TOTAL'!$D$14:$Z$238,23,0)","v":0},{"$f":"VLOOKUP(E173,'LLEGADA PAIS NACIONALIDAD TOTAL'!$D$14:$AB$238,25,0)","v":0},8,null,5.8553623042021741E-4]
[null,null,null,162,"TAYIKISTAN",3,1,0,0,1,0,0,2,0,{"$f":"VLOOKUP(E174,'LLEGADA PAIS NACIONALIDAD TOTAL'!$D$14:$X$238,21,0)","v":0},{"$f":"VLOOKUP(E174,'LLEGADA PAIS NACIONALIDAD TOTAL'!$D$14:$Z$238,23,0)","v":1},{"$f":"VLOOKUP(E174,'LLEGADA PAIS NACIONALIDAD TOTAL'!$D$14:$AB$238,25,0)","v":0},8,null,5.8553623042021741E-4]
[null,null,null,163,"COREA NORTE",0,0,0,2,0,1,1,1,0,{"$f":"VLOOKUP(E175,'LLEGADA PAIS NACIONALIDAD TOTAL'!$D$14:$X$238,21,0)","v":1},{"$f":"VLOOKUP(E175,'LLEGADA PAIS NACIONALIDAD TOTAL'!$D$14:$Z$238,23,0)","v":1},{"$f":"VLOOKUP(E175,'LLEGADA PAIS NACIONALIDAD TOTAL'!$D$14:$AB$238,25,0)","v":1},8,null,5.8553623042021741E-4]
[null,null,null,164,"SANTO TOME Y PRINCIPE",0,1,6,0,0,0,0,0,0,{"$f":"VLOOKUP(E176,'LLEGADA PAIS NACIONALIDAD TOTAL'!$D$14:$X$238,21,0)","v":0},{"$f":"VLOOKUP(E176,'LLEGADA PAIS NACIONALIDAD TOTAL'!$D$14:$Z$238,23,0)","v":0},{"$f":"VLOOKUP(E176,'LLEGADA PAIS NACIONALIDAD TOTAL'!$D$14:$AB$238,25,0)","v":0},7,null,5.1234420161769018E-4]
[null,null,null,165,"TOGO",0,2,3,0,0,1,1,0,0,{"$f":"VLOOKUP(E177,'LLEGADA PAIS NACIONALIDAD TOTAL'!$D$14:$X$238,21,0)","v":0},{"$f":"VLOOKUP(E177,'LLEGADA PAIS NACIONALIDAD TOTAL'!$D$14:$Z$238,23,0)","v":0},{"$f":"VLOOKUP(E177,'LLEGADA PAIS NACIONALIDAD TOTAL'!$D$14:$AB$238,25,0)","v":0},7,null,5.1234420161769018E-4]
[null,null,null,166,"LESOTHO",0,0,5,0,0,1,0,0,1,{"$f":"VLOOKUP(E178,'LLEGADA PAIS NACIONALIDAD TOTAL'!$D$14:$X$238,21,0)","v":0},{"$f":"VLOOKUP(E178,'LLEGADA PAIS NACIONALIDAD TOTAL'!$D$14:$Z$238,23,0)","v":0},{"$f":"VLOOKUP(E178,'LLEGADA PAIS NACIONALIDAD TOTAL'!$D$14:$AB$238,25,0)","v":0},7,null,5.1234420161769018E-4]
[null,null,null,167,"CENTRO AFRICA REPUBLI",1,0,1,1,0,1,1,1,0,{"$f":"VLOOKUP(E179,'LLEGADA PAIS NACIONALIDAD TOTAL'!$D$14:$X$238,21,0)","v":1},{"$f":"VLOOKUP(E179,'LLEGADA PAIS NACIONALIDAD TOTAL'!$D$14:$Z$238,23,0)","v":0},{"$f":"VLOOKUP(E179,'LLEGADA PAIS NACIONALIDAD TOTAL'!$D$14:$AB$238,25,0)","v":0},7,null,5.1234420161769018E-4]
[null,null,null,168,"NUEVA GUINEA",1,0,1,1,0,1,1,1,0,{"$f":"VLOOKUP(E180,'LLEGADA PAIS NACIONALIDAD TOTAL'!$D$14:$X$238,21,0)","v":1},{"$f":"VLOOKUP(E180,'LLEGADA PAIS NACIONALIDAD TOTAL'!$D$14:$Z$238,23,0)","v":0},{"$f":"VLOOKUP(E180,'LLEGADA PAIS NACIONALIDAD TOTAL'!$D$14:$AB$238,25,0)","v":0},7,null,5.1234420161769018E-4]
[null,null,null,169,"BURUNDI",0,0,5,1,0,0,0,0,0,{"$f":"VLOOKUP(E181,'LLEGADA PAIS NACIONALIDAD TOTAL'!$D$14:$X$238,21,0)","v":0},{"$f":"VLOOKUP(E181,'LLEGADA PAIS NACIONALIDAD TOTAL'!$D$14:$Z$238,23,0)","v":0},{"$f":"VLOOKUP(E181,'LLEGADA PAIS NACIONALIDAD TOTAL'!$D$14:$AB$238,25,0)","v":0},6,null,4.39152172815163E-4]
[null,null,null,170,"GUINEA ECUATORIAL",3,0,2,0,0,0,0,0,0,{"$f":"VLOOKUP(E182,'LLEGADA PAIS NACIONALIDAD TOTAL'!$D$14:$X$238,21,0)","v":1},{"$f":"VLOOKUP(E182,'LLEGADA PAIS NACIONALIDAD TOTAL'!$D$14:$Z$238,23,0)","v":0},{"$f":"VLOOKUP(E182,'LLEGADA PAIS NACIONALIDAD TOTAL'!$D$14:$AB$238,25,0)","v":0},6,null,4.39152172815163E-4]
[null,null,null,171,"TURKMENISTAN",0,2,1,0,0,0,0,0,2,{"$f":"VLOOKUP(E183,'LLEGADA PAIS NACIONALIDAD TOTAL'!$D$14:$X$238,21,0)","v":1},{"$f":"VLOOKUP(E183,'LLEGADA PAIS NACIONALIDAD TOTAL'!$D$14:$Z$238,23,0)","v":0},{"$f":"VLOOKUP(E183,'LLEGADA PAIS NACIONALIDAD TOTAL'!$D$14:$AB$238,25,0)","v":0},6,null,4.39152172815163E-4]
[null,null,null,172,"SAMOA OCCIDENTAL",1,0,0,2,0,0,1,1,0,{"$f":"VLOOKUP(E184,'LLEGADA PAIS NACIONALIDAD TOTAL'!$D$14:$X$238,21,0)","v":0},{"$f":"VLOOKUP(E184,'LLEGADA PAIS NACIONALIDAD TOTAL'!$D$14:$Z$238,23,0)","v":1},{"$f":"VLOOKUP(E184,'LLEGADA PAIS NACIONALIDAD TOTAL'!$D$14:$AB$238,25,0)","v":0},6,null,4.39152172815163E-4]
[null,null,null,173,"GAMBIA",0,1,0,1,1,0,2,0,0,{"$f":"VLOOKUP(E185,'LLEGADA PAIS NACIONALIDAD TOTAL'!$D$14:$X$238,21,0)","v":0},{"$f":"VLOOKUP(E185,'LLEGADA PAIS NACIONALIDAD TOTAL'!$D$14:$Z$238,23,0)","v":0},{"$f":"VLOOKUP(E185,'LLEGADA PAIS NACIONALIDAD TOTAL'!$D$14:$AB$238,25,0)","v":1},6,null,4.39152172815163E-4]
[null,null,null,174,"TANZANIA",1,0,0,0,0,0,1,2,1,{"$f":"VLOOKUP(E186,'LLEGADA PAIS NACIONALIDAD TOTAL'!$D$14:$X$238,21,0)","v":0},{"$f":"VLOOKUP(E186,'LLEGADA PAIS NACIONALIDAD TOTAL'!$D$14:$Z$238,23,0)","v":0},{"$f":"VLOOKUP(E186,'LLEGADA PAIS NACIONALIDAD TOTAL'!$D$14:$AB$238,25,0)","v":1},6,null,4.39152172815163E-4]
[null,null,null,175,"DJIBOUTI",1,0,1,0,2,0,0,0,0,{"$f":"VLOOKUP(E187,'LLEGADA PAIS NACIONALIDAD TOTAL'!$D$14:$X$238,21,0)","v":0},{"$f":"VLOOKUP(E187,'LLEGADA PAIS NACIONALIDAD TOTAL'!$D$14:$Z$238,23,0)","v":1},{"$f":"VLOOKUP(E187,'LLEGADA PAIS NACIONALIDAD TOTAL'!$D$14:$AB$238,25,0)","v":0},5,null,3.6596014401263588E-4]
[null,null,null,176,"FIJI",0,0,1,0,1,1,0,0,0,{"$f":"VLOOKUP(E188,'LLEGADA PAIS NACIONALIDAD TOTAL'!$D$14:$X$238,21,0)","v":0},{"$f":"VLOOKUP(E188,'LLEGADA PAIS NACIONALIDAD TOTAL'!$D$14:$Z$238,23,0)","v":2},{"$f":"VLOOKUP(E188,'LLEGADA PAIS NACIONALIDAD TOTAL'!$D$14:$AB$238,25,0)","v":0},5,null,3.6596014401263588E-4]
[null,null,null,177,"MAURITANIA",0,0,1,1,1,0,1,0,0,{"$f":"VLOOKUP(E189,'LLEGADA PAIS NACIONALIDAD TOTAL'!$D$14:$X$238,21,0)","v":0},{"$f":"VLOOKUP(E189,'LLEGADA PAIS NACIONALIDAD TOTAL'!$D$14:$Z$238,23,0)","v":0},{"$f":"VLOOKUP(E189,'LLEGADA PAIS NACIONALIDAD TOTAL'!$D$14:$AB$238,25,0)","v":1},5,null,3.6596014401263588E-4]
[null,null,null,178,"LIBIA",0,0,1,0,1,1,0,0,0,{"$f":"VLOOKUP(E190,'LLEGADA PAIS NACIONALIDAD TOTAL'!$D$14:$X$238,21,0)","v":0},{"$f":"VLOOKUP(E190,'LLEGADA PAIS NACIONALIDAD TOTAL'!$D$14:$Z$238,23,0)","v":1},{"$f":"VLOOKUP(E190,'LLEGADA PAIS NACIONALIDAD TOTAL'!$D$14:$AB$238,25,0)","v":1},5,null,3.6596014401263588E-4]
[null,null,null,179,"LIBERIA",0,0,2,0,0,0,0,0,1,{"$f":"VLOOKUP(E191,'LLEGADA PAIS NACIONALIDAD TOTAL'!$D$14:$X$238,21,0)","v":0},{"$f":"VLOOKUP(E191,'LLEGADA PAIS NACIONALIDAD TOTAL'!$D$14:$Z$238,23,0)","v":0},{"$f":"VLOOKUP(E191,'LLEGADA PAIS NACIONALIDAD TOTAL'!$D$14:$AB$238,25,0)","v":2},5,null,3.6596014401263588E-4]
[null,null,null,180,"MICRONESIA",0,1,3,0,0,0,0,0,0,{"$f":"VLOOKUP(E192,'LLEGADA PAIS NACIONALIDAD TOTAL'!$D$14:$X$238,21,0)","v":0},{"$f":"VLOOKUP(E192,'LLEGADA PAIS NACIONALIDAD TOTAL'!$D$14:$Z$238,23,0)","v":0},{"$f":"VLOOKUP(E192,'LLEGADA PAIS NACIONALIDAD TOTAL'!$D$14:$AB$238,25,0)","v":0},4,null,2.9276811521010871E-4]
[null,null,null,181,"BRUNEI",0,0,0,0,0,2,0,2,0,{"$f":"VLOOKUP(E193,'LLEGADA PAIS NACIONALIDAD TOTAL'!$D$14:$X$238,21,0)","v":0},{"$f":"VLOOKUP(E193,'LLEGADA PAIS NACIONALIDAD TOTAL'!$D$14:$Z$238,23,0)","v":0},{"$f":"VLOOKUP(E193,'LLEGADA PAIS NACIONALIDAD TOTAL'!$D$14:$AB$238,25,0)","v":0},4,null,2.9276811521010871E-4]
[null,null,null,182,"POLINESIA FRANCESA",1,0,0,1,0,0,1,0,0,{"$f":"VLOOKUP(E194,'LLEGADA PAIS NACIONALIDAD TOTAL'!$D$14:$X$238,21,0)","v":0},{"$f":"VLOOKUP(E194,'LLEGADA PAIS NACIONALIDAD TOTAL'!$D$14:$Z$238,23,0)","v":1},{"$f":"VLOOKUP(E194,'LLEGADA PAIS NACIONALIDAD TOTAL'!$D$14:$AB$238,25,0)","v":0},4,null,2.9276811521010871E-4]
[null,null,null,183,"SOMALIA",0,0,0,0,1,0,2,0,0,{"$f":"VLOOKUP(E195,'LLEGADA PAIS NACIONALIDAD TOTAL'!$D$14:$X$238,21,0)","v":0},{"$f":"VLOOKUP(E195,'LLEGADA PAIS NACIONALIDAD TOTAL'!$D$14:$Z$238,23,0)","v":1},{"$f":"VLOOKUP(E195,'LLEGADA PAIS NACIONALIDAD TOTAL'!$D$14:$AB$238,25,0)","v":0},4,null,2.9276811521010871E-4]
[null,null,null,184,"COMORAS",0,0,1,0,1,1,0,0,0,{"$f":"VLOOKUP(E196,'LLEGADA PAIS NACIONALIDAD TOTAL'!$D$14:$X$238,21,0)","v":0},{"$f":"VLOOKUP(E196,'LLEGADA PAIS NACIONALIDAD TOTAL'!$D$14:$Z$238,23,0)","v":0},{"$f":"VLOOKUP(E196,'LLEGADA PAIS NACIONALIDAD TOTAL'!$D$14:$AB$238,25,0)","v":0},3,null,2.195760864075815E-4]
[null,null,null,185,"MALAWI",1,0,0,0,1,0,0,0,1,{"$f":"VLOOKUP(E197,'LLEGADA PAIS NACIONALIDAD TOTAL'!$D$14:$X$238,21,0)","v":0},{"$f":"VLOOKUP(E197,'LLEGADA PAIS NACIONALIDAD TOTAL'!$D$14:$Z$238,23,0)","v":0},{"$f":"VLOOKUP(E197,'LLEGADA PAIS NACIONALIDAD TOTAL'!$D$14:$AB$238,25,0)","v":0},3,null,2.195760864075815E-4]
[null,null,null,186,"O.N. AFRICA",0,1,1,0,0,0,0,0,0,{"$f":"VLOOKUP(E198,'LLEGADA PAIS NACIONALIDAD TOTAL'!$D$14:$X$238,21,0)","v":0},{"$f":"VLOOKUP(E198,'LLEGADA PAIS NACIONALIDAD TOTAL'!$D$14:$Z$238,23,0)","v":1},{"$f":"VLOOKUP(E198,'LLEGADA PAIS NACIONALIDAD TOTAL'!$D$14:$AB$238,25,0)","v":0},3,null,2.195760864075815E-4]
[null,null,null,187,"PAPUA NUEVA GUINEA",0,0,0,0,0,2,0,0,0,{"$f":"VLOOKUP(E199,'LLEGADA PAIS NACIONALIDAD TOTAL'!$D$14:$X$238,21,0)","v":0},{"$f":"VLOOKUP(E199,'LLEGADA PAIS NACIONALIDAD TOTAL'!$D$14:$Z$238,23,0)","v":0},{"$f":"VLOOKUP(E199,'LLEGADA PAIS NACIONALIDAD TOTAL'!$D$14:$AB$238,25,0)","v":0},2,null,1.4638405760505435E-4]
[null,null,null,188,"GUINEA BISAU",0,1,1,0,0,0,0,0,0,{"$f":"VLOOKUP(E200,'LLEGADA PAIS NACIONALIDAD TOTAL'!$D$14:$X$238,21,0)","v":0},{"$f":"VLOOKUP(E200,'LLEGADA PAIS NACIONALIDAD TOTAL'!$D$14:$Z$238,23,0)","v":0},{"$f":"VLOOKUP(E200,'LLEGADA PAIS NACIONALIDAD TOTAL'!$D$14:$AB$238,25,0)","v":0},2,null,1.4638405760505435E-4]
[null,null,null,189,"TUVALU",0,0,0,1,0,0,0,0,1,{"$f":"VLOOKUP(E201,'LLEGADA PAIS NACIONALIDAD TOTAL'!$D$14:$X$238,21,0)","v":0},{"$f":"VLOOKUP(E201,'LLEGADA PAIS NACIONALIDAD TOTAL'!$D$14:$Z$238,23,0)","v":0},{"$f":"VLOOKUP(E201,'LLEGADA PAIS NACIONALIDAD TOTAL'!$D$14:$AB$238,25,0)","v":0},2,null,1.4638405760505435E-4]
[null,null,null,190,"ISLA BOUVET",0,0,1,0,0,0,0,0,1,{"$f":"VLOOKUP(E202,'LLEGADA PAIS NACIONALIDAD TOTAL'!$D$14:$X$238,21,0)","v":0},{"$f":"VLOOKUP(E202,'LLEGADA PAIS NACIONALIDAD TOTAL'!$D$14:$Z$238,23,0)","v":0},{"$f":"VLOOKUP(E202,'LLEGADA PAIS NACIONALIDAD TOTAL'!$D$14:$AB$238,25,0)","v":0},2,null,1.4638405760505435E-4]
[null,null,null,191,"VATICANO O SANTA SEDE",0,0,0,0,1,0,0,0,1,{"$f":"VLOOKUP(E203,'LLEGADA PAIS NACIONALIDAD TOTAL'!$D$14:$X$238,21,0)","v":0},{"$f":"VLOOKUP(E203,'LLEGADA PAIS NACIONALIDAD TOTAL'!$D$14:$Z$238,23,0)","v":0},{"$f":"VLOOKUP(E203,'LLEGADA PAIS NACIONALIDAD TOTAL'!$D$14:$AB$238,25,0)","v":0},2,null,1.4638405760505435E-4]
[null,null,null,192,"SEYCHELLES",0,0,0,0,0,0,1,0,1,{"$f":"VLOOKUP(E204,'LLEGADA PAIS NACIONALIDAD TOTAL'!$D$14:$X$238,21,0)","v":0},{"$f":"VLOOKUP(E204,'LLEGADA PAIS NACIONALIDAD TOTAL'!$D$14:$Z$238,23,0)","v":0},{"$f":"VLOOKUP(E204,'LLEGADA PAIS NACIONALIDAD TOTAL'!$D$14:$AB$238,25,0)","v":0},2,null,1.4638405760505435E-4]
[null,null,null,193,"CISKEI",0,1,0,0,0,0,0,0,0,{"$f":"VLOOKUP(E205,'LLEGADA PAIS NACIONALIDAD TOTAL'!$D$14:$X$238,21,0)","v":1},{"$f":"VLOOKUP(E205,'LLEGADA PAIS NACIONALIDAD TOTAL'!$D$14:$Z$238,23,0)","v":0},{"$f":"VLOOKUP(E205,'LLEGADA PAIS NACIONALIDAD TOTAL'!$D$14:$AB$238,25,0)","v":0},2,null,1.4638405760505435E-4]
[null,null,null,194,"MARSHALL ISLAS",0,0,0,1,0,0,0,0,0,{"$f":"VLOOKUP(E206,'LLEGADA PAIS NACIONALIDAD TOTAL'!$D$14:$X$238,21,0)","v":0},{"$f":"VLOOKUP(E206,'LLEGADA PAIS NACIONALIDAD TOTAL'!$D$14:$Z$238,23,0)","v":0},{"$f":"VLOOKUP(E206,'LLEGADA PAIS NACIONALIDAD TOTAL'!$D$14:$AB$238,25,0)","v":0},1,null,7.3192028802527176E-5]
[null,null,null,195,"O.N. AMERICA",0,0,1,0,0,0,0,0,0,{"$f":"VLOOKUP(E207,'LLEGADA PAIS NACIONALIDAD TOTAL'!$D$14:$X$238,21,0)","v":0},{"$f":"VLOOKUP(E207,'LLEGADA PAIS NACIONALIDAD TOTAL'!$D$14:$Z$238,23,0)","v":0},{"$f":"VLOOKUP(E207,'LLEGADA PAIS NACIONALIDAD TOTAL'!$D$14:$AB$238,25,0)","v":0},1,null,7.3192028802527176E-5]
[null,null,null,196,"VANUATO",0,1,0,0,0,0,0,0,0,{"$f":"VLOOKUP(E208,'LLEGADA PAIS NACIONALIDAD TOTAL'!$D$14:$X$238,21,0)","v":0},{"$f":"VLOOKUP(E208,'LLEGADA PAIS NACIONALIDAD TOTAL'!$D$14:$Z$238,23,0)","v":0},{"$f":"VLOOKUP(E208,'LLEGADA PAIS NACIONALIDAD TOTAL'!$D$14:$AB$238,25,0)","v":0},1,null,7.3192028802527176E-5]
[null,null,null,197,"NIGER",0,0,0,0,0,0,0,0,0,{"$f":"VLOOKUP(E209,'LLEGADA PAIS NACIONALIDAD TOTAL'!$D$14:$X$238,21,0)","v":0},{"$f":"VLOOKUP(E209,'LLEGADA PAIS NACIONALIDAD TOTAL'!$D$14:$Z$238,23,0)","v":0},{"$f":"VLOOKUP(E209,'LLEGADA PAIS NACIONALIDAD TOTAL'!$D$14:$AB$238,25,0)","v":0},0,null,0]
[null,null,null,198,"NAURU",0,0,0,0,0,0,0,0,0,{"$f":"VLOOKUP(E210,'LLEGADA PAIS NACIONALIDAD TOTAL'!$D$14:$X$238,21,0)","v":0},{"$f":"VLOOKUP(E210,'LLEGADA PAIS NACIONALIDAD TOTAL'!$D$14:$Z$238,23,0)","v":0},{"$f":"VLOOKUP(E210,'LLEGADA PAIS NACIONALIDAD TOTAL'!$D$14:$AB$238,25,0)","v":0},0,null,0]
[null,null,null,199,"SUAZILANDIA",0,0,0,0,0,0,0,0,0,{"$f":"VLOOKUP(E211,'LLEGADA PAIS NACIONALIDAD TOTAL'!$D$14:$X$238,21,0)","v":0},{"$f":"VLOOKUP(E211,'LLEGADA PAIS NACIONALIDAD TOTAL'!$D$14:$Z$238,23,0)","v":0},{"$f":"VLOOKUP(E211,'LLEGADA PAIS NACIONALIDAD TOTAL'!$D$14:$AB$238,25,0)","v":0},0,null,0]
[null,null,null,200,"SWAZILANDIA",0,0,0,0,0,0,0,0,0,{"$f":"VLOOKUP(E212,'LLEGADA PAIS NACIONALIDAD TOTAL'!$D$14:$X$238,21,0)","v":0},{"$f":"VLOOKUP(E212,'LLEGADA PAIS NACIONALIDAD TOTAL'!$D$14:$Z$238,23,0)","v":0},{"$f":"VLOOKUP(E212,'LLEGADA PAIS NACIONALIDAD TOTAL'!$D$14:$AB$238,25,0)","v":0},0,null,0]
[null,null,null,201,"ALTO VOLTA",0,0,0,0,0,0,0,0,0,{"$f":"VLOOKUP(E213,'LLEGADA PAIS NACIONALIDAD TOTAL'!$D$14:$X$238,21,0)","v":0},{"$f":"VLOOKUP(E213,'LLEGADA PAIS NACIONALIDAD TOTAL'!$D$14:$Z$238,23,0)","v":0},{"$f":"VLOOKUP(E213,'LLEGADA PAIS NACIONALIDAD TOTAL'!$D$14:$AB$238,25,0)","v":0},0,null,0]
[null,null,null,202,"APATRIDAS",0,0,0,0,0,0,0,0,0,{"$f":"VLOOKUP(E214,'LLEGADA PAIS NACIONALIDAD TOTAL'!$D$14:$X$238,21,0)","v":0},{"$f":"VLOOKUP(E214,'LLEGADA PAIS NACIONALIDAD TOTAL'!$D$14:$Z$238,23,0)","v":0},{"$f":"VLOOKUP(E214,'LLEGADA PAIS NACIONALIDAD TOTAL'!$D$14:$AB$238,25,0)","v":0},0,null,0]
[null,null,null,203,"BELAU",0,0,0,0,0,0,0,0,0,{"$f":"VLOOKUP(E215,'LLEGADA PAIS NACIONALIDAD TOTAL'!$D$14:$X$238,21,0)","v":0},{"$f":"VLOOKUP(E215,'LLEGADA PAIS NACIONALIDAD TOTAL'!$D$14:$Z$238,23,0)","v":0},{"$f":"VLOOKUP(E215,'LLEGADA PAIS NACIONALIDAD TOTAL'!$D$14:$AB$238,25,0)","v":0},0,null,0]
[null,null,null,204,"BOPHUTHATSWANA",0,0,0,0,0,0,0,0,0,{"$f":"VLOOKUP(E216,'LLEGADA PAIS NACIONALIDAD TOTAL'!$D$14:$X$238,21,0)","v":0},{"$f":"VLOOKUP(E216,'LLEGADA PAIS NACIONALIDAD TOTAL'!$D$14:$Z$238,23,0)","v":0},{"$f":"VLOOKUP(E216,'LLEGADA PAIS NACIONALIDAD TOTAL'!$D$14:$AB$238,25,0)","v":0},0,null,0]
[null,null,null,205,"BUTAN",0,0,0,0,0,0,0,0,0,{"$f":"VLOOKUP(E217,'LLEGADA PAIS NACIONALIDAD TOTAL'!$D$14:$X$238,21,0)","v":0},{"$f":"VLOOKUP(E217,'LLEGADA PAIS NACIONALIDAD TOTAL'!$D$14:$Z$238,23,0)","v":0},{"$f":"VLOOKUP(E217,'LLEGADA PAIS NACIONALIDAD TOTAL'!$D$14:$AB$238,25,0)","v":0},0,null,0]
[null,null,null,206,"ECUADOR",0,0,0,0,0,0,0,0,0,{"$f":"VLOOKUP(E218,'LLEGADA PAIS NACIONALIDAD TOTAL'!$D$14:$X$238,21,0)","v":0},{"$f":"VLOOKUP(E218,'LLEGADA PAIS NACIONALIDAD TOTAL'!$D$14:$Z$238,23,0)","v":0},{"$f":"VLOOKUP(E218,'LLEGADA PAIS NACIONALIDAD TOTAL'!$D$14:$AB$238,25,0)","v":0},0,null,0]
[null,null,null,207,"KAMPUCHEA",0,0,0,0,0,0,0,0,0,{"$f":"VLOOKUP(E219,'LLEGADA PAIS NACIONALIDAD TOTAL'!$D$14:$X$238,21,0)","v":0},{"$f":"VLOOKUP(E219,'LLEGADA PAIS NACIONALIDAD TOTAL'!$D$14:$Z$238,23,0)","v":0},{"$f":"VLOOKUP(E219,'LLEGADA PAIS NACIONALIDAD TOTAL'!$D$14:$AB$238,25,0)","v":0},0,null,0]
[null,null,null,208,"LAOS",0,0,0,0,0,0,0,0,0,{"$f":"VLOOKUP(E220,'LLEGADA PAIS NACIONALIDAD TOTAL'!$D$14:$X$238,21,0)","v":0},{"$f":"VLOOKUP(E220,'LLEGADA PAIS NACIONALIDAD TOTAL'!$D$14:$Z$238,23,0)","v":0},{"$f":"VLOOKUP(E220,'LLEGADA PAIS NACIONALIDAD TOTAL'!$D$14:$AB$238,25,0)","v":0},0,null,0]
[null,null,null,209,"MALVINAS",0,0,0,0,0,0,0,0,0,{"$f":"VLOOKUP(E221,'LLEGADA PAIS NACIONALIDAD TOTAL'!$D$14:$X$238,21,0)","v":0},{"$f":"VLOOKUP(E221,'LLEGADA PAIS NACIONALIDAD TOTAL'!$D$14:$Z$238,23,0)","v":0},{"$f":"VLOOKUP(E221,'LLEGADA PAIS NACIONALIDAD TOTAL'!$D$14:$AB$238,25,0)","v":0},0,null,0]
[null,null,null,210,"MANCHURIA",0,0,0,0,0,0,0,0,0,{"$f":"VLOOKUP(E222,'LLEGADA PAIS NACIONALIDAD TOTAL'!$D$14:$X$238,21,0)","v":0},{"$f":"VLOOKUP(E222,'LLEGADA PAIS NACIONALIDAD TOTAL'!$D$14:$Z$238,23,0)","v":0},{"$f":"VLOOKUP(E222,'LLEGADA PAIS NACIONALIDAD TOTAL'!$D$14:$AB$238,25,0)","v":0},0,null,0]
[null,null,null,211,"O.N. ASIA",0,0,0,0,0,0,0,0,0,{"$f":"VLOOKUP(E223,'LLEGADA PAIS NACIONALIDAD TOTAL'!$D$14:$X$238,21,0)","v":0},{"$f":"VLOOKUP(E223,'LLEGADA PAIS NACIONALIDAD TOTAL'!$D$14:$Z$238,23,0)","v":0},{"$f":"VLOOKUP(E223,'LLEGADA PAIS NACIONALIDAD TOTAL'!$D$14:$AB$238,25,0)","v":0},0,null,0]
[null,null,null,212,"O.N. EUROPA",0,0,0,0,0,0,0,0,0,{"$f":"VLOOKUP(E224,'LLEGADA PAIS NACIONALIDAD TOTAL'!$D$14:$X$238,21,0)","v":0},{"$f":"VLOOKUP(E224,'LLEGADA PAIS NACIONALIDAD TOTAL'!$D$14:$Z$238,23,0)","v":0},{"$f":"VLOOKUP(E224,'LLEGADA PAIS NACIONALIDAD TOTAL'!$D$14:$AB$238,25,0)","v":0},0,null,0]
[null,null,null,213,"O.N. OCEANIA",0,0,0,0,0,0,0,0,0,{"$f":"VLOOKUP(E225,'LLEGADA PAIS NACIONALIDAD TOTAL'!$D$14:$X$238,21,0)","v":0},{"$f":"VLOOKUP(E225,'LLEGADA PAIS NACIONALIDAD TOTAL'!$D$14:$Z$238,23,0)","v":0},{"$f":"VLOOKUP(E225,'LLEGADA PAIS NACIONALIDAD TOTAL'!$D$14:$AB$238,25,0)","v":0},0,null,0]
[null,null,null,214,"PALESTINA",0,0,0,0,0,0,0,0,0,{"$f":"VLOOKUP(E226,'LLEGADA PAIS NACIONALIDAD TOTAL'!$D$14:$X$238,21,0)","v":0},{"$f":"VLOOKUP(E226,'LLEGADA PAIS NACIONALIDAD TOTAL'!$D$14:$Z$238,23,0)","v":0},{"$f":"VLOOKUP(E226,'LLEGADA PAIS NACIONALIDAD TOTAL'!$D$14:$AB$238,25,0)","v":0},{"$f":"SUM(F226:Q226)","v":0},null,{"$f":"+R226/R$232*100","v":0}]
[null,null,null,215,"REP.ARABE UNIDA",0,0,0,0,0,0,0,0,0,{"$f":"VLOOKUP(E227,'LLEGADA PAIS NACIONALIDAD TOTAL'!$D$14:$X$238,21,0)","v":0},{"$f":"VLOOKUP(E227,'LLEGADA PAIS NACIONALIDAD TOTAL'!$D$14:$Z$238,23,0)","v":0},{"$f":"VLOOKUP(E227,'LLEGADA PAIS NACIONALIDAD TOTAL'!$D$14:$AB$238,25,0)","v":0},0,null,0]
[null,null,null,216,"RUANDA",0,0,0,0,0,0,0,0,0,{"$f":"VLOOKUP(E228,'LLEGADA PAIS NACIONALIDAD TOTAL'!$D$14:$X$238,21,0)","v":0},{"$f":"VLOOKUP(E228,'LLEGADA PAIS NACIONALIDAD TOTAL'!$D$14:$Z$238,23,0)","v":0},{"$f":"VLOOKUP(E228,'LLEGADA PAIS NACIONALIDAD TOTAL'!$D$14:$AB$238,25,0)","v":0},0,null,0]
[null,null,null,217,"SALOMON ISLAS",0,0,0,0,0,0,0,0,0,{"$f":"VLOOKUP(E229,'LLEGADA PAIS NACIONALIDAD TOTAL'!$D$14:$X$238,21,0)","v":0},{"$f":"VLOOKUP(E229,'LLEGADA PAIS NACIONALIDAD TOTAL'!$D$14:$Z$238,23,0)","v":0},{"$f":"VLOOKUP(E229,'LLEGADA PAIS NACIONALIDAD TOTAL'!$D$14:$AB$238,25,0)","v":0},0,null,0]
[null,null,null,218,"TANGANICA",0,0,0,0,0,0,0,0,0,{"$f":"VLOOKUP(E230,'LLEGADA PAIS NACIONALIDAD TOTAL'!$D$14:$X$238,21,0)","v":0},{"$f":"VLOOKUP(E230,'LLEGADA PAIS NACIONALIDAD TOTAL'!$D$14:$Z$238,23,0)","v":0},0,0,null,0]
[null,null,null,219,"PAIS DESCONOCIDO",858,830,853,786,746,736,670,989,809,{"$f":"VLOOKUP(E231,'LLEGADA PAIS NACIONALIDAD TOTAL'!$D$14:$X$238,21,0)","v":978},{"$f":"VLOOKUP(E231,'LLEGADA PAIS NACIONALIDAD TOTAL'!$D$14:$Z$238,23,0)","v":850},{"$f":"VLOOKUP(E231,'LLEGADA PAIS NACIONALIDAD TOTAL'!$D$14:$AB$238,25,0)","v":1009},{"$f":"SUM(F231:Q231)","v":10114},null,{"$f":"+R231/R$232*100","v":0.74026417930875987}]
[null,null,null,null,null,{"$f":"SUM(F13:F231)","v":130842},103768,113361,89669,98420,121742,138140,112576,97372,111519,112061,136799,1366269,null,{"$f":"SUM(T13:T231)","v":100.00000000000009}]
[null,null,null,null,"Fuente : Dirección Nacional de Migración "]
[null,null,null,null,"Elaboración: Dirección de Investigación"]

{"sheet":"SALIDAS ECUATORIANOS","index":17,"n_rows":239,"n_cols":20,"rows_kept":239,"cut":false,"hidden":false,"merged":[]}
[]
[]
[]
[]
[]
[]
[]
[]
[]
[]
[null,null,null,null,null,"SALIDA","SALIDA","SALIDA","SALIDA","SALIDA","SALIDA","SALIDA","SALIDA","SALIDA","SALIDA","SALIDA","SALIDA","SALIDA",null,"SALIDA"]
[null,null,null,"RK","PAIS","ENERO","FEBRERO","MARZO","ABRIL","MAY","JUN","JUL","AGO","SEP","OCT","NOV","DIC","Acumulado Ene-Dic",null,"%"]
[null,null,null,1,"ESTADOS UNIDOS",25192,32666,36111,33434,{"$f":"VLOOKUP(E13,'LLEGADA PAIS NACIONALIDAD TOTAL'!$D$14:$AD$238,10,0)","v":32202},{"$f":"+VLOOKUP(E13,'LLEGADA PAIS NACIONALIDAD TOTAL'!$D$14:$AD$238,12,0)","v":25251},34068,{"$f":"VLOOKUP(E13,'LLEGADA PAIS NACIONALIDAD TOTAL'!$D$14:$T$238,16,0)","v":42883},36736,{"$f":"VLOOKUP(E13,'LLEGADA PAIS NACIONALIDAD TOTAL'!$D$14:$W$238,20,0)","v":34046},{"$f":"VLOOKUP(E13,'LLEGADA PAIS NACIONALIDAD TOTAL'!$D$14:$Z$238,22,0)","v":33883},{"$f":"VLOOKUP(E13,'LLEGADA PAIS NACIONALIDAD TOTAL'!$D$14:$AB$238,24,0)","v":28599},{"$f":"SUM(F13:Q13)","v":395071},null,{"$f":"+R13/R$235*100","v":34.188675457202173}]
[null,null,null,2,"PERÚ",12972,18155,16821,16490,{"$f":"VLOOKUP(E14,'LLEGADA PAIS NACIONALIDAD TOTAL'!$D$14:$AD$238,10,0)","v":13649},{"$f":"+VLOOKUP(E14,'LLEGADA PAIS NACIONALIDAD TOTAL'!$D$14:$AD$238,12,0)","v":14960},16309,{"$f":"VLOOKUP(E14,'LLEGADA PAIS NACIONALIDAD TOTAL'!$D$14:$T$238,16,0)","v":25819},15811,{"$f":"VLOOKUP(E14,'LLEGADA PAIS NACIONALIDAD TOTAL'!$D$14:$W$238,20,0)","v":19075},{"$f":"VLOOKUP(E14,'LLEGADA PAIS NACIONALIDAD TOTAL'!$D$14:$Z$238,22,0)","v":15556},{"$f":"VLOOKUP(E14,'LLEGADA PAIS NACIONALIDAD TOTAL'!$D$14:$AB$238,24,0)","v":17557},203174,null,{"$f":"+R14/R$235*100","v":17.582282545014934}]
[null,null,null,3,"COLOMBIA",7798,8674,8069,9964,{"$f":"VLOOKUP(E15,'LLEGADA PAIS NACIONALIDAD TOTAL'!$D$14:$AD$238,10,0)","v":9248},{"$f":"+VLOOKUP(E15,'LLEGADA PAIS NACIONALIDAD TOTAL'!$D$14:$AD$238,12,0)","v":7850},10187,{"$f":"VLOOKUP(E15,'LLEGADA PAIS NACIONALIDAD TOTAL'!$D$14:$T$238,16,0)","v":10204},9395,{"$f":"VLOOKUP(E15,'LLEGADA PAIS NACIONALIDAD TOTAL'!$D$14:$W$238,20,0)","v":9187},{"$f":"VLOOKUP(E15,'LLEGADA PAIS NACIONALIDAD TOTAL'!$D$14:$Z$238,22,0)","v":8127},{"$f":"VLOOKUP(E15,'LLEGADA PAIS NACIONALIDAD TOTAL'!$D$14:$AB$238,24,0)","v":8911},107614,null,9.3127061228269206]
[null,null,null,4,"ESPAÑA",8142,8025,9151,8375,{"$f":"VLOOKUP(E16,'LLEGADA PAIS NACIONALIDAD TOTAL'!$D$14:$AD$238,10,0)","v":9390},{"$f":"+VLOOKUP(E16,'LLEGADA PAIS NACIONALIDAD TOTAL'!$D$14:$AD$238,12,0)","v":7244},8276,{"$f":"VLOOKUP(E16,'LLEGADA PAIS NACIONALIDAD TOTAL'!$D$14:$T$238,16,0)","v":8269},11448,{"$f":"VLOOKUP(E16,'LLEGADA PAIS NACIONALIDAD TOTAL'!$D$14:$W$238,20,0)","v":9452},{"$f":"VLOOKUP(E16,'LLEGADA PAIS NACIONALIDAD TOTAL'!$D$14:$Z$238,22,0)","v":6354},{"$f":"VLOOKUP(E16,'LLEGADA PAIS NACIONALIDAD TOTAL'!$D$14:$AB$238,24,0)","v":5434},99560,null,8.6157286374323814]
[null,null,null,5,"PANAMÁ",4392,5433,6518,5734,{"$f":"VLOOKUP(E17,'LLEGADA PAIS NACIONALIDAD TOTAL'!$D$14:$AD$238,10,0)","v":5197},{"$f":"+VLOOKUP(E17,'LLEGADA PAIS NACIONALIDAD TOTAL'!$D$14:$AD$238,12,0)","v":3704},6742,{"$f":"VLOOKUP(E17,'LLEGADA PAIS NACIONALIDAD TOTAL'!$D$14:$T$238,16,0)","v":9688},5747,{"$f":"VLOOKUP(E17,'LLEGADA PAIS NACIONALIDAD TOTAL'!$D$14:$W$238,20,0)","v":6524},{"$f":"VLOOKUP(E17,'LLEGADA PAIS NACIONALIDAD TOTAL'!$D$14:$Z$238,22,0)","v":7141},{"$f":"VLOOKUP(E17,'LLEGADA PAIS NACIONALIDAD TOTAL'!$D$14:$AB$238,24,0)","v":5740},72560,null,6.2792011845328801]
[null,null,null,6,"ARGENTINA",1490,1930,2817,2785,{"$f":"VLOOKUP(E18,'LLEGADA PAIS NACIONALIDAD TOTAL'!$D$14:$AD$238,10,0)","v":2180},{"$f":"+VLOOKUP(E18,'LLEGADA PAIS NACIONALIDAD TOTAL'!$D$14:$AD$238,12,0)","v":2215},2875,{"$f":"VLOOKUP(E18,'LLEGADA PAIS NACIONALIDAD TOTAL'!$D$14:$T$238,16,0)","v":3739},3425,{"$f":"VLOOKUP(E18,'LLEGADA PAIS NACIONALIDAD TOTAL'!$D$14:$W$238,20,0)","v":3843},{"$f":"VLOOKUP(E18,'LLEGADA PAIS NACIONALIDAD TOTAL'!$D$14:$Z$238,22,0)","v":3853},{"$f":"VLOOKUP(E18,'LLEGADA PAIS NACIONALIDAD TOTAL'!$D$14:$AB$238,24,0)","v":2194},{"$f":"SUM(F18:Q18)","v":33346},null,{"$f":"+R18/R$235*100","v":2.8856979423846947}]
[null,null,null,7,"MÉXICO",1598,2771,1872,2210,{"$f":"VLOOKUP(E19,'LLEGADA PAIS NACIONALIDAD TOTAL'!$D$14:$AD$238,10,0)","v":1977},{"$f":"+VLOOKUP(E19,'LLEGADA PAIS NACIONALIDAD TOTAL'!$D$14:$AD$238,12,0)","v":1439},3021,{"$f":"VLOOKUP(E19,'LLEGADA PAIS NACIONALIDAD TOTAL'!$D$14:$T$238,16,0)","v":4623},2143,{"$f":"VLOOKUP(E19,'LLEGADA PAIS NACIONALIDAD TOTAL'!$D$14:$W$238,20,0)","v":2112},{"$f":"VLOOKUP(E19,'LLEGADA PAIS NACIONALIDAD TOTAL'!$D$14:$Z$238,22,0)","v":2374},{"$f":"VLOOKUP(E19,'LLEGADA PAIS NACIONALIDAD TOTAL'!$D$14:$AB$238,24,0)","v":2158},28298,null,2.448853846746299]
[null,null,null,8,"CHILE",2620,2455,3236,2464,{"$f":"VLOOKUP(E20,'LLEGADA PAIS NACIONALIDAD TOTAL'!$D$14:$AD$238,10,0)","v":1793},{"$f":"+VLOOKUP(E20,'LLEGADA PAIS NACIONALIDAD TOTAL'!$D$14:$AD$238,12,0)","v":1588},1829,{"$f":"VLOOKUP(E20,'LLEGADA PAIS NACIONALIDAD TOTAL'!$D$14:$T$238,16,0)","v":2350},1985,{"$f":"VLOOKUP(E20,'LLEGADA PAIS NACIONALIDAD TOTAL'!$D$14:$W$238,20,0)","v":2757},{"$f":"VLOOKUP(E20,'LLEGADA PAIS NACIONALIDAD TOTAL'!$D$14:$Z$238,22,0)","v":2171},{"$f":"VLOOKUP(E20,'LLEGADA PAIS NACIONALIDAD TOTAL'!$D$14:$AB$238,24,0)","v":1812},27060,null,2.3417197361281663]
[null,null,null,9,"ITALIA",2595,2192,2193,1871,{"$f":"VLOOKUP(E21,'LLEGADA PAIS NACIONALIDAD TOTAL'!$D$14:$AD$238,10,0)","v":1581},{"$f":"+VLOOKUP(E21,'LLEGADA PAIS NACIONALIDAD TOTAL'!$D$14:$AD$238,12,0)","v":1450},1707,{"$f":"VLOOKUP(E21,'LLEGADA PAIS NACIONALIDAD TOTAL'!$D$14:$T$238,16,0)","v":1832},3085,{"$f":"VLOOKUP(E21,'LLEGADA PAIS NACIONALIDAD TOTAL'!$D$14:$W$238,20,0)","v":1692},{"$f":"VLOOKUP(E21,'LLEGADA PAIS NACIONALIDAD TOTAL'!$D$14:$Z$238,22,0)","v":1201},{"$f":"VLOOKUP(E21,'LLEGADA PAIS NACIONALIDAD TOTAL'!$D$14:$AB$238,24,0)","v":974},22373,null,1.9361158779155754]
[null,null,null,10,"BRASIL",918,879,1043,1093,{"$f":"VLOOKUP(E22,'LLEGADA PAIS NACIONALIDAD TOTAL'!$D$14:$AD$238,10,0)","v":992},{"$f":"+VLOOKUP(E22,'LLEGADA PAIS NACIONALIDAD TOTAL'!$D$14:$AD$238,12,0)","v":915},2810,{"$f":"VLOOKUP(E22,'LLEGADA PAIS NACIONALIDAD TOTAL'!$D$14:$T$238,16,0)","v":1229},1178,{"$f":"VLOOKUP(E22,'LLEGADA PAIS NACIONALIDAD TOTAL'!$D$14:$W$238,20,0)","v":1154},{"$f":"VLOOKUP(E22,'LLEGADA PAIS NACIONALIDAD TOTAL'!$D$14:$Z$238,22,0)","v":1230},{"$f":"VLOOKUP(E22,'LLEGADA PAIS NACIONALIDAD TOTAL'!$D$14:$AB$238,24,0)","v":955},14396,null,1.2458018226644894]
[null,null,null,11,"VENEZUELA",2240,1223,1554,1027,{"$f":"VLOOKUP(E23,'LLEGADA PAIS NACIONALIDAD TOTAL'!$D$14:$AD$238,10,0)","v":1052},{"$f":"+VLOOKUP(E23,'LLEGADA PAIS NACIONALIDAD TOTAL'!$D$14:$AD$238,12,0)","v":915},1349,{"$f":"VLOOKUP(E23,'LLEGADA PAIS NACIONALIDAD TOTAL'!$D$14:$T$238,16,0)","v":1191},1060,{"$f":"VLOOKUP(E23,'LLEGADA PAIS NACIONALIDAD TOTAL'!$D$14:$W$238,20,0)","v":805},{"$f":"VLOOKUP(E23,'LLEGADA PAIS NACIONALIDAD TOTAL'!$D$14:$Z$238,22,0)","v":743},{"$f":"VLOOKUP(E23,'LLEGADA PAIS NACIONALIDAD TOTAL'!$D$14:$AB$238,24,0)","v":851},14010,null,{"$f":"+R23/R$235*100","v":1.2123981338934076}]
[null,null,null,12,"CUBA",642,1424,905,888,{"$f":"VLOOKUP(E24,'LLEGADA PAIS NACIONALIDAD TOTAL'!$D$14:$AD$238,10,0)","v":691},{"$f":"+VLOOKUP(E24,'LLEGADA PAIS NACIONALIDAD TOTAL'!$D$14:$AD$238,12,0)","v":628},899,{"$f":"VLOOKUP(E24,'LLEGADA PAIS NACIONALIDAD TOTAL'!$D$14:$T$238,16,0)","v":879},1179,{"$f":"VLOOKUP(E24,'LLEGADA PAIS NACIONALIDAD TOTAL'!$D$14:$W$238,20,0)","v":818},{"$f":"VLOOKUP(E24,'LLEGADA PAIS NACIONALIDAD TOTAL'!$D$14:$Z$238,22,0)","v":680},{"$f":"VLOOKUP(E24,'LLEGADA PAIS NACIONALIDAD TOTAL'!$D$14:$AB$238,24,0)","v":872},10505,null,{"$f":"+R24/R$235*100","v":0.90908225528552788}]
[null,null,null,13,"REP. DOMINICANA",550,1338,343,539,{"$f":"VLOOKUP(E25,'LLEGADA PAIS NACIONALIDAD TOTAL'!$D$14:$AD$238,10,0)","v":1222},{"$f":"+VLOOKUP(E25,'LLEGADA PAIS NACIONALIDAD TOTAL'!$D$14:$AD$238,12,0)","v":514},1887,{"$f":"VLOOKUP(E25,'LLEGADA PAIS NACIONALIDAD TOTAL'!$D$14:$T$238,16,0)","v":754},427,{"$f":"VLOOKUP(E25,'LLEGADA PAIS NACIONALIDAD TOTAL'!$D$14:$W$238,20,0)","v":1542},{"$f":"VLOOKUP(E25,'LLEGADA PAIS NACIONALIDAD TOTAL'!$D$14:$Z$238,22,0)","v":305},{"$f":"VLOOKUP(E25,'LLEGADA PAIS NACIONALIDAD TOTAL'!$D$14:$AB$238,24,0)","v":291},9712,null,0.84045757861333159]
[null,null,null,14,"HOLANDA",531,322,582,625,{"$f":"VLOOKUP(E26,'LLEGADA PAIS NACIONALIDAD TOTAL'!$D$14:$AD$238,10,0)","v":683},{"$f":"+VLOOKUP(E26,'LLEGADA PAIS NACIONALIDAD TOTAL'!$D$14:$AD$238,12,0)","v":719},857,{"$f":"VLOOKUP(E26,'LLEGADA PAIS NACIONALIDAD TOTAL'!$D$14:$T$238,16,0)","v":862},673,{"$f":"VLOOKUP(E26,'LLEGADA PAIS NACIONALIDAD TOTAL'!$D$14:$W$238,20,0)","v":472},{"$f":"VLOOKUP(E26,'LLEGADA PAIS NACIONALIDAD TOTAL'!$D$14:$Z$238,22,0)","v":452},{"$f":"VLOOKUP(E26,'LLEGADA PAIS NACIONALIDAD TOTAL'!$D$14:$AB$238,24,0)","v":365},7143,null,0.61814131837263464]
[null,null,null,15,"CANADÁ",665,434,574,534,{"$f":"VLOOKUP(E27,'LLEGADA PAIS NACIONALIDAD TOTAL'!$D$14:$AD$238,10,0)","v":646},{"$f":"+VLOOKUP(E27,'LLEGADA PAIS NACIONALIDAD TOTAL'!$D$14:$AD$238,12,0)","v":533},655,{"$f":"VLOOKUP(E27,'LLEGADA PAIS NACIONALIDAD TOTAL'!$D$14:$T$238,16,0)","v":854},766,{"$f":"VLOOKUP(E27,'LLEGADA PAIS NACIONALIDAD TOTAL'!$D$14:$W$238,20,0)","v":405},{"$f":"VLOOKUP(E27,'LLEGADA PAIS NACIONALIDAD TOTAL'!$D$14:$Z$238,22,0)","v":340},{"$f":"VLOOKUP(E27,'LLEGADA PAIS NACIONALIDAD TOTAL'!$D$14:$AB$238,24,0)","v":383},6789,null,0.58750684732350777]
[null,null,null,16,"ALEMANIA",434,427,442,532,{"$f":"VLOOKUP(E28,'LLEGADA PAIS NACIONALIDAD TOTAL'!$D$14:$AD$238,10,0)","v":360},{"$f":"+VLOOKUP(E28,'LLEGADA PAIS NACIONALIDAD TOTAL'!$D$14:$AD$238,12,0)","v":430},558,{"$f":"VLOOKUP(E28,'LLEGADA PAIS NACIONALIDAD TOTAL'!$D$14:$T$238,16,0)","v":522},617,{"$f":"VLOOKUP(E28,'LLEGADA PAIS NACIONALIDAD TOTAL'!$D$14:$W$238,20,0)","v":507},{"$f":"VLOOKUP(E28,'LLEGADA PAIS NACIONALIDAD TOTAL'!$D$14:$Z$238,22,0)","v":269},{"$f":"VLOOKUP(E28,'LLEGADA PAIS NACIONALIDAD TOTAL'!$D$14:$AB$238,24,0)","v":294},5392,null,0.46661318614941144]
[null,null,null,17,"COSTA RICA",591,317,324,459,{"$f":"VLOOKUP(E29,'LLEGADA PAIS NACIONALIDAD TOTAL'!$D$14:$AD$238,10,0)","v":327},{"$f":"+VLOOKUP(E29,'LLEGADA PAIS NACIONALIDAD TOTAL'!$D$14:$AD$238,12,0)","v":338},345,{"$f":"VLOOKUP(E29,'LLEGADA PAIS NACIONALIDAD TOTAL'!$D$14:$T$238,16,0)","v":331},361,{"$f":"VLOOKUP(E29,'LLEGADA PAIS NACIONALIDAD TOTAL'!$D$14:$W$238,20,0)","v":276},{"$f":"VLOOKUP(E29,'LLEGADA PAIS NACIONALIDAD TOTAL'!$D$14:$Z$238,22,0)","v":272},{"$f":"VLOOKUP(E29,'LLEGADA PAIS NACIONALIDAD TOTAL'!$D$14:$AB$238,24,0)","v":254},4195,null,0.36302713573753354]
[null,null,null,18,"FRANCIA",245,220,275,176,{"$f":"VLOOKUP(E30,'LLEGADA PAIS NACIONALIDAD TOTAL'!$D$14:$AD$238,10,0)","v":325},{"$f":"+VLOOKUP(E30,'LLEGADA PAIS NACIONALIDAD TOTAL'!$D$14:$AD$238,12,0)","v":276},394,{"$f":"VLOOKUP(E30,'LLEGADA PAIS NACIONALIDAD TOTAL'!$D$14:$T$238,16,0)","v":554},482,{"$f":"VLOOKUP(E30,'LLEGADA PAIS NACIONALIDAD TOTAL'!$D$14:$W$238,20,0)","v":341},{"$f":"VLOOKUP(E30,'LLEGADA PAIS NACIONALIDAD TOTAL'!$D$14:$Z$238,22,0)","v":222},{"$f":"VLOOKUP(E30,'LLEGADA PAIS NACIONALIDAD TOTAL'!$D$14:$AB$238,24,0)","v":180},3690,null,0.31932541856293178]
[null,null,null,19,"EL SALVADOR",198,218,264,361,{"$f":"VLOOKUP(E31,'LLEGADA PAIS NACIONALIDAD TOTAL'!$D$14:$AD$238,10,0)","v":298},{"$f":"+VLOOKUP(E31,'LLEGADA PAIS NACIONALIDAD TOTAL'!$D$14:$AD$238,12,0)","v":305},387,{"$f":"VLOOKUP(E31,'LLEGADA PAIS NACIONALIDAD TOTAL'!$D$14:$T$238,16,0)","v":306},246,{"$f":"VLOOKUP(E31,'LLEGADA PAIS NACIONALIDAD TOTAL'!$D$14:$W$238,20,0)","v":223},{"$f":"VLOOKUP(E31,'LLEGADA PAIS NACIONALIDAD TOTAL'!$D$14:$Z$238,22,0)","v":355},{"$f":"VLOOKUP(E31,'LLEGADA PAIS NACIONALIDAD TOTAL'!$D$14:$AB$238,24,0)","v":199},3360,null,0.29076786080527123]
[null,null,null,20,"GRAN BRETAÑA",251,190,204,181,192,{"$f":"+VLOOKUP(E32,'LLEGADA PAIS NACIONALIDAD TOTAL'!$D$14:$AD$238,12,0)","v":195},290,{"$f":"VLOOKUP(E32,'LLEGADA PAIS NACIONALIDAD TOTAL'!$D$14:$T$238,16,0)","v":285},540,{"$f":"VLOOKUP(E32,'LLEGADA PAIS NACIONALIDAD TOTAL'!$D$14:$W$238,20,0)","v":235},{"$f":"VLOOKUP(E32,'LLEGADA PAIS NACIONALIDAD TOTAL'!$D$14:$Z$238,22,0)","v":203},{"$f":"VLOOKUP(E32,'LLEGADA PAIS NACIONALIDAD TOTAL'!$D$14:$AB$238,24,0)","v":173},2939,null,0.25433534015080123]
[null,null,null,21,"SUIZA",336,186,182,166,{"$f":"VLOOKUP(E33,'LLEGADA PAIS NACIONALIDAD TOTAL'!$D$14:$AD$238,10,0)","v":163},{"$f":"+VLOOKUP(E33,'LLEGADA PAIS NACIONALIDAD TOTAL'!$D$14:$AD$238,12,0)","v":174},314,{"$f":"VLOOKUP(E33,'LLEGADA PAIS NACIONALIDAD TOTAL'!$D$14:$T$238,16,0)","v":377},220,{"$f":"VLOOKUP(E33,'LLEGADA PAIS NACIONALIDAD TOTAL'!$D$14:$W$238,20,0)","v":202},{"$f":"VLOOKUP(E33,'LLEGADA PAIS NACIONALIDAD TOTAL'!$D$14:$Z$238,22,0)","v":144},{"$f":"VLOOKUP(E33,'LLEGADA PAIS NACIONALIDAD TOTAL'!$D$14:$AB$238,24,0)","v":134},2598,null,0.22482586380121863]
[null,null,null,23,"CHINA POPULAR (PEKIN)",127,157,197,325,{"$f":"VLOOKUP(E34,'LLEGADA PAIS NACIONALIDAD TOTAL'!$D$14:$AD$238,10,0)","v":265},{"$f":"+VLOOKUP(E34,'LLEGADA PAIS NACIONALIDAD TOTAL'!$D$14:$AD$238,12,0)","v":190},183,{"$f":"VLOOKUP(E34,'LLEGADA PAIS NACIONALIDAD TOTAL'!$D$14:$T$238,16,0)","v":206},285,{"$f":"VLOOKUP(E34,'LLEGADA PAIS NACIONALIDAD TOTAL'!$D$14:$W$238,20,0)","v":362},{"$f":"VLOOKUP(E34,'LLEGADA PAIS NACIONALIDAD TOTAL'!$D$14:$Z$238,22,0)","v":216},{"$f":"VLOOKUP(E34,'LLEGADA PAIS NACIONALIDAD TOTAL'!$D$14:$AB$238,24,0)","v":73},2586,null,0.22378740715548553]
[null,null,null,22,"HONDURAS",321,116,178,361,{"$f":"VLOOKUP(E35,'LLEGADA PAIS NACIONALIDAD TOTAL'!$D$14:$AD$238,10,0)","v":330},{"$f":"+VLOOKUP(E35,'LLEGADA PAIS NACIONALIDAD TOTAL'!$D$14:$AD$238,12,0)","v":223},169,{"$f":"VLOOKUP(E35,'LLEGADA PAIS NACIONALIDAD TOTAL'!$D$14:$T$238,16,0)","v":182},139,{"$f":"VLOOKUP(E35,'LLEGADA PAIS NACIONALIDAD TOTAL'!$D$14:$W$238,20,0)","v":106},{"$f":"VLOOKUP(E35,'LLEGADA PAIS NACIONALIDAD TOTAL'!$D$14:$Z$238,22,0)","v":91},{"$f":"VLOOKUP(E35,'LLEGADA PAIS NACIONALIDAD TOTAL'!$D$14:$AB$238,24,0)","v":283},2499,null,0.21625859647392046]
[null,null,null,25,"BOLIVIA",155,160,135,132,{"$f":"VLOOKUP(E36,'LLEGADA PAIS NACIONALIDAD TOTAL'!$D$14:$AD$238,10,0)","v":139},{"$f":"+VLOOKUP(E36,'LLEGADA PAIS NACIONALIDAD TOTAL'!$D$14:$AD$238,12,0)","v":159},205,{"$f":"VLOOKUP(E36,'LLEGADA PAIS NACIONALIDAD TOTAL'!$D$14:$T$238,16,0)","v":205},381,{"$f":"VLOOKUP(E36,'LLEGADA PAIS NACIONALIDAD TOTAL'!$D$14:$W$238,20,0)","v":312},{"$f":"VLOOKUP(E36,'LLEGADA PAIS NACIONALIDAD TOTAL'!$D$14:$Z$238,22,0)","v":254},{"$f":"VLOOKUP(E36,'LLEGADA PAIS NACIONALIDAD TOTAL'!$D$14:$AB$238,24,0)","v":155},2392,null,0.20699902471613355]
[null,null,null,24,"GUATEMALA",117,193,180,226,{"$f":"VLOOKUP(E37,'LLEGADA PAIS NACIONALIDAD TOTAL'!$D$14:$AD$238,10,0)","v":140},{"$f":"+VLOOKUP(E37,'LLEGADA PAIS NACIONALIDAD TOTAL'!$D$14:$AD$238,12,0)","v":129},110,{"$f":"VLOOKUP(E37,'LLEGADA PAIS NACIONALIDAD TOTAL'!$D$14:$T$238,16,0)","v":127},133,{"$f":"VLOOKUP(E37,'LLEGADA PAIS NACIONALIDAD TOTAL'!$D$14:$W$238,20,0)","v":177},{"$f":"VLOOKUP(E37,'LLEGADA PAIS NACIONALIDAD TOTAL'!$D$14:$Z$238,22,0)","v":231},{"$f":"VLOOKUP(E37,'LLEGADA PAIS NACIONALIDAD TOTAL'!$D$14:$AB$238,24,0)","v":124},1887,null,0.16329730754153177]
[null,null,null,26,"BÉLGICA",185,115,120,105,{"$f":"VLOOKUP(E38,'LLEGADA PAIS NACIONALIDAD TOTAL'!$D$14:$AD$238,10,0)","v":56},{"$f":"+VLOOKUP(E38,'LLEGADA PAIS NACIONALIDAD TOTAL'!$D$14:$AD$238,12,0)","v":96},209,{"$f":"VLOOKUP(E38,'LLEGADA PAIS NACIONALIDAD TOTAL'!$D$14:$T$238,16,0)","v":368},219,{"$f":"VLOOKUP(E38,'LLEGADA PAIS NACIONALIDAD TOTAL'!$D$14:$W$238,20,0)","v":95},{"$f":"VLOOKUP(E38,'LLEGADA PAIS NACIONALIDAD TOTAL'!$D$14:$Z$238,22,0)","v":64},{"$f":"VLOOKUP(E38,'LLEGADA PAIS NACIONALIDAD TOTAL'!$D$14:$AB$238,24,0)","v":66},1698,null,0.14694161537123526]
[null,null,null,27,"CURAZAO",295,77,59,78,{"$f":"VLOOKUP(E39,'LLEGADA PAIS NACIONALIDAD TOTAL'!$D$14:$AD$238,10,0)","v":110},{"$f":"+VLOOKUP(E39,'LLEGADA PAIS NACIONALIDAD TOTAL'!$D$14:$AD$238,12,0)","v":33},43,{"$f":"VLOOKUP(E39,'LLEGADA PAIS NACIONALIDAD TOTAL'!$D$14:$T$238,16,0)","v":703},59,{"$f":"VLOOKUP(E39,'LLEGADA PAIS NACIONALIDAD TOTAL'!$D$14:$W$238,20,0)","v":137},{"$f":"VLOOKUP(E39,'LLEGADA PAIS NACIONALIDAD TOTAL'!$D$14:$Z$238,22,0)","v":28},{"$f":"VLOOKUP(E39,'LLEGADA PAIS NACIONALIDAD TOTAL'!$D$14:$AB$238,24,0)","v":47},1669,null,0.14443201181071358]
[null,null,null,29,"JAMAICA",19,180,41,8,{"$f":"VLOOKUP(E40,'LLEGADA PAIS NACIONALIDAD TOTAL'!$D$14:$AD$238,10,0)","v":33},{"$f":"+VLOOKUP(E40,'LLEGADA PAIS NACIONALIDAD TOTAL'!$D$14:$AD$238,12,0)","v":15},252,{"$f":"VLOOKUP(E40,'LLEGADA PAIS NACIONALIDAD TOTAL'!$D$14:$T$238,16,0)","v":1024},23,{"$f":"VLOOKUP(E40,'LLEGADA PAIS NACIONALIDAD TOTAL'!$D$14:$W$238,20,0)","v":19},{"$f":"VLOOKUP(E40,'LLEGADA PAIS NACIONALIDAD TOTAL'!$D$14:$Z$238,22,0)","v":15},{"$f":"VLOOKUP(E40,'LLEGADA PAIS NACIONALIDAD TOTAL'!$D$14:$AB$238,24,0)","v":23},1652,null,0.14296086489592499]
[null,null,null,28,"NICARAGUA",319,183,291,137,{"$f":"VLOOKUP(E41,'LLEGADA PAIS NACIONALIDAD TOTAL'!$D$14:$AD$238,10,0)","v":90},{"$f":"+VLOOKUP(E41,'LLEGADA PAIS NACIONALIDAD TOTAL'!$D$14:$AD$238,12,0)","v":77},50,{"$f":"VLOOKUP(E41,'LLEGADA PAIS NACIONALIDAD TOTAL'!$D$14:$T$238,16,0)","v":51},44,{"$f":"VLOOKUP(E41,'LLEGADA PAIS NACIONALIDAD TOTAL'!$D$14:$W$238,20,0)","v":76},{"$f":"VLOOKUP(E41,'LLEGADA PAIS NACIONALIDAD TOTAL'!$D$14:$Z$238,22,0)","v":93},{"$f":"VLOOKUP(E41,'LLEGADA PAIS NACIONALIDAD TOTAL'!$D$14:$AB$238,24,0)","v":39},1450,null,0.1254801780260843]
[null,null,null,30,"URUGUAY",49,137,107,167,{"$f":"VLOOKUP(E42,'LLEGADA PAIS NACIONALIDAD TOTAL'!$D$14:$AD$238,10,0)","v":144},{"$f":"+VLOOKUP(E42,'LLEGADA PAIS NACIONALIDAD TOTAL'!$D$14:$AD$238,12,0)","v":56},90,{"$f":"VLOOKUP(E42,'LLEGADA PAIS NACIONALIDAD TOTAL'!$D$14:$T$238,16,0)","v":75},74,{"$f":"VLOOKUP(E42,'LLEGADA PAIS NACIONALIDAD TOTAL'!$D$14:$W$238,20,0)","v":124},{"$f":"VLOOKUP(E42,'LLEGADA PAIS NACIONALIDAD TOTAL'!$D$14:$Z$238,22,0)","v":198},{"$f":"VLOOKUP(E42,'LLEGADA PAIS NACIONALIDAD TOTAL'!$D$14:$AB$238,24,0)","v":104},1325,null,0.11466292129969771]
[null,null,null,31,"ISRAEL",32,62,62,65,{"$f":"VLOOKUP(E43,'LLEGADA PAIS NACIONALIDAD TOTAL'!$D$14:$AD$238,10,0)","v":79},{"$f":"+VLOOKUP(E43,'LLEGADA PAIS NACIONALIDAD TOTAL'!$D$14:$AD$238,12,0)","v":93},82,{"$f":"VLOOKUP(E43,'LLEGADA PAIS NACIONALIDAD TOTAL'!$D$14:$T$238,16,0)","v":39},190,{"$f":"VLOOKUP(E43,'LLEGADA PAIS NACIONALIDAD TOTAL'!$D$14:$W$238,20,0)","v":107},{"$f":"VLOOKUP(E43,'LLEGADA PAIS NACIONALIDAD TOTAL'!$D$14:$Z$238,22,0)","v":49},{"$f":"VLOOKUP(E43,'LLEGADA PAIS NACIONALIDAD TOTAL'!$D$14:$AB$238,24,0)","v":22},882,null,7.6326563461383695E-2]
[null,null,null,32,"PARAGUAY",50,53,63,56,{"$f":"VLOOKUP(E44,'LLEGADA PAIS NACIONALIDAD TOTAL'!$D$14:$AD$238,10,0)","v":97},{"$f":"+VLOOKUP(E44,'LLEGADA PAIS NACIONALIDAD TOTAL'!$D$14:$AD$238,12,0)","v":33},64,{"$f":"VLOOKUP(E44,'LLEGADA PAIS NACIONALIDAD TOTAL'!$D$14:$T$238,16,0)","v":84},95,{"$f":"VLOOKUP(E44,'LLEGADA PAIS NACIONALIDAD TOTAL'!$D$14:$W$238,20,0)","v":69},{"$f":"VLOOKUP(E44,'LLEGADA PAIS NACIONALIDAD TOTAL'!$D$14:$Z$238,22,0)","v":72},{"$f":"VLOOKUP(E44,'LLEGADA PAIS NACIONALIDAD TOTAL'!$D$14:$AB$238,24,0)","v":50},786,null,6.8018910295518792E-2]
[null,null,null,33,"AUSTRALIA",64,106,37,25,{"$f":"VLOOKUP(E45,'LLEGADA PAIS NACIONALIDAD TOTAL'!$D$14:$AD$238,10,0)","v":44},{"$f":"+VLOOKUP(E45,'LLEGADA PAIS NACIONALIDAD TOTAL'!$D$14:$AD$238,12,0)","v":35},147,{"$f":"VLOOKUP(E45,'LLEGADA PAIS NACIONALIDAD TOTAL'!$D$14:$T$238,16,0)","v":60},53,{"$f":"VLOOKUP(E45,'LLEGADA PAIS NACIONALIDAD TOTAL'!$D$14:$W$238,20,0)","v":33},{"$f":"VLOOKUP(E45,'LLEGADA PAIS NACIONALIDAD TOTAL'!$D$14:$Z$238,22,0)","v":46},{"$f":"VLOOKUP(E45,'LLEGADA PAIS NACIONALIDAD TOTAL'!$D$14:$AB$238,24,0)","v":58},708,null,6.1268942098253579E-2]
[null,null,null,34,"HAITI",133,9,125,44,{"$f":"VLOOKUP(E46,'LLEGADA PAIS NACIONALIDAD TOTAL'!$D$14:$AD$238,10,0)","v":42},{"$f":"+VLOOKUP(E46,'LLEGADA PAIS NACIONALIDAD TOTAL'!$D$14:$AD$238,12,0)","v":49},126,{"$f":"VLOOKUP(E46,'LLEGADA PAIS NACIONALIDAD TOTAL'!$D$14:$T$238,16,0)","v":5},19,{"$f":"VLOOKUP(E46,'LLEGADA PAIS NACIONALIDAD TOTAL'!$D$14:$W$238,20,0)","v":27},{"$f":"VLOOKUP(E46,'LLEGADA PAIS NACIONALIDAD TOTAL'!$D$14:$Z$238,22,0)","v":22},{"$f":"VLOOKUP(E46,'LLEGADA PAIS NACIONALIDAD TOTAL'!$D$14:$AB$238,24,0)","v":51},652,null,{"$f":"+R46/R$235*100","v":5.6422811084832387E-2}]
[null,null,null,35,"PUERTO RICO",48,60,51,49,{"$f":"VLOOKUP(E47,'LLEGADA PAIS NACIONALIDAD TOTAL'!$D$14:$AD$238,10,0)","v":36},{"$f":"+VLOOKUP(E47,'LLEGADA PAIS NACIONALIDAD TOTAL'!$D$14:$AD$238,12,0)","v":54},56,{"$f":"VLOOKUP(E47,'LLEGADA PAIS NACIONALIDAD TOTAL'!$D$14:$T$238,16,0)","v":80},34,{"$f":"VLOOKUP(E47,'LLEGADA PAIS NACIONALIDAD TOTAL'!$D$14:$W$238,20,0)","v":63},{"$f":"VLOOKUP(E47,'LLEGADA PAIS NACIONALIDAD TOTAL'!$D$14:$Z$238,22,0)","v":54},{"$f":"VLOOKUP(E47,'LLEGADA PAIS NACIONALIDAD TOTAL'!$D$14:$AB$238,24,0)","v":54},639,null,{"$f":"+R47/R$235*100","v":5.529781638528819E-2}]
[null,null,null,36,"SUECIA",47,45,59,24,{"$f":"VLOOKUP(E48,'LLEGADA PAIS NACIONALIDAD TOTAL'!$D$14:$AD$238,10,0)","v":36},{"$f":"+VLOOKUP(E48,'LLEGADA PAIS NACIONALIDAD TOTAL'!$D$14:$AD$238,12,0)","v":40},58,{"$f":"VLOOKUP(E48,'LLEGADA PAIS NACIONALIDAD TOTAL'!$D$14:$T$238,16,0)","v":75},21,{"$f":"VLOOKUP(E48,'LLEGADA PAIS NACIONALIDAD TOTAL'!$D$14:$W$238,20,0)","v":11},{"$f":"VLOOKUP(E48,'LLEGADA PAIS NACIONALIDAD TOTAL'!$D$14:$Z$238,22,0)","v":23},{"$f":"VLOOKUP(E48,'LLEGADA PAIS NACIONALIDAD TOTAL'!$D$14:$AB$238,24,0)","v":13},452,null,3.9115200322613862E-2]
[null,null,null,38,"EGIPTO",4,47,43,50,{"$f":"VLOOKUP(E49,'LLEGADA PAIS NACIONALIDAD TOTAL'!$D$14:$AD$238,10,0)","v":50},{"$f":"+VLOOKUP(E49,'LLEGADA PAIS NACIONALIDAD TOTAL'!$D$14:$AD$238,12,0)","v":30},70,{"$f":"VLOOKUP(E49,'LLEGADA PAIS NACIONALIDAD TOTAL'!$D$14:$T$238,16,0)","v":39},36,{"$f":"VLOOKUP(E49,'LLEGADA PAIS NACIONALIDAD TOTAL'!$D$14:$W$238,20,0)","v":72},{"$f":"VLOOKUP(E49,'LLEGADA PAIS NACIONALIDAD TOTAL'!$D$14:$Z$238,22,0)","v":6},{"$f":"VLOOKUP(E49,'LLEGADA PAIS NACIONALIDAD TOTAL'!$D$14:$AB$238,24,0)","v":3},450,null,3.8942124214991679E-2]
[null,null,null,37,"BAHAMAS",49,29,11,18,{"$f":"VLOOKUP(E50,'LLEGADA PAIS NACIONALIDAD TOTAL'!$D$14:$AD$238,10,0)","v":25},{"$f":"+VLOOKUP(E50,'LLEGADA PAIS NACIONALIDAD TOTAL'!$D$14:$AD$238,12,0)","v":71},25,{"$f":"VLOOKUP(E50,'LLEGADA PAIS NACIONALIDAD TOTAL'!$D$14:$T$238,16,0)","v":76},35,{"$f":"VLOOKUP(E50,'LLEGADA PAIS NACIONALIDAD TOTAL'!$D$14:$W$238,20,0)","v":30},{"$f":"VLOOKUP(E50,'LLEGADA PAIS NACIONALIDAD TOTAL'!$D$14:$Z$238,22,0)","v":16},{"$f":"VLOOKUP(E50,'LLEGADA PAIS NACIONALIDAD TOTAL'!$D$14:$AB$238,24,0)","v":19},404,null,3.4961373739681424E-2]
[null,null,null,39,"UCRANIA",7,4,4,4,{"$f":"VLOOKUP(E51,'LLEGADA PAIS NACIONALIDAD TOTAL'!$D$14:$AD$238,10,0)","v":10},{"$f":"+VLOOKUP(E51,'LLEGADA PAIS NACIONALIDAD TOTAL'!$D$14:$AD$238,12,0)","v":5},36,{"$f":"VLOOKUP(E51,'LLEGADA PAIS NACIONALIDAD TOTAL'!$D$14:$T$238,16,0)","v":40},38,{"$f":"VLOOKUP(E51,'LLEGADA PAIS NACIONALIDAD TOTAL'!$D$14:$W$238,20,0)","v":131},{"$f":"VLOOKUP(E51,'LLEGADA PAIS NACIONALIDAD TOTAL'!$D$14:$Z$238,22,0)","v":50},{"$f":"VLOOKUP(E51,'LLEGADA PAIS NACIONALIDAD TOTAL'!$D$14:$AB$238,24,0)","v":65},394,null,3.4095993201570488E-2]
[null,null,null,40,"JAPÓN",26,14,25,20,{"$f":"VLOOKUP(E52,'LLEGADA PAIS NACIONALIDAD TOTAL'!$D$14:$AD$238,10,0)","v":30},{"$f":"+VLOOKUP(E52,'LLEGADA PAIS NACIONALIDAD TOTAL'!$D$14:$AD$238,12,0)","v":20},31,{"$f":"VLOOKUP(E52,'LLEGADA PAIS NACIONALIDAD TOTAL'!$D$14:$T$238,16,0)","v":32},35,{"$f":"VLOOKUP(E52,'LLEGADA PAIS NACIONALIDAD TOTAL'!$D$14:$W$238,20,0)","v":54},{"$f":"VLOOKUP(E52,'LLEGADA PAIS NACIONALIDAD TOTAL'!$D$14:$Z$238,22,0)","v":32},{"$f":"VLOOKUP(E52,'LLEGADA PAIS NACIONALIDAD TOTAL'!$D$14:$AB$238,24,0)","v":11},330,null,2.8557557757660567E-2]
[null,null,null,41,"AUSTRIA",25,25,28,17,{"$f":"VLOOKUP(E53,'LLEGADA PAIS NACIONALIDAD TOTAL'!$D$14:$AD$238,10,0)","v":29},{"$f":"+VLOOKUP(E53,'LLEGADA PAIS NACIONALIDAD TOTAL'!$D$14:$AD$238,12,0)","v":16},48,{"$f":"VLOOKUP(E53,'LLEGADA PAIS NACIONALIDAD TOTAL'!$D$14:$T$238,16,0)","v":30},47,{"$f":"VLOOKUP(E53,'LLEGADA PAIS NACIONALIDAD TOTAL'!$D$14:$W$238,20,0)","v":26},{"$f":"VLOOKUP(E53,'LLEGADA PAIS NACIONALIDAD TOTAL'!$D$14:$Z$238,22,0)","v":11},{"$f":"VLOOKUP(E53,'LLEGADA PAIS NACIONALIDAD TOTAL'!$D$14:$AB$238,24,0)","v":19},321,null,2.7778715273360732E-2]
[null,null,null,42,"TURQUÍA",18,14,31,22,{"$f":"VLOOKUP(E54,'LLEGADA PAIS NACIONALIDAD TOTAL'!$D$14:$AD$238,10,0)","v":34},{"$f":"+VLOOKUP(E54,'LLEGADA PAIS NACIONALIDAD TOTAL'!$D$14:$AD$238,12,0)","v":31},27,{"$f":"VLOOKUP(E54,'LLEGADA PAIS NACIONALIDAD TOTAL'!$D$14:$T$238,16,0)","v":36},44,{"$f":"VLOOKUP(E54,'LLEGADA PAIS NACIONALIDAD TOTAL'!$D$14:$W$238,20,0)","v":23},{"$f":"VLOOKUP(E54,'LLEGADA PAIS NACIONALIDAD TOTAL'!$D$14:$Z$238,22,0)","v":13},{"$f":"VLOOKUP(E54,'LLEGADA PAIS NACIONALIDAD TOTAL'!$D$14:$AB$238,24,0)","v":18},311,null,2.6913334735249806E-2]
[null,null,null,43,"EMIRATOS A. UNIDOS",35,24,17,22,{"$f":"VLOOKUP(E55,'LLEGADA PAIS NACIONALIDAD TOTAL'!$D$14:$AD$238,10,0)","v":32},{"$f":"+VLOOKUP(E55,'LLEGADA PAIS NACIONALIDAD TOTAL'!$D$14:$AD$238,12,0)","v":13},17,{"$f":"VLOOKUP(E55,'LLEGADA PAIS NACIONALIDAD TOTAL'!$D$14:$T$238,16,0)","v":13},24,{"$f":"VLOOKUP(E55,'LLEGADA PAIS NACIONALIDAD TOTAL'!$D$14:$W$238,20,0)","v":34},{"$f":"VLOOKUP(E55,'LLEGADA PAIS NACIONALIDAD TOTAL'!$D$14:$Z$238,22,0)","v":20},{"$f":"VLOOKUP(E55,'LLEGADA PAIS NACIONALIDAD TOTAL'!$D$14:$AB$238,24,0)","v":31},282,null,2.4403731174728119E-2]
[null,null,null,44,"INDIA",21,23,30,6,{"$f":"VLOOKUP(E56,'LLEGADA PAIS NACIONALIDAD TOTAL'!$D$14:$AD$238,10,0)","v":14},{"$f":"+VLOOKUP(E56,'LLEGADA PAIS NACIONALIDAD TOTAL'!$D$14:$AD$238,12,0)","v":8},17,{"$f":"VLOOKUP(E56,'LLEGADA PAIS NACIONALIDAD TOTAL'!$D$14:$T$238,16,0)","v":3},23,{"$f":"VLOOKUP(E56,'LLEGADA PAIS NACIONALIDAD TOTAL'!$D$14:$W$238,20,0)","v":26},{"$f":"VLOOKUP(E56,'LLEGADA PAIS NACIONALIDAD TOTAL'!$D$14:$Z$238,22,0)","v":39},{"$f":"VLOOKUP(E56,'LLEGADA PAIS NACIONALIDAD TOTAL'!$D$14:$AB$238,24,0)","v":72},282,null,2.4403731174728119E-2]
[null,null,null,46,"PORTUGAL",19,16,16,33,{"$f":"VLOOKUP(E57,'LLEGADA PAIS NACIONALIDAD TOTAL'!$D$14:$AD$238,10,0)","v":21},{"$f":"+VLOOKUP(E57,'LLEGADA PAIS NACIONALIDAD TOTAL'!$D$14:$AD$238,12,0)","v":15},28,{"$f":"VLOOKUP(E57,'LLEGADA PAIS NACIONALIDAD TOTAL'!$D$14:$T$238,16,0)","v":4},26,{"$f":"VLOOKUP(E57,'LLEGADA PAIS NACIONALIDAD TOTAL'!$D$14:$W$238,20,0)","v":24},{"$f":"VLOOKUP(E57,'LLEGADA PAIS NACIONALIDAD TOTAL'!$D$14:$Z$238,22,0)","v":31},{"$f":"VLOOKUP(E57,'LLEGADA PAIS NACIONALIDAD TOTAL'!$D$14:$AB$238,24,0)","v":15},248,null,2.146143734515097E-2]
[null,null,null,45,"HONG KONG",12,19,16,35,{"$f":"VLOOKUP(E58,'LLEGADA PAIS NACIONALIDAD TOTAL'!$D$14:$AD$238,10,0)","v":16},{"$f":"+VLOOKUP(E58,'LLEGADA PAIS NACIONALIDAD TOTAL'!$D$14:$AD$238,12,0)","v":24},6,{"$f":"VLOOKUP(E58,'LLEGADA PAIS NACIONALIDAD TOTAL'!$D$14:$T$238,16,0)","v":15},9,{"$f":"VLOOKUP(E58,'LLEGADA PAIS NACIONALIDAD TOTAL'!$D$14:$W$238,20,0)","v":48},{"$f":"VLOOKUP(E58,'LLEGADA PAIS NACIONALIDAD TOTAL'!$D$14:$Z$238,22,0)","v":7},{"$f":"VLOOKUP(E58,'LLEGADA PAIS NACIONALIDAD TOTAL'!$D$14:$AB$238,24,0)","v":5},212,null,1.8346067407951635E-2]
[null,null,null,47,"NORUEGA",27,13,7,16,{"$f":"VLOOKUP(E59,'LLEGADA PAIS NACIONALIDAD TOTAL'!$D$14:$AD$238,10,0)","v":5},{"$f":"+VLOOKUP(E59,'LLEGADA PAIS NACIONALIDAD TOTAL'!$D$14:$AD$238,12,0)","v":27},31,{"$f":"VLOOKUP(E59,'LLEGADA PAIS NACIONALIDAD TOTAL'!$D$14:$T$238,16,0)","v":34},11,{"$f":"VLOOKUP(E59,'LLEGADA PAIS NACIONALIDAD TOTAL'!$D$14:$W$238,20,0)","v":6},{"$f":"VLOOKUP(E59,'LLEGADA PAIS NACIONALIDAD TOTAL'!$D$14:$Z$238,22,0)","v":19},{"$f":"VLOOKUP(E59,'LLEGADA PAIS NACIONALIDAD TOTAL'!$D$14:$AB$238,24,0)","v":11},207,null,1.7913377138896174E-2]
[null,null,null,48,"DINAMARCA",15,15,9,15,{"$f":"VLOOKUP(E60,'LLEGADA PAIS NACIONALIDAD TOTAL'!$D$14:$AD$238,10,0)","v":14},{"$f":"+VLOOKUP(E60,'LLEGADA PAIS NACIONALIDAD TOTAL'!$D$14:$AD$238,12,0)","v":14},26,{"$f":"VLOOKUP(E60,'LLEGADA PAIS NACIONALIDAD TOTAL'!$D$14:$T$238,16,0)","v":35},21,{"$f":"VLOOKUP(E60,'LLEGADA PAIS NACIONALIDAD TOTAL'!$D$14:$W$238,20,0)","v":9},{"$f":"VLOOKUP(E60,'LLEGADA PAIS NACIONALIDAD TOTAL'!$D$14:$Z$238,22,0)","v":10},{"$f":"VLOOKUP(E60,'LLEGADA PAIS NACIONALIDAD TOTAL'!$D$14:$AB$238,24,0)","v":11},194,null,1.6788382439351969E-2]
[null,null,null,49,"SAN MARINO",1,0,0,0,{"$f":"VLOOKUP(E61,'LLEGADA PAIS NACIONALIDAD TOTAL'!$D$14:$AD$238,10,0)","v":1},{"$f":"+VLOOKUP(E61,'LLEGADA PAIS NACIONALIDAD TOTAL'!$D$14:$AD$238,12,0)","v":0},7,{"$f":"VLOOKUP(E61,'LLEGADA PAIS NACIONALIDAD TOTAL'!$D$14:$T$238,16,0)","v":136},0,{"$f":"VLOOKUP(E61,'LLEGADA PAIS NACIONALIDAD TOTAL'!$D$14:$W$238,20,0)","v":0},{"$f":"VLOOKUP(E61,'LLEGADA PAIS NACIONALIDAD TOTAL'!$D$14:$Z$238,22,0)","v":1},{"$f":"VLOOKUP(E61,'LLEGADA PAIS NACIONALIDAD TOTAL'!$D$14:$AB$238,24,0)","v":0},146,null,1.2634555856419523E-2]
[null,null,null,50,"TRINIDAD Y TOBAGO",7,11,16,1,{"$f":"VLOOKUP(E62,'LLEGADA PAIS NACIONALIDAD TOTAL'!$D$14:$AD$238,10,0)","v":6},{"$f":"+VLOOKUP(E62,'LLEGADA PAIS NACIONALIDAD TOTAL'!$D$14:$AD$238,12,0)","v":11},17,{"$f":"VLOOKUP(E62,'LLEGADA PAIS NACIONALIDAD TOTAL'!$D$14:$T$238,16,0)","v":25},11,{"$f":"VLOOKUP(E62,'LLEGADA PAIS NACIONALIDAD TOTAL'!$D$14:$W$238,20,0)","v":13},{"$f":"VLOOKUP(E62,'LLEGADA PAIS NACIONALIDAD TOTAL'!$D$14:$Z$238,22,0)","v":13},{"$f":"VLOOKUP(E62,'LLEGADA PAIS NACIONALIDAD TOTAL'!$D$14:$AB$238,24,0)","v":11},142,null,1.2288403641175151E-2]
[null,null,null,55,"POLINESIA FRANCESA",0,0,0,2,{"$f":"VLOOKUP(E63,'LLEGADA PAIS NACIONALIDAD TOTAL'!$D$14:$AD$238,10,0)","v":0},{"$f":"+VLOOKUP(E63,'LLEGADA PAIS NACIONALIDAD TOTAL'!$D$14:$AD$238,12,0)","v":0},0,{"$f":"VLOOKUP(E63,'LLEGADA PAIS NACIONALIDAD TOTAL'!$D$14:$T$238,16,0)","v":134},0,{"$f":"VLOOKUP(E63,'LLEGADA PAIS NACIONALIDAD TOTAL'!$D$14:$W$238,20,0)","v":0},{"$f":"VLOOKUP(E63,'LLEGADA PAIS NACIONALIDAD TOTAL'!$D$14:$Z$238,22,0)","v":0},{"$f":"VLOOKUP(E63,'LLEGADA PAIS NACIONALIDAD TOTAL'!$D$14:$AB$238,24,0)","v":3},139,null,{"$f":"+R63/R$235*100","v":1.2028789479741874E-2}]
[null,null,null,51,"SURINAM",1,0,1,0,{"$f":"VLOOKUP(E64,'LLEGADA PAIS NACIONALIDAD TOTAL'!$D$14:$AD$238,10,0)","v":2},{"$f":"+VLOOKUP(E64,'LLEGADA PAIS NACIONALIDAD TOTAL'!$D$14:$AD$238,12,0)","v":0},1,{"$f":"VLOOKUP(E64,'LLEGADA PAIS NACIONALIDAD TOTAL'!$D$14:$T$238,16,0)","v":19},0,{"$f":"VLOOKUP(E64,'LLEGADA PAIS NACIONALIDAD TOTAL'!$D$14:$W$238,20,0)","v":58},{"$f":"VLOOKUP(E64,'LLEGADA PAIS NACIONALIDAD TOTAL'!$D$14:$Z$238,22,0)","v":54},{"$f":"VLOOKUP(E64,'LLEGADA PAIS NACIONALIDAD TOTAL'!$D$14:$AB$238,24,0)","v":2},138,null,{"$f":"+R64/R$235*100","v":1.1942251425930783E-2}]
[null,null,null,52,"AFRICA SUD OCCIDENTAL",5,15,13,11,{"$f":"VLOOKUP(E65,'LLEGADA PAIS NACIONALIDAD TOTAL'!$D$14:$AD$238,10,0)","v":17},{"$f":"+VLOOKUP(E65,'LLEGADA PAIS NACIONALIDAD TOTAL'!$D$14:$AD$238,12,0)","v":7},9,{"$f":"VLOOKUP(E65,'LLEGADA PAIS NACIONALIDAD TOTAL'!$D$14:$T$238,16,0)","v":19},7,{"$f":"VLOOKUP(E65,'LLEGADA PAIS NACIONALIDAD TOTAL'!$D$14:$W$238,20,0)","v":9},{"$f":"VLOOKUP(E65,'LLEGADA PAIS NACIONALIDAD TOTAL'!$D$14:$Z$238,22,0)","v":20},{"$f":"VLOOKUP(E65,'LLEGADA PAIS NACIONALIDAD TOTAL'!$D$14:$AB$238,24,0)","v":5},137,null,1.1855713372119688E-2]
[null,null,null,53,"SUDÁFRICA",5,15,13,11,{"$f":"VLOOKUP(E66,'LLEGADA PAIS NACIONALIDAD TOTAL'!$D$14:$AD$238,10,0)","v":17},{"$f":"+VLOOKUP(E66,'LLEGADA PAIS NACIONALIDAD TOTAL'!$D$14:$AD$238,12,0)","v":7},9,{"$f":"VLOOKUP(E66,'LLEGADA PAIS NACIONALIDAD TOTAL'!$D$14:$T$238,16,0)","v":19},7,{"$f":"VLOOKUP(E66,'LLEGADA PAIS NACIONALIDAD TOTAL'!$D$14:$W$238,20,0)","v":9},{"$f":"VLOOKUP(E66,'LLEGADA PAIS NACIONALIDAD TOTAL'!$D$14:$Z$238,22,0)","v":20},{"$f":"VLOOKUP(E66,'LLEGADA PAIS NACIONALIDAD TOTAL'!$D$14:$AB$238,24,0)","v":5},137,null,1.1855713372119688E-2]
[null,null,null,54,"ARABIA SAUDITA",9,11,5,4,{"$f":"VLOOKUP(E67,'LLEGADA PAIS NACIONALIDAD TOTAL'!$D$14:$AD$238,10,0)","v":1},{"$f":"+VLOOKUP(E67,'LLEGADA PAIS NACIONALIDAD TOTAL'!$D$14:$AD$238,12,0)","v":7},8,{"$f":"VLOOKUP(E67,'LLEGADA PAIS NACIONALIDAD TOTAL'!$D$14:$T$238,16,0)","v":7},10,{"$f":"VLOOKUP(E67,'LLEGADA PAIS NACIONALIDAD TOTAL'!$D$14:$W$238,20,0)","v":20},{"$f":"VLOOKUP(E67,'LLEGADA PAIS NACIONALIDAD TOTAL'!$D$14:$Z$238,22,0)","v":16},{"$f":"VLOOKUP(E67,'LLEGADA PAIS NACIONALIDAD TOTAL'!$D$14:$AB$238,24,0)","v":10},108,null,9.3461098115980024E-3]
[null,null,null,58,"TAIWAN-CHINA",4,7,10,6,{"$f":"VLOOKUP(E68,'LLEGADA PAIS NACIONALIDAD TOTAL'!$D$14:$AD$238,10,0)","v":4},{"$f":"+VLOOKUP(E68,'LLEGADA PAIS NACIONALIDAD TOTAL'!$D$14:$AD$238,12,0)","v":6},4,{"$f":"VLOOKUP(E68,'LLEGADA PAIS NACIONALIDAD TOTAL'!$D$14:$T$238,16,0)","v":15},16,{"$f":"VLOOKUP(E68,'LLEGADA PAIS NACIONALIDAD TOTAL'!$D$14:$W$238,20,0)","v":20},{"$f":"VLOOKUP(E68,'LLEGADA PAIS NACIONALIDAD TOTAL'!$D$14:$Z$238,22,0)","v":6},{"$f":"VLOOKUP(E68,'LLEGADA PAIS NACIONALIDAD TOTAL'!$D$14:$AB$238,24,0)","v":5},103,null,8.9134195425425392E-3]
[null,null,null,57,"FINLANDIA",11,4,16,5,{"$f":"VLOOKUP(E69,'LLEGADA PAIS NACIONALIDAD TOTAL'!$D$14:$AD$238,10,0)","v":10},{"$f":"+VLOOKUP(E69,'LLEGADA PAIS NACIONALIDAD TOTAL'!$D$14:$AD$238,12,0)","v":11},7,{"$f":"VLOOKUP(E69,'LLEGADA PAIS NACIONALIDAD TOTAL'!$D$14:$T$238,16,0)","v":11},5,{"$f":"VLOOKUP(E69,'LLEGADA PAIS NACIONALIDAD TOTAL'!$D$14:$W$238,20,0)","v":8},{"$f":"VLOOKUP(E69,'LLEGADA PAIS NACIONALIDAD TOTAL'!$D$14:$Z$238,22,0)","v":12},{"$f":"VLOOKUP(E69,'LLEGADA PAIS NACIONALIDAD TOTAL'!$D$14:$AB$238,24,0)","v":1},101,null,8.740343434920356E-3]
[null,null,null,56,"POLONIA",7,6,2,11,{"$f":"VLOOKUP(E70,'LLEGADA PAIS NACIONALIDAD TOTAL'!$D$14:$AD$238,10,0)","v":7},{"$f":"+VLOOKUP(E70,'LLEGADA PAIS NACIONALIDAD TOTAL'!$D$14:$AD$238,12,0)","v":8},9,{"$f":"VLOOKUP(E70,'LLEGADA PAIS NACIONALIDAD TOTAL'!$D$14:$T$238,16,0)","v":5},14,{"$f":"VLOOKUP(E70,'LLEGADA PAIS NACIONALIDAD TOTAL'!$D$14:$W$238,20,0)","v":3},{"$f":"VLOOKUP(E70,'LLEGADA PAIS NACIONALIDAD TOTAL'!$D$14:$Z$238,22,0)","v":16},{"$f":"VLOOKUP(E70,'LLEGADA PAIS NACIONALIDAD TOTAL'!$D$14:$AB$238,24,0)","v":8},96,null,8.3076531658648912E-3]
[null,null,null,59,"TAILANDIA",4,14,9,5,{"$f":"VLOOKUP(E71,'LLEGADA PAIS NACIONALIDAD TOTAL'!$D$14:$AD$238,10,0)","v":6},{"$f":"+VLOOKUP(E71,'LLEGADA PAIS NACIONALIDAD TOTAL'!$D$14:$AD$238,12,0)","v":8},8,{"$f":"VLOOKUP(E71,'LLEGADA PAIS NACIONALIDAD TOTAL'!$D$14:$T$238,16,0)","v":4},8,{"$f":"VLOOKUP(E71,'LLEGADA PAIS NACIONALIDAD TOTAL'!$D$14:$W$238,20,0)","v":12},{"$f":"VLOOKUP(E71,'LLEGADA PAIS NACIONALIDAD TOTAL'!$D$14:$Z$238,22,0)","v":7},{"$f":"VLOOKUP(E71,'LLEGADA PAIS NACIONALIDAD TOTAL'!$D$14:$AB$238,24,0)","v":2},87,null,7.5288106815650582E-3]
[null,null,null,60,"IRAK",8,3,2,10,{"$f":"VLOOKUP(E72,'LLEGADA PAIS NACIONALIDAD TOTAL'!$D$14:$AD$238,10,0)","v":5},{"$f":"+VLOOKUP(E72,'LLEGADA PAIS NACIONALIDAD TOTAL'!$D$14:$AD$238,12,0)","v":11},8,{"$f":"VLOOKUP(E72,'LLEGADA PAIS NACIONALIDAD TOTAL'!$D$14:$T$238,16,0)","v":12},6,{"$f":"VLOOKUP(E72,'LLEGADA PAIS NACIONALIDAD TOTAL'!$D$14:$W$238,20,0)","v":8},{"$f":"VLOOKUP(E72,'LLEGADA PAIS NACIONALIDAD TOTAL'!$D$14:$Z$238,22,0)","v":8},{"$f":"VLOOKUP(E72,'LLEGADA PAIS NACIONALIDAD TOTAL'!$D$14:$AB$238,24,0)","v":4},85,null,7.3557345739428733E-3]
[null,null,null,62,"GRECIA",5,2,0,11,{"$f":"VLOOKUP(E73,'LLEGADA PAIS NACIONALIDAD TOTAL'!$D$14:$AD$238,10,0)","v":13},{"$f":"+VLOOKUP(E73,'LLEGADA PAIS NACIONALIDAD TOTAL'!$D$14:$AD$238,12,0)","v":7},11,{"$f":"VLOOKUP(E73,'LLEGADA PAIS NACIONALIDAD TOTAL'!$D$14:$T$238,16,0)","v":10},11,{"$f":"VLOOKUP(E73,'LLEGADA PAIS NACIONALIDAD TOTAL'!$D$14:$W$238,20,0)","v":5},{"$f":"VLOOKUP(E73,'LLEGADA PAIS NACIONALIDAD TOTAL'!$D$14:$Z$238,22,0)","v":6},{"$f":"VLOOKUP(E73,'LLEGADA PAIS NACIONALIDAD TOTAL'!$D$14:$AB$238,24,0)","v":1},82,null,7.0961204125095951E-3]
[null,null,null,61,"QATAR",2,2,1,4,{"$f":"VLOOKUP(E74,'LLEGADA PAIS NACIONALIDAD TOTAL'!$D$14:$AD$238,10,0)","v":6},{"$f":"+VLOOKUP(E74,'LLEGADA PAIS NACIONALIDAD TOTAL'!$D$14:$AD$238,12,0)","v":2},4,{"$f":"VLOOKUP(E74,'LLEGADA PAIS NACIONALIDAD TOTAL'!$D$14:$T$238,16,0)","v":5},3,{"$f":"VLOOKUP(E74,'LLEGADA PAIS NACIONALIDAD TOTAL'!$D$14:$W$238,20,0)","v":41},{"$f":"VLOOKUP(E74,'LLEGADA PAIS NACIONALIDAD TOTAL'!$D$14:$Z$238,22,0)","v":0},{"$f":"VLOOKUP(E74,'LLEGADA PAIS NACIONALIDAD TOTAL'!$D$14:$AB$238,24,0)","v":11},81,null,7.0095823586985026E-3]
[null,null,null,63,"SINGAPUR",13,3,2,2,{"$f":"VLOOKUP(E75,'LLEGADA PAIS NACIONALIDAD TOTAL'!$D$14:$AD$238,10,0)","v":4},{"$f":"+VLOOKUP(E75,'LLEGADA PAIS NACIONALIDAD TOTAL'!$D$14:$AD$238,12,0)","v":3},4,{"$f":"VLOOKUP(E75,'LLEGADA PAIS NACIONALIDAD TOTAL'!$D$14:$T$238,16,0)","v":13},8,{"$f":"VLOOKUP(E75,'LLEGADA PAIS NACIONALIDAD TOTAL'!$D$14:$W$238,20,0)","v":11},{"$f":"VLOOKUP(E75,'LLEGADA PAIS NACIONALIDAD TOTAL'!$D$14:$Z$238,22,0)","v":4},{"$f":"VLOOKUP(E75,'LLEGADA PAIS NACIONALIDAD TOTAL'!$D$14:$AB$238,24,0)","v":4},71,null,6.1442018205875755E-3]
[null,null,null,64,"MALASIA",12,4,1,3,{"$f":"VLOOKUP(E76,'LLEGADA PAIS NACIONALIDAD TOTAL'!$D$14:$AD$238,10,0)","v":5},{"$f":"+VLOOKUP(E76,'LLEGADA PAIS NACIONALIDAD TOTAL'!$D$14:$AD$238,12,0)","v":6},1,{"$f":"VLOOKUP(E76,'LLEGADA PAIS NACIONALIDAD TOTAL'!$D$14:$T$238,16,0)","v":16},6,{"$f":"VLOOKUP(E76,'LLEGADA PAIS NACIONALIDAD TOTAL'!$D$14:$W$238,20,0)","v":8},{"$f":"VLOOKUP(E76,'LLEGADA PAIS NACIONALIDAD TOTAL'!$D$14:$Z$238,22,0)","v":5},{"$f":"VLOOKUP(E76,'LLEGADA PAIS NACIONALIDAD TOTAL'!$D$14:$AB$238,24,0)","v":2},69,null,5.9711257129653915E-3]
[null,null,null,65,"ARGELIA",2,25,3,6,{"$f":"VLOOKUP(E77,'LLEGADA PAIS NACIONALIDAD TOTAL'!$D$14:$AD$238,10,0)","v":4},{"$f":"+VLOOKUP(E77,'LLEGADA PAIS NACIONALIDAD TOTAL'!$D$14:$AD$238,12,0)","v":2},4,{"$f":"VLOOKUP(E77,'LLEGADA PAIS NACIONALIDAD TOTAL'!$D$14:$T$238,16,0)","v":3},0,{"$f":"VLOOKUP(E77,'LLEGADA PAIS NACIONALIDAD TOTAL'!$D$14:$W$238,20,0)","v":5},{"$f":"VLOOKUP(E77,'LLEGADA PAIS NACIONALIDAD TOTAL'!$D$14:$Z$238,22,0)","v":9},{"$f":"VLOOKUP(E77,'LLEGADA PAIS NACIONALIDAD TOTAL'!$D$14:$AB$238,24,0)","v":3},66,null,5.7115115515321132E-3]
[null,null,null,67,"IRLANDA",3,5,5,10,{"$f":"VLOOKUP(E78,'LLEGADA PAIS NACIONALIDAD TOTAL'!$D$14:$AD$238,10,0)","v":4},{"$f":"+VLOOKUP(E78,'LLEGADA PAIS NACIONALIDAD TOTAL'!$D$14:$AD$238,12,0)","v":8},8,{"$f":"VLOOKUP(E78,'LLEGADA PAIS NACIONALIDAD TOTAL'!$D$14:$T$238,16,0)","v":6},2,{"$f":"VLOOKUP(E78,'LLEGADA PAIS NACIONALIDAD TOTAL'!$D$14:$W$238,20,0)","v":8},{"$f":"VLOOKUP(E78,'LLEGADA PAIS NACIONALIDAD TOTAL'!$D$14:$Z$238,22,0)","v":2},{"$f":"VLOOKUP(E78,'LLEGADA PAIS NACIONALIDAD TOTAL'!$D$14:$AB$238,24,0)","v":5},66,null,5.7115115515321132E-3]
[null,null,null,68,"NUEVA ZELANDIA",12,4,3,2,{"$f":"VLOOKUP(E79,'LLEGADA PAIS NACIONALIDAD TOTAL'!$D$14:$AD$238,10,0)","v":1},{"$f":"+VLOOKUP(E79,'LLEGADA PAIS NACIONALIDAD TOTAL'!$D$14:$AD$238,12,0)","v":6},10,{"$f":"VLOOKUP(E79,'LLEGADA PAIS NACIONALIDAD TOTAL'!$D$14:$T$238,16,0)","v":7},5,{"$f":"VLOOKUP(E79,'LLEGADA PAIS NACIONALIDAD TOTAL'!$D$14:$W$238,20,0)","v":6},{"$f":"VLOOKUP(E79,'LLEGADA PAIS NACIONALIDAD TOTAL'!$D$14:$Z$238,22,0)","v":7},{"$f":"VLOOKUP(E79,'LLEGADA PAIS NACIONALIDAD TOTAL'!$D$14:$AB$238,24,0)","v":2},65,null,5.6249734977210208E-3]
[null,null,null,66,"INDONESIA",6,1,3,3,{"$f":"VLOOKUP(E80,'LLEGADA PAIS NACIONALIDAD TOTAL'!$D$14:$AD$238,10,0)","v":4},{"$f":"+VLOOKUP(E80,'LLEGADA PAIS NACIONALIDAD TOTAL'!$D$14:$AD$238,12,0)","v":5},7,{"$f":"VLOOKUP(E80,'LLEGADA PAIS NACIONALIDAD TOTAL'!$D$14:$T$238,16,0)","v":8},3,{"$f":"VLOOKUP(E80,'LLEGADA PAIS NACIONALIDAD TOTAL'!$D$14:$W$238,20,0)","v":9},{"$f":"VLOOKUP(E80,'LLEGADA PAIS NACIONALIDAD TOTAL'!$D$14:$Z$238,22,0)","v":11},{"$f":"VLOOKUP(E80,'LLEGADA PAIS NACIONALIDAD TOTAL'!$D$14:$AB$238,24,0)","v":1},61,null,5.2788212824766501E-3]
[null,null,null,69,"KIRIBATI",6,2,3,1,{"$f":"VLOOKUP(E81,'LLEGADA PAIS NACIONALIDAD TOTAL'!$D$14:$AD$238,10,0)","v":21},{"$f":"+VLOOKUP(E81,'LLEGADA PAIS NACIONALIDAD TOTAL'!$D$14:$AD$238,12,0)","v":9},0,{"$f":"VLOOKUP(E81,'LLEGADA PAIS NACIONALIDAD TOTAL'!$D$14:$T$238,16,0)","v":2},2,{"$f":"VLOOKUP(E81,'LLEGADA PAIS NACIONALIDAD TOTAL'!$D$14:$W$238,20,0)","v":0},{"$f":"VLOOKUP(E81,'LLEGADA PAIS NACIONALIDAD TOTAL'!$D$14:$Z$238,22,0)","v":6},{"$f":"VLOOKUP(E81,'LLEGADA PAIS NACIONALIDAD TOTAL'!$D$14:$AB$238,24,0)","v":6},58,null,5.0192071210433719E-3]
[null,null,null,70,"ESCOCIA",5,2,4,3,{"$f":"VLOOKUP(E82,'LLEGADA PAIS NACIONALIDAD TOTAL'!$D$14:$AD$238,10,0)","v":4},{"$f":"+VLOOKUP(E82,'LLEGADA PAIS NACIONALIDAD TOTAL'!$D$14:$AD$238,12,0)","v":3},6,{"$f":"VLOOKUP(E82,'LLEGADA PAIS NACIONALIDAD TOTAL'!$D$14:$T$238,16,0)","v":3},9,{"$f":"VLOOKUP(E82,'LLEGADA PAIS NACIONALIDAD TOTAL'!$D$14:$W$238,20,0)","v":5},{"$f":"VLOOKUP(E82,'LLEGADA PAIS NACIONALIDAD TOTAL'!$D$14:$Z$238,22,0)","v":4},{"$f":"VLOOKUP(E82,'LLEGADA PAIS NACIONALIDAD TOTAL'!$D$14:$AB$238,24,0)","v":9},{"$f":"SUM(F82:Q82)","v":57},null,4.9326690672322794E-3]
[null,null,null,73,"CHECOSLOVAQUIA",1,4,1,2,{"$f":"VLOOKUP(E83,'LLEGADA PAIS NACIONALIDAD TOTAL'!$D$14:$AD$238,10,0)","v":8},{"$f":"+VLOOKUP(E83,'LLEGADA PAIS NACIONALIDAD TOTAL'!$D$14:$AD$238,12,0)","v":2},2,{"$f":"VLOOKUP(E83,'LLEGADA PAIS NACIONALIDAD TOTAL'!$D$14:$T$238,16,0)","v":9},14,{"$f":"VLOOKUP(E83,'LLEGADA PAIS NACIONALIDAD TOTAL'!$D$14:$W$238,20,0)","v":2},{"$f":"VLOOKUP(E83,'LLEGADA PAIS NACIONALIDAD TOTAL'!$D$14:$Z$238,22,0)","v":7},{"$f":"VLOOKUP(E83,'LLEGADA PAIS NACIONALIDAD TOTAL'!$D$14:$AB$238,24,0)","v":0},52,null,4.4999787981768163E-3]
[null,null,null,71,"FILIPINAS",2,3,2,5,{"$f":"VLOOKUP(E84,'LLEGADA PAIS NACIONALIDAD TOTAL'!$D$14:$AD$238,10,0)","v":2},{"$f":"+VLOOKUP(E84,'LLEGADA PAIS NACIONALIDAD TOTAL'!$D$14:$AD$238,12,0)","v":5},9,{"$f":"VLOOKUP(E84,'LLEGADA PAIS NACIONALIDAD TOTAL'!$D$14:$T$238,16,0)","v":11},6,{"$f":"VLOOKUP(E84,'LLEGADA PAIS NACIONALIDAD TOTAL'!$D$14:$W$238,20,0)","v":1},{"$f":"VLOOKUP(E84,'LLEGADA PAIS NACIONALIDAD TOTAL'!$D$14:$Z$238,22,0)","v":4},{"$f":"VLOOKUP(E84,'LLEGADA PAIS NACIONALIDAD TOTAL'!$D$14:$AB$238,24,0)","v":0},50,null,4.3269026905546305E-3]
[null,null,null,72,"BIELORUS",2,5,1,1,{"$f":"VLOOKUP(E85,'LLEGADA PAIS NACIONALIDAD TOTAL'!$D$14:$AD$238,10,0)","v":0},{"$f":"+VLOOKUP(E85,'LLEGADA PAIS NACIONALIDAD TOTAL'!$D$14:$AD$238,12,0)","v":0},3,{"$f":"VLOOKUP(E85,'LLEGADA PAIS NACIONALIDAD TOTAL'!$D$14:$T$238,16,0)","v":2},7,{"$f":"VLOOKUP(E85,'LLEGADA PAIS NACIONALIDAD TOTAL'!$D$14:$W$238,20,0)","v":20},{"$f":"VLOOKUP(E85,'LLEGADA PAIS NACIONALIDAD TOTAL'!$D$14:$Z$238,22,0)","v":1},{"$f":"VLOOKUP(E85,'LLEGADA PAIS NACIONALIDAD TOTAL'!$D$14:$AB$238,24,0)","v":3},45,null,3.8942124214991682E-3]
[null,null,null,75,"RUMANIA",0,1,2,1,{"$f":"VLOOKUP(E86,'LLEGADA PAIS NACIONALIDAD TOTAL'!$D$14:$AD$238,10,0)","v":8},{"$f":"+VLOOKUP(E86,'LLEGADA PAIS NACIONALIDAD TOTAL'!$D$14:$AD$238,12,0)","v":5},8,{"$f":"VLOOKUP(E86,'LLEGADA PAIS NACIONALIDAD TOTAL'!$D$14:$T$238,16,0)","v":4},5,{"$f":"VLOOKUP(E86,'LLEGADA PAIS NACIONALIDAD TOTAL'!$D$14:$W$238,20,0)","v":5},{"$f":"VLOOKUP(E86,'LLEGADA PAIS NACIONALIDAD TOTAL'!$D$14:$Z$238,22,0)","v":1},{"$f":"VLOOKUP(E86,'LLEGADA PAIS NACIONALIDAD TOTAL'!$D$14:$AB$238,24,0)","v":4},44,null,{"$f":"+R86/R$235*100","v":3.8076743676880749E-3}]
[null,null,null,76,"HUNGRÍA",0,3,1,8,{"$f":"VLOOKUP(E87,'LLEGADA PAIS NACIONALIDAD TOTAL'!$D$14:$AD$238,10,0)","v":6},{"$f":"+VLOOKUP(E87,'LLEGADA PAIS NACIONALIDAD TOTAL'!$D$14:$AD$238,12,0)","v":1},9,{"$f":"VLOOKUP(E87,'LLEGADA PAIS NACIONALIDAD TOTAL'!$D$14:$T$238,16,0)","v":1},7,{"$f":"VLOOKUP(E87,'LLEGADA PAIS NACIONALIDAD TOTAL'!$D$14:$W$238,20,0)","v":2},{"$f":"VLOOKUP(E87,'LLEGADA PAIS NACIONALIDAD TOTAL'!$D$14:$Z$238,22,0)","v":2},{"$f":"VLOOKUP(E87,'LLEGADA PAIS NACIONALIDAD TOTAL'!$D$14:$AB$238,24,0)","v":4},44,null,{"$f":"+R87/R$235*100","v":3.8076743676880749E-3}]
[null,null,null,77,"OMAN",13,1,2,1,{"$f":"VLOOKUP(E88,'LLEGADA PAIS NACIONALIDAD TOTAL'!$D$14:$AD$238,10,0)","v":2},{"$f":"+VLOOKUP(E88,'LLEGADA PAIS NACIONALIDAD TOTAL'!$D$14:$AD$238,12,0)","v":0},1,{"$f":"VLOOKUP(E88,'LLEGADA PAIS NACIONALIDAD TOTAL'!$D$14:$T$238,16,0)","v":13},3,{"$f":"VLOOKUP(E88,'LLEGADA PAIS NACIONALIDAD TOTAL'!$D$14:$W$238,20,0)","v":2},{"$f":"VLOOKUP(E88,'LLEGADA PAIS NACIONALIDAD TOTAL'!$D$14:$Z$238,22,0)","v":2},{"$f":"VLOOKUP(E88,'LLEGADA PAIS NACIONALIDAD TOTAL'!$D$14:$AB$238,24,0)","v":4},44,null,{"$f":"+R88/R$235*100","v":3.8076743676880749E-3}]
[null,null,null,78,"MARRUECOS",2,1,3,0,{"$f":"VLOOKUP(E89,'LLEGADA PAIS NACIONALIDAD TOTAL'!$D$14:$AD$238,10,0)","v":3},{"$f":"+VLOOKUP(E89,'LLEGADA PAIS NACIONALIDAD TOTAL'!$D$14:$AD$238,12,0)","v":7},0,{"$f":"VLOOKUP(E89,'LLEGADA PAIS NACIONALIDAD TOTAL'!$D$14:$T$238,16,0)","v":1},17,{"$f":"VLOOKUP(E89,'LLEGADA PAIS NACIONALIDAD TOTAL'!$D$14:$W$238,20,0)","v":0},{"$f":"VLOOKUP(E89,'LLEGADA PAIS NACIONALIDAD TOTAL'!$D$14:$Z$238,22,0)","v":9},{"$f":"VLOOKUP(E89,'LLEGADA PAIS NACIONALIDAD TOTAL'!$D$14:$AB$238,24,0)","v":0},43,null,3.7211363138769829E-3]
[null,null,null,74,"LÍBANO",0,1,2,1,{"$f":"VLOOKUP(E90,'LLEGADA PAIS NACIONALIDAD TOTAL'!$D$14:$AD$238,10,0)","v":0},{"$f":"+VLOOKUP(E90,'LLEGADA PAIS NACIONALIDAD TOTAL'!$D$14:$AD$238,12,0)","v":12},1,{"$f":"VLOOKUP(E90,'LLEGADA PAIS NACIONALIDAD TOTAL'!$D$14:$T$238,16,0)","v":16},4,{"$f":"VLOOKUP(E90,'LLEGADA PAIS NACIONALIDAD TOTAL'!$D$14:$W$238,20,0)","v":1},{"$f":"VLOOKUP(E90,'LLEGADA PAIS NACIONALIDAD TOTAL'!$D$14:$Z$238,22,0)","v":0},{"$f":"VLOOKUP(E90,'LLEGADA PAIS NACIONALIDAD TOTAL'!$D$14:$AB$238,24,0)","v":2},40,null,3.4615221524437047E-3]
[null,null,null,79,"ANGOLA",8,1,3,1,{"$f":"VLOOKUP(E91,'LLEGADA PAIS NACIONALIDAD TOTAL'!$D$14:$AD$238,10,0)","v":2},{"$f":"+VLOOKUP(E91,'LLEGADA PAIS NACIONALIDAD TOTAL'!$D$14:$AD$238,12,0)","v":1},5,{"$f":"VLOOKUP(E91,'LLEGADA PAIS NACIONALIDAD TOTAL'!$D$14:$T$238,16,0)","v":7},3,{"$f":"VLOOKUP(E91,'LLEGADA PAIS NACIONALIDAD TOTAL'!$D$14:$W$238,20,0)","v":3},{"$f":"VLOOKUP(E91,'LLEGADA PAIS NACIONALIDAD TOTAL'!$D$14:$Z$238,22,0)","v":2},{"$f":"VLOOKUP(E91,'LLEGADA PAIS NACIONALIDAD TOTAL'!$D$14:$AB$238,24,0)","v":0},36,null,3.1153699371993348E-3]
[null,null,null,80,"BELICE",13,9,7,1,{"$f":"VLOOKUP(E92,'LLEGADA PAIS NACIONALIDAD TOTAL'!$D$14:$AD$238,10,0)","v":0},{"$f":"+VLOOKUP(E92,'LLEGADA PAIS NACIONALIDAD TOTAL'!$D$14:$AD$238,12,0)","v":1},0,{"$f":"VLOOKUP(E92,'LLEGADA PAIS NACIONALIDAD TOTAL'!$D$14:$T$238,16,0)","v":0},0,{"$f":"VLOOKUP(E92,'LLEGADA PAIS NACIONALIDAD TOTAL'!$D$14:$W$238,20,0)","v":1},{"$f":"VLOOKUP(E92,'LLEGADA PAIS NACIONALIDAD TOTAL'!$D$14:$Z$238,22,0)","v":0},{"$f":"VLOOKUP(E92,'LLEGADA PAIS NACIONALIDAD TOTAL'!$D$14:$AB$238,24,0)","v":2},34,null,2.9422938295771491E-3]
[null,null,null,82,"KENIA",2,2,1,2,{"$f":"VLOOKUP(E93,'LLEGADA PAIS NACIONALIDAD TOTAL'!$D$14:$AD$238,10,0)","v":4},{"$f":"+VLOOKUP(E93,'LLEGADA PAIS NACIONALIDAD TOTAL'!$D$14:$AD$238,12,0)","v":3},2,{"$f":"VLOOKUP(E93,'LLEGADA PAIS NACIONALIDAD TOTAL'!$D$14:$T$238,16,0)","v":9},4,{"$f":"VLOOKUP(E93,'LLEGADA PAIS NACIONALIDAD TOTAL'!$D$14:$W$238,20,0)","v":2},{"$f":"VLOOKUP(E93,'LLEGADA PAIS NACIONALIDAD TOTAL'!$D$14:$Z$238,22,0)","v":2},{"$f":"VLOOKUP(E93,'LLEGADA PAIS NACIONALIDAD TOTAL'!$D$14:$AB$238,24,0)","v":0},33,null,2.8557557757660566E-3]
[null,null,null,81,"PAKISTÁN",4,2,2,3,{"$f":"VLOOKUP(E94,'LLEGADA PAIS NACIONALIDAD TOTAL'!$D$14:$AD$238,10,0)","v":1},{"$f":"+VLOOKUP(E94,'LLEGADA PAIS NACIONALIDAD TOTAL'!$D$14:$AD$238,12,0)","v":1},1,{"$f":"VLOOKUP(E94,'LLEGADA PAIS NACIONALIDAD TOTAL'!$D$14:$T$238,16,0)","v":2},4,{"$f":"VLOOKUP(E94,'LLEGADA PAIS NACIONALIDAD TOTAL'!$D$14:$W$238,20,0)","v":7},{"$f":"VLOOKUP(E94,'LLEGADA PAIS NACIONALIDAD TOTAL'!$D$14:$Z$238,22,0)","v":2},{"$f":"VLOOKUP(E94,'LLEGADA PAIS NACIONALIDAD TOTAL'!$D$14:$AB$238,24,0)","v":3},32,null,2.7692177219549637E-3]
[null,null,null,83,"LUXEMBURGO",2,5,3,0,{"$f":"VLOOKUP(E95,'LLEGADA PAIS NACIONALIDAD TOTAL'!$D$14:$AD$238,10,0)","v":0},{"$f":"+VLOOKUP(E95,'LLEGADA PAIS NACIONALIDAD TOTAL'!$D$14:$AD$238,12,0)","v":0},1,{"$f":"VLOOKUP(E95,'LLEGADA PAIS NACIONALIDAD TOTAL'!$D$14:$T$238,16,0)","v":3},6,{"$f":"VLOOKUP(E95,'LLEGADA PAIS NACIONALIDAD TOTAL'!$D$14:$W$238,20,0)","v":4},{"$f":"VLOOKUP(E95,'LLEGADA PAIS NACIONALIDAD TOTAL'!$D$14:$Z$238,22,0)","v":4},{"$f":"VLOOKUP(E95,'LLEGADA PAIS NACIONALIDAD TOTAL'!$D$14:$AB$238,24,0)","v":1},29,null,2.5096035605216859E-3]
[null,null,null,84,"KUWAIT",9,2,0,1,{"$f":"VLOOKUP(E96,'LLEGADA PAIS NACIONALIDAD TOTAL'!$D$14:$AD$238,10,0)","v":1},{"$f":"+VLOOKUP(E96,'LLEGADA PAIS NACIONALIDAD TOTAL'!$D$14:$AD$238,12,0)","v":2},1,{"$f":"VLOOKUP(E96,'LLEGADA PAIS NACIONALIDAD TOTAL'!$D$14:$T$238,16,0)","v":9},0,{"$f":"VLOOKUP(E96,'LLEGADA PAIS NACIONALIDAD TOTAL'!$D$14:$W$238,20,0)","v":1},{"$f":"VLOOKUP(E96,'LLEGADA PAIS NACIONALIDAD TOTAL'!$D$14:$Z$238,22,0)","v":0},{"$f":"VLOOKUP(E96,'LLEGADA PAIS NACIONALIDAD TOTAL'!$D$14:$AB$238,24,0)","v":2},28,null,2.4230655067105935E-3]
[null,null,null,85,"ETIOPIA",1,1,2,0,{"$f":"VLOOKUP(E97,'LLEGADA PAIS NACIONALIDAD TOTAL'!$D$14:$AD$238,10,0)","v":2},{"$f":"+VLOOKUP(E97,'LLEGADA PAIS NACIONALIDAD TOTAL'!$D$14:$AD$238,12,0)","v":0},3,{"$f":"VLOOKUP(E97,'LLEGADA PAIS NACIONALIDAD TOTAL'!$D$14:$T$238,16,0)","v":0},8,{"$f":"VLOOKUP(E97,'LLEGADA PAIS NACIONALIDAD TOTAL'!$D$14:$W$238,20,0)","v":1},{"$f":"VLOOKUP(E97,'LLEGADA PAIS NACIONALIDAD TOTAL'!$D$14:$Z$238,22,0)","v":2},{"$f":"VLOOKUP(E97,'LLEGADA PAIS NACIONALIDAD TOTAL'!$D$14:$AB$238,24,0)","v":2},22,null,1.9038371838440375E-3]
[null,null,null,88,"UZBEKISTAN",0,0,0,21,{"$f":"VLOOKUP(E98,'LLEGADA PAIS NACIONALIDAD TOTAL'!$D$14:$AD$238,10,0)","v":0},{"$f":"+VLOOKUP(E98,'LLEGADA PAIS NACIONALIDAD TOTAL'!$D$14:$AD$238,12,0)","v":0},0,{"$f":"VLOOKUP(E98,'LLEGADA PAIS NACIONALIDAD TOTAL'!$D$14:$T$238,16,0)","v":0},0,{"$f":"VLOOKUP(E98,'LLEGADA PAIS NACIONALIDAD TOTAL'!$D$14:$W$238,20,0)","v":0},{"$f":"VLOOKUP(E98,'LLEGADA PAIS NACIONALIDAD TOTAL'!$D$14:$Z$238,22,0)","v":0},{"$f":"VLOOKUP(E98,'LLEGADA PAIS NACIONALIDAD TOTAL'!$D$14:$AB$238,24,0)","v":0},21,null,1.817299130032945E-3]
[null,null,null,86,"VIETNAM NORTE",5,1,0,0,{"$f":"VLOOKUP(E99,'LLEGADA PAIS NACIONALIDAD TOTAL'!$D$14:$AD$238,10,0)","v":1},{"$f":"+VLOOKUP(E99,'LLEGADA PAIS NACIONALIDAD TOTAL'!$D$14:$AD$238,12,0)","v":3},4,{"$f":"VLOOKUP(E99,'LLEGADA PAIS NACIONALIDAD TOTAL'!$D$14:$T$238,16,0)","v":5},0,{"$f":"VLOOKUP(E99,'LLEGADA PAIS NACIONALIDAD TOTAL'!$D$14:$W$238,20,0)","v":0},{"$f":"VLOOKUP(E99,'LLEGADA PAIS NACIONALIDAD TOTAL'!$D$14:$Z$238,22,0)","v":0},{"$f":"VLOOKUP(E99,'LLEGADA PAIS NACIONALIDAD TOTAL'!$D$14:$AB$238,24,0)","v":2},21,null,1.817299130032945E-3]
[null,null,null,89,"VIETNAM SUR",5,1,0,0,{"$f":"VLOOKUP(E100,'LLEGADA PAIS NACIONALIDAD TOTAL'!$D$14:$AD$238,10,0)","v":1},{"$f":"+VLOOKUP(E100,'LLEGADA PAIS NACIONALIDAD TOTAL'!$D$14:$AD$238,12,0)","v":3},4,{"$f":"VLOOKUP(E100,'LLEGADA PAIS NACIONALIDAD TOTAL'!$D$14:$T$238,16,0)","v":5},0,{"$f":"VLOOKUP(E100,'LLEGADA PAIS NACIONALIDAD TOTAL'!$D$14:$W$238,20,0)","v":0},{"$f":"VLOOKUP(E100,'LLEGADA PAIS NACIONALIDAD TOTAL'!$D$14:$Z$238,22,0)","v":0},{"$f":"VLOOKUP(E100,'LLEGADA PAIS NACIONALIDAD TOTAL'!$D$14:$AB$238,24,0)","v":2},21,null,1.817299130032945E-3]
[null,null,null,90,"CROACIA",1,0,5,2,{"$f":"VLOOKUP(E101,'LLEGADA PAIS NACIONALIDAD TOTAL'!$D$14:$AD$238,10,0)","v":1},{"$f":"+VLOOKUP(E101,'LLEGADA PAIS NACIONALIDAD TOTAL'!$D$14:$AD$238,12,0)","v":1},3,{"$f":"VLOOKUP(E101,'LLEGADA PAIS NACIONALIDAD TOTAL'!$D$14:$T$238,16,0)","v":1},2,{"$f":"VLOOKUP(E101,'LLEGADA PAIS NACIONALIDAD TOTAL'!$D$14:$W$238,20,0)","v":0},{"$f":"VLOOKUP(E101,'LLEGADA PAIS NACIONALIDAD TOTAL'!$D$14:$Z$238,22,0)","v":0},{"$f":"VLOOKUP(E101,'LLEGADA PAIS NACIONALIDAD TOTAL'!$D$14:$AB$238,24,0)","v":5},21,null,1.817299130032945E-3]
[null,null,null,93,"GUINEA",7,0,2,2,{"$f":"VLOOKUP(E102,'LLEGADA PAIS NACIONALIDAD TOTAL'!$D$14:$AD$238,10,0)","v":2},{"$f":"+VLOOKUP(E102,'LLEGADA PAIS NACIONALIDAD TOTAL'!$D$14:$AD$238,12,0)","v":0},0,{"$f":"VLOOKUP(E102,'LLEGADA PAIS NACIONALIDAD TOTAL'!$D$14:$T$238,16,0)","v":2},1,{"$f":"VLOOKUP(E102,'LLEGADA PAIS NACIONALIDAD TOTAL'!$D$14:$W$238,20,0)","v":3},{"$f":"VLOOKUP(E102,'LLEGADA PAIS NACIONALIDAD TOTAL'!$D$14:$Z$238,22,0)","v":1},{"$f":"VLOOKUP(E102,'LLEGADA PAIS NACIONALIDAD TOTAL'!$D$14:$AB$238,24,0)","v":0},20,null,1.7307610762218523E-3]
[null,null,null,87,"MALTA",1,2,2,1,{"$f":"VLOOKUP(E103,'LLEGADA PAIS NACIONALIDAD TOTAL'!$D$14:$AD$238,10,0)","v":0},{"$f":"+VLOOKUP(E103,'LLEGADA PAIS NACIONALIDAD TOTAL'!$D$14:$AD$238,12,0)","v":1},2,{"$f":"VLOOKUP(E103,'LLEGADA PAIS NACIONALIDAD TOTAL'!$D$14:$T$238,16,0)","v":1},7,{"$f":"VLOOKUP(E103,'LLEGADA PAIS NACIONALIDAD TOTAL'!$D$14:$W$238,20,0)","v":0},{"$f":"VLOOKUP(E103,'LLEGADA PAIS NACIONALIDAD TOTAL'!$D$14:$Z$238,22,0)","v":2},{"$f":"VLOOKUP(E103,'LLEGADA PAIS NACIONALIDAD TOTAL'!$D$14:$AB$238,24,0)","v":0},19,null,{"$f":"+R103/R$235*100","v":1.6442230224107597E-3}]
[null,null,null,91,"GUYANA",2,0,3,0,{"$f":"VLOOKUP(E104,'LLEGADA PAIS NACIONALIDAD TOTAL'!$D$14:$AD$238,10,0)","v":6},{"$f":"+VLOOKUP(E104,'LLEGADA PAIS NACIONALIDAD TOTAL'!$D$14:$AD$238,12,0)","v":1},2,{"$f":"VLOOKUP(E104,'LLEGADA PAIS NACIONALIDAD TOTAL'!$D$14:$T$238,16,0)","v":1},0,{"$f":"VLOOKUP(E104,'LLEGADA PAIS NACIONALIDAD TOTAL'!$D$14:$W$238,20,0)","v":2},{"$f":"VLOOKUP(E104,'LLEGADA PAIS NACIONALIDAD TOTAL'!$D$14:$Z$238,22,0)","v":0},{"$f":"VLOOKUP(E104,'LLEGADA PAIS NACIONALIDAD TOTAL'!$D$14:$AB$238,24,0)","v":1},18,null,{"$f":"+R104/R$235*100","v":1.5576849685996674E-3}]
[null,null,null,92,"COSTA DE MARFIL",3,4,0,2,{"$f":"VLOOKUP(E105,'LLEGADA PAIS NACIONALIDAD TOTAL'!$D$14:$AD$238,10,0)","v":1},{"$f":"+VLOOKUP(E105,'LLEGADA PAIS NACIONALIDAD TOTAL'!$D$14:$AD$238,12,0)","v":0},1,{"$f":"VLOOKUP(E105,'LLEGADA PAIS NACIONALIDAD TOTAL'!$D$14:$T$238,16,0)","v":2},1,{"$f":"VLOOKUP(E105,'LLEGADA PAIS NACIONALIDAD TOTAL'!$D$14:$W$238,20,0)","v":1},{"$f":"VLOOKUP(E105,'LLEGADA PAIS NACIONALIDAD TOTAL'!$D$14:$Z$238,22,0)","v":0},{"$f":"VLOOKUP(E105,'LLEGADA PAIS NACIONALIDAD TOTAL'!$D$14:$AB$238,24,0)","v":1},16,null,1.3846088609774819E-3]
[null,null,null,94,"JORDANIA",2,1,1,1,{"$f":"VLOOKUP(E106,'LLEGADA PAIS NACIONALIDAD TOTAL'!$D$14:$AD$238,10,0)","v":1},{"$f":"+VLOOKUP(E106,'LLEGADA PAIS NACIONALIDAD TOTAL'!$D$14:$AD$238,12,0)","v":0},2,{"$f":"VLOOKUP(E106,'LLEGADA PAIS NACIONALIDAD TOTAL'!$D$14:$T$238,16,0)","v":1},3,{"$f":"VLOOKUP(E106,'LLEGADA PAIS NACIONALIDAD TOTAL'!$D$14:$W$238,20,0)","v":3},{"$f":"VLOOKUP(E106,'LLEGADA PAIS NACIONALIDAD TOTAL'!$D$14:$Z$238,22,0)","v":0},{"$f":"VLOOKUP(E106,'LLEGADA PAIS NACIONALIDAD TOTAL'!$D$14:$AB$238,24,0)","v":0},15,null,1.2980708071663892E-3]
[null,null,null,95,"ESTONIA",0,0,0,1,{"$f":"VLOOKUP(E107,'LLEGADA PAIS NACIONALIDAD TOTAL'!$D$14:$AD$238,10,0)","v":0},{"$f":"+VLOOKUP(E107,'LLEGADA PAIS NACIONALIDAD TOTAL'!$D$14:$AD$238,12,0)","v":11},0,{"$f":"VLOOKUP(E107,'LLEGADA PAIS NACIONALIDAD TOTAL'!$D$14:$T$238,16,0)","v":1},1,{"$f":"VLOOKUP(E107,'LLEGADA PAIS NACIONALIDAD TOTAL'!$D$14:$W$238,20,0)","v":0},{"$f":"VLOOKUP(E107,'LLEGADA PAIS NACIONALIDAD TOTAL'!$D$14:$Z$238,22,0)","v":0},{"$f":"VLOOKUP(E107,'LLEGADA PAIS NACIONALIDAD TOTAL'!$D$14:$AB$238,24,0)","v":0},14,null,1.2115327533552967E-3]
[null,null,null,96,"BERMUDAS",1,1,3,1,{"$f":"VLOOKUP(E108,'LLEGADA PAIS NACIONALIDAD TOTAL'!$D$14:$AD$238,10,0)","v":0},{"$f":"+VLOOKUP(E108,'LLEGADA PAIS NACIONALIDAD TOTAL'!$D$14:$AD$238,12,0)","v":0},0,{"$f":"VLOOKUP(E108,'LLEGADA PAIS NACIONALIDAD TOTAL'!$D$14:$T$238,16,0)","v":3},3,{"$f":"VLOOKUP(E108,'LLEGADA PAIS NACIONALIDAD TOTAL'!$D$14:$W$238,20,0)","v":1},{"$f":"VLOOKUP(E108,'LLEGADA PAIS NACIONALIDAD TOTAL'!$D$14:$Z$238,22,0)","v":0},{"$f":"VLOOKUP(E108,'LLEGADA PAIS NACIONALIDAD TOTAL'!$D$14:$AB$238,24,0)","v":1},14,null,1.2115327533552967E-3]
[null,null,null,97,"ESLOVENIA",1,1,1,0,{"$f":"VLOOKUP(E109,'LLEGADA PAIS NACIONALIDAD TOTAL'!$D$14:$AD$238,10,0)","v":0},{"$f":"+VLOOKUP(E109,'LLEGADA PAIS NACIONALIDAD TOTAL'!$D$14:$AD$238,12,0)","v":1},1,{"$f":"VLOOKUP(E109,'LLEGADA PAIS NACIONALIDAD TOTAL'!$D$14:$T$238,16,0)","v":0},0,{"$f":"VLOOKUP(E109,'LLEGADA PAIS NACIONALIDAD TOTAL'!$D$14:$W$238,20,0)","v":7},{"$f":"VLOOKUP(E109,'LLEGADA PAIS NACIONALIDAD TOTAL'!$D$14:$Z$238,22,0)","v":0},{"$f":"VLOOKUP(E109,'LLEGADA PAIS NACIONALIDAD TOTAL'!$D$14:$AB$238,24,0)","v":0},12,null,1.0384566457331114E-3]
[null,null,null,98,"SAMOA OCCIDENTAL",0,1,2,0,{"$f":"VLOOKUP(E110,'LLEGADA PAIS NACIONALIDAD TOTAL'!$D$14:$AD$238,10,0)","v":0},{"$f":"+VLOOKUP(E110,'LLEGADA PAIS NACIONALIDAD TOTAL'!$D$14:$AD$238,12,0)","v":0},6,{"$f":"VLOOKUP(E110,'LLEGADA PAIS NACIONALIDAD TOTAL'!$D$14:$T$238,16,0)","v":0},0,{"$f":"VLOOKUP(E110,'LLEGADA PAIS NACIONALIDAD TOTAL'!$D$14:$W$238,20,0)","v":1},{"$f":"VLOOKUP(E110,'LLEGADA PAIS NACIONALIDAD TOTAL'!$D$14:$Z$238,22,0)","v":0},{"$f":"VLOOKUP(E110,'LLEGADA PAIS NACIONALIDAD TOTAL'!$D$14:$AB$238,24,0)","v":1},11,null,9.5191859192201873E-4]
[null,null,null,99,"KAZAJSTAN",2,1,2,2,{"$f":"VLOOKUP(E111,'LLEGADA PAIS NACIONALIDAD TOTAL'!$D$14:$AD$238,10,0)","v":0},{"$f":"+VLOOKUP(E111,'LLEGADA PAIS NACIONALIDAD TOTAL'!$D$14:$AD$238,12,0)","v":0},1,{"$f":"VLOOKUP(E111,'LLEGADA PAIS NACIONALIDAD TOTAL'!$D$14:$T$238,16,0)","v":0},1,{"$f":"VLOOKUP(E111,'LLEGADA PAIS NACIONALIDAD TOTAL'!$D$14:$W$238,20,0)","v":1},{"$f":"VLOOKUP(E111,'LLEGADA PAIS NACIONALIDAD TOTAL'!$D$14:$Z$238,22,0)","v":0},{"$f":"VLOOKUP(E111,'LLEGADA PAIS NACIONALIDAD TOTAL'!$D$14:$AB$238,24,0)","v":0},10,null,8.6538053811092616E-4]
[null,null,null,100,"ANDORRA",2,2,0,1,{"$f":"VLOOKUP(E112,'LLEGADA PAIS NACIONALIDAD TOTAL'!$D$14:$AD$238,10,0)","v":0},{"$f":"+VLOOKUP(E112,'LLEGADA PAIS NACIONALIDAD TOTAL'!$D$14:$AD$238,12,0)","v":0},0,{"$f":"VLOOKUP(E112,'LLEGADA PAIS NACIONALIDAD TOTAL'!$D$14:$T$238,16,0)","v":0},0,{"$f":"VLOOKUP(E112,'LLEGADA PAIS NACIONALIDAD TOTAL'!$D$14:$W$238,20,0)","v":1},{"$f":"VLOOKUP(E112,'LLEGADA PAIS NACIONALIDAD TOTAL'!$D$14:$Z$238,22,0)","v":4},{"$f":"VLOOKUP(E112,'LLEGADA PAIS NACIONALIDAD TOTAL'!$D$14:$AB$238,24,0)","v":0},10,null,8.6538053811092616E-4]
[null,null,null,101,"TÚNEZ",1,1,3,1,{"$f":"VLOOKUP(E113,'LLEGADA PAIS NACIONALIDAD TOTAL'!$D$14:$AD$238,10,0)","v":0},{"$f":"+VLOOKUP(E113,'LLEGADA PAIS NACIONALIDAD TOTAL'!$D$14:$AD$238,12,0)","v":0},0,{"$f":"VLOOKUP(E113,'LLEGADA PAIS NACIONALIDAD TOTAL'!$D$14:$T$238,16,0)","v":1},0,{"$f":"VLOOKUP(E113,'LLEGADA PAIS NACIONALIDAD TOTAL'!$D$14:$W$238,20,0)","v":0},{"$f":"VLOOKUP(E113,'LLEGADA PAIS NACIONALIDAD TOTAL'!$D$14:$Z$238,22,0)","v":2},{"$f":"VLOOKUP(E113,'LLEGADA PAIS NACIONALIDAD TOTAL'!$D$14:$AB$238,24,0)","v":0},9,null,7.7884248429983371E-4]
[null,null,null,102,"GABON",2,0,0,2,{"$f":"VLOOKUP(E114,'LLEGADA PAIS NACIONALIDAD TOTAL'!$D$14:$AD$238,10,0)","v":0},{"$f":"+VLOOKUP(E114,'LLEGADA PAIS NACIONALIDAD TOTAL'!$D$14:$AD$238,12,0)","v":0},1,{"$f":"VLOOKUP(E114,'LLEGADA PAIS NACIONALIDAD TOTAL'!$D$14:$T$238,16,0)","v":0},2,{"$f":"VLOOKUP(E114,'LLEGADA PAIS NACIONALIDAD TOTAL'!$D$14:$W$238,20,0)","v":0},{"$f":"VLOOKUP(E114,'LLEGADA PAIS NACIONALIDAD TOTAL'!$D$14:$Z$238,22,0)","v":2},{"$f":"VLOOKUP(E114,'LLEGADA PAIS NACIONALIDAD TOTAL'!$D$14:$AB$238,24,0)","v":0},9,null,7.7884248429983371E-4]
[null,null,null,103,"LIBIA",2,0,1,1,{"$f":"VLOOKUP(E115,'LLEGADA PAIS NACIONALIDAD TOTAL'!$D$14:$AD$238,10,0)","v":3},{"$f":"+VLOOKUP(E115,'LLEGADA PAIS NACIONALIDAD TOTAL'!$D$14:$AD$238,12,0)","v":0},0,{"$f":"VLOOKUP(E115,'LLEGADA PAIS NACIONALIDAD TOTAL'!$D$14:$T$238,16,0)","v":0},0,{"$f":"VLOOKUP(E115,'LLEGADA PAIS NACIONALIDAD TOTAL'!$D$14:$W$238,20,0)","v":1},{"$f":"VLOOKUP(E115,'LLEGADA PAIS NACIONALIDAD TOTAL'!$D$14:$Z$238,22,0)","v":0},{"$f":"VLOOKUP(E115,'LLEGADA PAIS NACIONALIDAD TOTAL'!$D$14:$AB$238,24,0)","v":0},8,null,6.9230443048874093E-4]
[null,null,null,104,"AFGANISTAN",1,0,0,1,{"$f":"VLOOKUP(E116,'LLEGADA PAIS NACIONALIDAD TOTAL'!$D$14:$AD$238,10,0)","v":0},{"$f":"+VLOOKUP(E116,'LLEGADA PAIS NACIONALIDAD TOTAL'!$D$14:$AD$238,12,0)","v":4},0,{"$f":"VLOOKUP(E116,'LLEGADA PAIS NACIONALIDAD TOTAL'!$D$14:$T$238,16,0)","v":1},0,{"$f":"VLOOKUP(E116,'LLEGADA PAIS NACIONALIDAD TOTAL'!$D$14:$W$238,20,0)","v":0},{"$f":"VLOOKUP(E116,'LLEGADA PAIS NACIONALIDAD TOTAL'!$D$14:$Z$238,22,0)","v":1},{"$f":"VLOOKUP(E116,'LLEGADA PAIS NACIONALIDAD TOTAL'!$D$14:$AB$238,24,0)","v":0},8,null,6.9230443048874093E-4]
[null,null,null,105,"BULGARIA",0,0,0,0,{"$f":"VLOOKUP(E117,'LLEGADA PAIS NACIONALIDAD TOTAL'!$D$14:$AD$238,10,0)","v":2},{"$f":"+VLOOKUP(E117,'LLEGADA PAIS NACIONALIDAD TOTAL'!$D$14:$AD$238,12,0)","v":0},3,{"$f":"VLOOKUP(E117,'LLEGADA PAIS NACIONALIDAD TOTAL'!$D$14:$T$238,16,0)","v":0},0,{"$f":"VLOOKUP(E117,'LLEGADA PAIS NACIONALIDAD TOTAL'!$D$14:$W$238,20,0)","v":1},{"$f":"VLOOKUP(E117,'LLEGADA PAIS NACIONALIDAD TOTAL'!$D$14:$Z$238,22,0)","v":1},{"$f":"VLOOKUP(E117,'LLEGADA PAIS NACIONALIDAD TOTAL'!$D$14:$AB$238,24,0)","v":1},8,null,6.9230443048874093E-4]
[null,null,null,110,"GUADALUPE",2,5,0,0,{"$f":"VLOOKUP(E118,'LLEGADA PAIS NACIONALIDAD TOTAL'!$D$14:$AD$238,10,0)","v":0},{"$f":"+VLOOKUP(E118,'LLEGADA PAIS NACIONALIDAD TOTAL'!$D$14:$AD$238,12,0)","v":0},0,{"$f":"VLOOKUP(E118,'LLEGADA PAIS NACIONALIDAD TOTAL'!$D$14:$T$238,16,0)","v":0},0,{"$f":"VLOOKUP(E118,'LLEGADA PAIS NACIONALIDAD TOTAL'!$D$14:$W$238,20,0)","v":0},{"$f":"VLOOKUP(E118,'LLEGADA PAIS NACIONALIDAD TOTAL'!$D$14:$Z$238,22,0)","v":0},{"$f":"VLOOKUP(E118,'LLEGADA PAIS NACIONALIDAD TOTAL'!$D$14:$AB$238,24,0)","v":0},7,null,6.0576637667764837E-4]
[null,null,null,106,"BARBADOS",0,5,0,0,{"$f":"VLOOKUP(E119,'LLEGADA PAIS NACIONALIDAD TOTAL'!$D$14:$AD$238,10,0)","v":0},{"$f":"+VLOOKUP(E119,'LLEGADA PAIS NACIONALIDAD TOTAL'!$D$14:$AD$238,12,0)","v":1},0,{"$f":"VLOOKUP(E119,'LLEGADA PAIS NACIONALIDAD TOTAL'!$D$14:$T$238,16,0)","v":0},1,{"$f":"VLOOKUP(E119,'LLEGADA PAIS NACIONALIDAD TOTAL'!$D$14:$W$238,20,0)","v":0},{"$f":"VLOOKUP(E119,'LLEGADA PAIS NACIONALIDAD TOTAL'!$D$14:$Z$238,22,0)","v":0},{"$f":"VLOOKUP(E119,'LLEGADA PAIS NACIONALIDAD TOTAL'!$D$14:$AB$238,24,0)","v":0},7,null,6.0576637667764837E-4]
[null,null,null,107,"GUINEA ECUATORIAL",0,1,1,1,{"$f":"VLOOKUP(E120,'LLEGADA PAIS NACIONALIDAD TOTAL'!$D$14:$AD$238,10,0)","v":0},{"$f":"+VLOOKUP(E120,'LLEGADA PAIS NACIONALIDAD TOTAL'!$D$14:$AD$238,12,0)","v":0},2,{"$f":"VLOOKUP(E120,'LLEGADA PAIS NACIONALIDAD TOTAL'!$D$14:$T$238,16,0)","v":0},1,{"$f":"VLOOKUP(E120,'LLEGADA PAIS NACIONALIDAD TOTAL'!$D$14:$W$238,20,0)","v":1},{"$f":"VLOOKUP(E120,'LLEGADA PAIS NACIONALIDAD TOTAL'!$D$14:$Z$238,22,0)","v":0},{"$f":"VLOOKUP(E120,'LLEGADA PAIS NACIONALIDAD TOTAL'!$D$14:$AB$238,24,0)","v":0},7,null,6.0576637667764837E-4]
[null,null,null,108,"MOZAMBIQUE",1,1,1,0,{"$f":"VLOOKUP(E121,'LLEGADA PAIS NACIONALIDAD TOTAL'!$D$14:$AD$238,10,0)","v":0},{"$f":"+VLOOKUP(E121,'LLEGADA PAIS NACIONALIDAD TOTAL'!$D$14:$AD$238,12,0)","v":0},1,{"$f":"VLOOKUP(E121,'LLEGADA PAIS NACIONALIDAD TOTAL'!$D$14:$T$238,16,0)","v":0},2,{"$f":"VLOOKUP(E121,'LLEGADA PAIS NACIONALIDAD TOTAL'!$D$14:$W$238,20,0)","v":0},{"$f":"VLOOKUP(E121,'LLEGADA PAIS NACIONALIDAD TOTAL'!$D$14:$Z$238,22,0)","v":1},{"$f":"VLOOKUP(E121,'LLEGADA PAIS NACIONALIDAD TOTAL'!$D$14:$AB$238,24,0)","v":0},7,null,6.0576637667764837E-4]
[null,null,null,109,"LITUANIA",0,0,1,1,{"$f":"VLOOKUP(E122,'LLEGADA PAIS NACIONALIDAD TOTAL'!$D$14:$AD$238,10,0)","v":0},{"$f":"+VLOOKUP(E122,'LLEGADA PAIS NACIONALIDAD TOTAL'!$D$14:$AD$238,12,0)","v":0},3,{"$f":"VLOOKUP(E122,'LLEGADA PAIS NACIONALIDAD TOTAL'!$D$14:$T$238,16,0)","v":0},0,{"$f":"VLOOKUP(E122,'LLEGADA PAIS NACIONALIDAD TOTAL'!$D$14:$W$238,20,0)","v":0},{"$f":"VLOOKUP(E122,'LLEGADA PAIS NACIONALIDAD TOTAL'!$D$14:$Z$238,22,0)","v":1},{"$f":"VLOOKUP(E122,'LLEGADA PAIS NACIONALIDAD TOTAL'!$D$14:$AB$238,24,0)","v":1},7,null,{"$f":"+R122/R$235*100","v":6.0576637667764837E-4}]
[null,null,null,112,"BANGLADESH",2,0,1,0,{"$f":"VLOOKUP(E123,'LLEGADA PAIS NACIONALIDAD TOTAL'!$D$14:$AD$238,10,0)","v":1},{"$f":"+VLOOKUP(E123,'LLEGADA PAIS NACIONALIDAD TOTAL'!$D$14:$AD$238,12,0)","v":0},1,{"$f":"VLOOKUP(E123,'LLEGADA PAIS NACIONALIDAD TOTAL'!$D$14:$T$238,16,0)","v":0},0,{"$f":"VLOOKUP(E123,'LLEGADA PAIS NACIONALIDAD TOTAL'!$D$14:$W$238,20,0)","v":1},{"$f":"VLOOKUP(E123,'LLEGADA PAIS NACIONALIDAD TOTAL'!$D$14:$Z$238,22,0)","v":0},{"$f":"VLOOKUP(E123,'LLEGADA PAIS NACIONALIDAD TOTAL'!$D$14:$AB$238,24,0)","v":0},6,null,{"$f":"+R123/R$235*100","v":5.192283228665557E-4}]
[null,null,null,111,"DOMINICA",0,0,0,0,{"$f":"VLOOKUP(E124,'LLEGADA PAIS NACIONALIDAD TOTAL'!$D$14:$AD$238,10,0)","v":3},{"$f":"+VLOOKUP(E124,'LLEGADA PAIS NACIONALIDAD TOTAL'!$D$14:$AD$238,12,0)","v":0},0,{"$f":"VLOOKUP(E124,'LLEGADA PAIS NACIONALIDAD TOTAL'!$D$14:$T$238,16,0)","v":1},0,{"$f":"VLOOKUP(E124,'LLEGADA PAIS NACIONALIDAD TOTAL'!$D$14:$W$238,20,0)","v":1},{"$f":"VLOOKUP(E124,'LLEGADA PAIS NACIONALIDAD TOTAL'!$D$14:$Z$238,22,0)","v":1},{"$f":"VLOOKUP(E124,'LLEGADA PAIS NACIONALIDAD TOTAL'!$D$14:$AB$238,24,0)","v":0},6,null,5.192283228665557E-4]
[null,null,null,113,"ISLANDIA",0,0,4,0,{"$f":"VLOOKUP(E125,'LLEGADA PAIS NACIONALIDAD TOTAL'!$D$14:$AD$238,10,0)","v":0},{"$f":"+VLOOKUP(E125,'LLEGADA PAIS NACIONALIDAD TOTAL'!$D$14:$AD$238,12,0)","v":0},0,{"$f":"VLOOKUP(E125,'LLEGADA PAIS NACIONALIDAD TOTAL'!$D$14:$T$238,16,0)","v":0},0,{"$f":"VLOOKUP(E125,'LLEGADA PAIS NACIONALIDAD TOTAL'!$D$14:$W$238,20,0)","v":0},{"$f":"VLOOKUP(E125,'LLEGADA PAIS NACIONALIDAD TOTAL'!$D$14:$Z$238,22,0)","v":0},{"$f":"VLOOKUP(E125,'LLEGADA PAIS NACIONALIDAD TOTAL'!$D$14:$AB$238,24,0)","v":2},6,null,5.192283228665557E-4]
[null,null,null,116,"NIGERIA",0,0,1,2,{"$f":"VLOOKUP(E126,'LLEGADA PAIS NACIONALIDAD TOTAL'!$D$14:$AD$238,10,0)","v":0},{"$f":"+VLOOKUP(E126,'LLEGADA PAIS NACIONALIDAD TOTAL'!$D$14:$AD$238,12,0)","v":0},0,{"$f":"VLOOKUP(E126,'LLEGADA PAIS NACIONALIDAD TOTAL'!$D$14:$T$238,16,0)","v":0},0,{"$f":"VLOOKUP(E126,'LLEGADA PAIS NACIONALIDAD TOTAL'!$D$14:$W$238,20,0)","v":1},{"$f":"VLOOKUP(E126,'LLEGADA PAIS NACIONALIDAD TOTAL'!$D$14:$Z$238,22,0)","v":0},{"$f":"VLOOKUP(E126,'LLEGADA PAIS NACIONALIDAD TOTAL'!$D$14:$AB$238,24,0)","v":2},6,null,5.192283228665557E-4]
[null,null,null,123,"AZERBAIYAN",0,0,3,1,{"$f":"VLOOKUP(E127,'LLEGADA PAIS NACIONALIDAD TOTAL'!$D$14:$AD$238,10,0)","v":0},{"$f":"+VLOOKUP(E127,'LLEGADA PAIS NACIONALIDAD TOTAL'!$D$14:$AD$238,12,0)","v":0},0,{"$f":"VLOOKUP(E127,'LLEGADA PAIS NACIONALIDAD TOTAL'!$D$14:$T$238,16,0)","v":1},0,{"$f":"VLOOKUP(E127,'LLEGADA PAIS NACIONALIDAD TOTAL'!$D$14:$W$238,20,0)","v":0},{"$f":"VLOOKUP(E127,'LLEGADA PAIS NACIONALIDAD TOTAL'!$D$14:$Z$238,22,0)","v":0},{"$f":"VLOOKUP(E127,'LLEGADA PAIS NACIONALIDAD TOTAL'!$D$14:$AB$238,24,0)","v":0},5,null,4.3269026905546308E-4]
[null,null,null,114,"FIJI",0,1,0,1,{"$f":"VLOOKUP(E128,'LLEGADA PAIS NACIONALIDAD TOTAL'!$D$14:$AD$238,10,0)","v":0},{"$f":"+VLOOKUP(E128,'LLEGADA PAIS NACIONALIDAD TOTAL'!$D$14:$AD$238,12,0)","v":0},1,{"$f":"VLOOKUP(E128,'LLEGADA PAIS NACIONALIDAD TOTAL'!$D$14:$T$238,16,0)","v":0},1,{"$f":"VLOOKUP(E128,'LLEGADA PAIS NACIONALIDAD TOTAL'!$D$14:$W$238,20,0)","v":0},{"$f":"VLOOKUP(E128,'LLEGADA PAIS NACIONALIDAD TOTAL'!$D$14:$Z$238,22,0)","v":0},{"$f":"VLOOKUP(E128,'LLEGADA PAIS NACIONALIDAD TOTAL'!$D$14:$AB$238,24,0)","v":1},5,null,4.3269026905546308E-4]
[null,null,null,119,"GAMBIA",0,0,0,4,{"$f":"VLOOKUP(E129,'LLEGADA PAIS NACIONALIDAD TOTAL'!$D$14:$AD$238,10,0)","v":0},{"$f":"+VLOOKUP(E129,'LLEGADA PAIS NACIONALIDAD TOTAL'!$D$14:$AD$238,12,0)","v":0},0,{"$f":"VLOOKUP(E129,'LLEGADA PAIS NACIONALIDAD TOTAL'!$D$14:$T$238,16,0)","v":0},0,{"$f":"VLOOKUP(E129,'LLEGADA PAIS NACIONALIDAD TOTAL'!$D$14:$W$238,20,0)","v":0},{"$f":"VLOOKUP(E129,'LLEGADA PAIS NACIONALIDAD TOTAL'!$D$14:$Z$238,22,0)","v":0},{"$f":"VLOOKUP(E129,'LLEGADA PAIS NACIONALIDAD TOTAL'!$D$14:$AB$238,24,0)","v":0},4,null,3.4615221524437047E-4]
[null,null,null,115,"UGANDA",2,1,0,0,{"$f":"VLOOKUP(E130,'LLEGADA PAIS NACIONALIDAD TOTAL'!$D$14:$AD$238,10,0)","v":0},{"$f":"+VLOOKUP(E130,'LLEGADA PAIS NACIONALIDAD TOTAL'!$D$14:$AD$238,12,0)","v":1},0,{"$f":"VLOOKUP(E130,'LLEGADA PAIS NACIONALIDAD TOTAL'!$D$14:$T$238,16,0)","v":0},0,{"$f":"VLOOKUP(E130,'LLEGADA PAIS NACIONALIDAD TOTAL'!$D$14:$W$238,20,0)","v":0},{"$f":"VLOOKUP(E130,'LLEGADA PAIS NACIONALIDAD TOTAL'!$D$14:$Z$238,22,0)","v":0},{"$f":"VLOOKUP(E130,'LLEGADA PAIS NACIONALIDAD TOTAL'!$D$14:$AB$238,24,0)","v":0},4,null,3.4615221524437047E-4]
[null,null,null,117,"ALBANIA",0,1,1,1,{"$f":"VLOOKUP(E131,'LLEGADA PAIS NACIONALIDAD TOTAL'!$D$14:$AD$238,10,0)","v":0},{"$f":"+VLOOKUP(E131,'LLEGADA PAIS NACIONALIDAD TOTAL'!$D$14:$AD$238,12,0)","v":0},1,{"$f":"VLOOKUP(E131,'LLEGADA PAIS NACIONALIDAD TOTAL'!$D$14:$T$238,16,0)","v":0},0,{"$f":"VLOOKUP(E131,'LLEGADA PAIS NACIONALIDAD TOTAL'!$D$14:$W$238,20,0)","v":0},{"$f":"VLOOKUP(E131,'LLEGADA PAIS NACIONALIDAD TOTAL'!$D$14:$Z$238,22,0)","v":0},{"$f":"VLOOKUP(E131,'LLEGADA PAIS NACIONALIDAD TOTAL'!$D$14:$AB$238,24,0)","v":0},4,null,3.4615221524437047E-4]
[null,null,null,118,"RUSIA",0,0,0,0,{"$f":"VLOOKUP(E132,'LLEGADA PAIS NACIONALIDAD TOTAL'!$D$14:$AD$238,10,0)","v":0},{"$f":"+VLOOKUP(E132,'LLEGADA PAIS NACIONALIDAD TOTAL'!$D$14:$AD$238,12,0)","v":0},3,{"$f":"VLOOKUP(E132,'LLEGADA PAIS NACIONALIDAD TOTAL'!$D$14:$T$238,16,0)","v":1},0,{"$f":"VLOOKUP(E132,'LLEGADA PAIS NACIONALIDAD TOTAL'!$D$14:$W$238,20,0)","v":0},{"$f":"VLOOKUP(E132,'LLEGADA PAIS NACIONALIDAD TOTAL'!$D$14:$Z$238,22,0)","v":0},{"$f":"VLOOKUP(E132,'LLEGADA PAIS NACIONALIDAD TOTAL'!$D$14:$AB$238,24,0)","v":0},4,null,3.4615221524437047E-4]
[null,null,null,120,"SANTA LUCÍA",2,0,0,0,{"$f":"VLOOKUP(E133,'LLEGADA PAIS NACIONALIDAD TOTAL'!$D$14:$AD$238,10,0)","v":0},{"$f":"+VLOOKUP(E133,'LLEGADA PAIS NACIONALIDAD TOTAL'!$D$14:$AD$238,12,0)","v":0},0,{"$f":"VLOOKUP(E133,'LLEGADA PAIS NACIONALIDAD TOTAL'!$D$14:$T$238,16,0)","v":2},0,{"$f":"VLOOKUP(E133,'LLEGADA PAIS NACIONALIDAD TOTAL'!$D$14:$W$238,20,0)","v":0},{"$f":"VLOOKUP(E133,'LLEGADA PAIS NACIONALIDAD TOTAL'!$D$14:$Z$238,22,0)","v":0},{"$f":"VLOOKUP(E133,'LLEGADA PAIS NACIONALIDAD TOTAL'!$D$14:$AB$238,24,0)","v":0},4,null,3.4615221524437047E-4]
[null,null,null,121,"GRANADA",1,0,0,0,{"$f":"VLOOKUP(E134,'LLEGADA PAIS NACIONALIDAD TOTAL'!$D$14:$AD$238,10,0)","v":0},{"$f":"+VLOOKUP(E134,'LLEGADA PAIS NACIONALIDAD TOTAL'!$D$14:$AD$238,12,0)","v":0},1,{"$f":"VLOOKUP(E134,'LLEGADA PAIS NACIONALIDAD TOTAL'!$D$14:$T$238,16,0)","v":2},0,{"$f":"VLOOKUP(E134,'LLEGADA PAIS NACIONALIDAD TOTAL'!$D$14:$W$238,20,0)","v":0},{"$f":"VLOOKUP(E134,'LLEGADA PAIS NACIONALIDAD TOTAL'!$D$14:$Z$238,22,0)","v":0},{"$f":"VLOOKUP(E134,'LLEGADA PAIS NACIONALIDAD TOTAL'!$D$14:$AB$238,24,0)","v":0},4,null,3.4615221524437047E-4]
[null,null,null,122,"CABO VERDE",1,0,0,0,{"$f":"VLOOKUP(E135,'LLEGADA PAIS NACIONALIDAD TOTAL'!$D$14:$AD$238,10,0)","v":0},{"$f":"+VLOOKUP(E135,'LLEGADA PAIS NACIONALIDAD TOTAL'!$D$14:$AD$238,12,0)","v":0},0,{"$f":"VLOOKUP(E135,'LLEGADA PAIS NACIONALIDAD TOTAL'!$D$14:$T$238,16,0)","v":0},0,{"$f":"VLOOKUP(E135,'LLEGADA PAIS NACIONALIDAD TOTAL'!$D$14:$W$238,20,0)","v":3},{"$f":"VLOOKUP(E135,'LLEGADA PAIS NACIONALIDAD TOTAL'!$D$14:$Z$238,22,0)","v":0},{"$f":"VLOOKUP(E135,'LLEGADA PAIS NACIONALIDAD TOTAL'!$D$14:$AB$238,24,0)","v":0},4,null,3.4615221524437047E-4]
[null,null,null,124,"SANTO TOME Y PRINCIPE",0,0,1,0,{"$f":"VLOOKUP(E136,'LLEGADA PAIS NACIONALIDAD TOTAL'!$D$14:$AD$238,10,0)","v":0},{"$f":"+VLOOKUP(E136,'LLEGADA PAIS NACIONALIDAD TOTAL'!$D$14:$AD$238,12,0)","v":0},0,{"$f":"VLOOKUP(E136,'LLEGADA PAIS NACIONALIDAD TOTAL'!$D$14:$T$238,16,0)","v":0},0,{"$f":"VLOOKUP(E136,'LLEGADA PAIS NACIONALIDAD TOTAL'!$D$14:$W$238,20,0)","v":3},{"$f":"VLOOKUP(E136,'LLEGADA PAIS NACIONALIDAD TOTAL'!$D$14:$Z$238,22,0)","v":0},{"$f":"VLOOKUP(E136,'LLEGADA PAIS NACIONALIDAD TOTAL'!$D$14:$AB$238,24,0)","v":0},4,null,3.4615221524437047E-4]
[null,null,null,125,"PAPUA NUEVA GUINEA",0,0,1,0,{"$f":"VLOOKUP(E137,'LLEGADA PAIS NACIONALIDAD TOTAL'!$D$14:$AD$238,10,0)","v":0},{"$f":"+VLOOKUP(E137,'LLEGADA PAIS NACIONALIDAD TOTAL'!$D$14:$AD$238,12,0)","v":0},0,{"$f":"VLOOKUP(E137,'LLEGADA PAIS NACIONALIDAD TOTAL'!$D$14:$T$238,16,0)","v":0},0,{"$f":"VLOOKUP(E137,'LLEGADA PAIS NACIONALIDAD TOTAL'!$D$14:$W$238,20,0)","v":3},{"$f":"VLOOKUP(E137,'LLEGADA PAIS NACIONALIDAD TOTAL'!$D$14:$Z$238,22,0)","v":0},{"$f":"VLOOKUP(E137,'LLEGADA PAIS NACIONALIDAD TOTAL'!$D$14:$AB$238,24,0)","v":0},4,null,3.4615221524437047E-4]
[null,null,null,126,"LIBERIA",1,0,0,0,{"$f":"VLOOKUP(E138,'LLEGADA PAIS NACIONALIDAD TOTAL'!$D$14:$AD$238,10,0)","v":0},{"$f":"+VLOOKUP(E138,'LLEGADA PAIS NACIONALIDAD TOTAL'!$D$14:$AD$238,12,0)","v":0},0,{"$f":"VLOOKUP(E138,'LLEGADA PAIS NACIONALIDAD TOTAL'!$D$14:$T$238,16,0)","v":0},1,{"$f":"VLOOKUP(E138,'LLEGADA PAIS NACIONALIDAD TOTAL'!$D$14:$W$238,20,0)","v":0},{"$f":"VLOOKUP(E138,'LLEGADA PAIS NACIONALIDAD TOTAL'!$D$14:$Z$238,22,0)","v":0},{"$f":"VLOOKUP(E138,'LLEGADA PAIS NACIONALIDAD TOTAL'!$D$14:$AB$238,24,0)","v":2},4,null,3.4615221524437047E-4]
[null,null,null,142,"BRUNEI",0,3,0,0,{"$f":"VLOOKUP(E139,'LLEGADA PAIS NACIONALIDAD TOTAL'!$D$14:$AD$238,10,0)","v":0},{"$f":"+VLOOKUP(E139,'LLEGADA PAIS NACIONALIDAD TOTAL'!$D$14:$AD$238,12,0)","v":0},0,{"$f":"VLOOKUP(E139,'LLEGADA PAIS NACIONALIDAD TOTAL'!$D$14:$T$238,16,0)","v":0},0,{"$f":"VLOOKUP(E139,'LLEGADA PAIS NACIONALIDAD TOTAL'!$D$14:$W$238,20,0)","v":0},{"$f":"VLOOKUP(E139,'LLEGADA PAIS NACIONALIDAD TOTAL'!$D$14:$Z$238,22,0)","v":0},{"$f":"VLOOKUP(E139,'LLEGADA PAIS NACIONALIDAD TOTAL'!$D$14:$AB$238,24,0)","v":0},3,null,2.5961416143327785E-4]
[null,null,null,127,"CAMERUN",0,0,1,0,{"$f":"VLOOKUP(E140,'LLEGADA PAIS NACIONALIDAD TOTAL'!$D$14:$AD$238,10,0)","v":0},{"$f":"+VLOOKUP(E140,'LLEGADA PAIS NACIONALIDAD TOTAL'!$D$14:$AD$238,12,0)","v":1},1,{"$f":"VLOOKUP(E140,'LLEGADA PAIS NACIONALIDAD TOTAL'!$D$14:$T$238,16,0)","v":0},0,{"$f":"VLOOKUP(E140,'LLEGADA PAIS NACIONALIDAD TOTAL'!$D$14:$W$238,20,0)","v":0},{"$f":"VLOOKUP(E140,'LLEGADA PAIS NACIONALIDAD TOTAL'!$D$14:$Z$238,22,0)","v":0},{"$f":"VLOOKUP(E140,'LLEGADA PAIS NACIONALIDAD TOTAL'!$D$14:$AB$238,24,0)","v":0},3,null,2.5961416143327785E-4]
[null,null,null,128,"MÓNACO",0,0,1,0,{"$f":"VLOOKUP(E141,'LLEGADA PAIS NACIONALIDAD TOTAL'!$D$14:$AD$238,10,0)","v":0},{"$f":"+VLOOKUP(E141,'LLEGADA PAIS NACIONALIDAD TOTAL'!$D$14:$AD$238,12,0)","v":0},2,{"$f":"VLOOKUP(E141,'LLEGADA PAIS NACIONALIDAD TOTAL'!$D$14:$T$238,16,0)","v":0},0,{"$f":"VLOOKUP(E141,'LLEGADA PAIS NACIONALIDAD TOTAL'!$D$14:$W$238,20,0)","v":0},{"$f":"VLOOKUP(E141,'LLEGADA PAIS NACIONALIDAD TOTAL'!$D$14:$Z$238,22,0)","v":0},{"$f":"VLOOKUP(E141,'LLEGADA PAIS NACIONALIDAD TOTAL'!$D$14:$AB$238,24,0)","v":0},3,null,2.5961416143327785E-4]
[null,null,null,129,"LIECHTENSTEIN",0,0,0,0,{"$f":"VLOOKUP(E142,'LLEGADA PAIS NACIONALIDAD TOTAL'!$D$14:$AD$238,10,0)","v":1},{"$f":"+VLOOKUP(E142,'LLEGADA PAIS NACIONALIDAD TOTAL'!$D$14:$AD$238,12,0)","v":0},2,{"$f":"VLOOKUP(E142,'LLEGADA PAIS NACIONALIDAD TOTAL'!$D$14:$T$238,16,0)","v":0},0,{"$f":"VLOOKUP(E142,'LLEGADA PAIS NACIONALIDAD TOTAL'!$D$14:$W$238,20,0)","v":0},{"$f":"VLOOKUP(E142,'LLEGADA PAIS NACIONALIDAD TOTAL'!$D$14:$Z$238,22,0)","v":0},{"$f":"VLOOKUP(E142,'LLEGADA PAIS NACIONALIDAD TOTAL'!$D$14:$AB$238,24,0)","v":0},3,null,2.5961416143327785E-4]
[null,null,null,130,"SUDÁN",1,0,0,0,{"$f":"VLOOKUP(E143,'LLEGADA PAIS NACIONALIDAD TOTAL'!$D$14:$AD$238,10,0)","v":0},{"$f":"+VLOOKUP(E143,'LLEGADA PAIS NACIONALIDAD TOTAL'!$D$14:$AD$238,12,0)","v":0},1,{"$f":"VLOOKUP(E143,'LLEGADA PAIS NACIONALIDAD TOTAL'!$D$14:$T$238,16,0)","v":1},0,{"$f":"VLOOKUP(E143,'LLEGADA PAIS NACIONALIDAD TOTAL'!$D$14:$W$238,20,0)","v":0},{"$f":"VLOOKUP(E143,'LLEGADA PAIS NACIONALIDAD TOTAL'!$D$14:$Z$238,22,0)","v":0},{"$f":"VLOOKUP(E143,'LLEGADA PAIS NACIONALIDAD TOTAL'!$D$14:$AB$238,24,0)","v":0},3,null,2.5961416143327785E-4]
[null,null,null,131,"YUGOSLAVIA",0,0,1,0,{"$f":"VLOOKUP(E144,'LLEGADA PAIS NACIONALIDAD TOTAL'!$D$14:$AD$238,10,0)","v":0},{"$f":"+VLOOKUP(E144,'LLEGADA PAIS NACIONALIDAD TOTAL'!$D$14:$AD$238,12,0)","v":0},1,{"$f":"VLOOKUP(E144,'LLEGADA PAIS NACIONALIDAD TOTAL'!$D$14:$T$238,16,0)","v":0},1,{"$f":"VLOOKUP(E144,'LLEGADA PAIS NACIONALIDAD TOTAL'!$D$14:$W$238,20,0)","v":0},{"$f":"VLOOKUP(E144,'LLEGADA PAIS NACIONALIDAD TOTAL'!$D$14:$Z$238,22,0)","v":0},{"$f":"VLOOKUP(E144,'LLEGADA PAIS NACIONALIDAD TOTAL'!$D$14:$AB$238,24,0)","v":0},3,null,2.5961416143327785E-4]
[null,null,null,132,"COREA SUR",0,0,0,0,{"$f":"VLOOKUP(E145,'LLEGADA PAIS NACIONALIDAD TOTAL'!$D$14:$AD$238,10,0)","v":0},{"$f":"+VLOOKUP(E145,'LLEGADA PAIS NACIONALIDAD TOTAL'!$D$14:$AD$238,12,0)","v":0},0,{"$f":"VLOOKUP(E145,'LLEGADA PAIS NACIONALIDAD TOTAL'!$D$14:$T$238,16,0)","v":1},2,{"$f":"VLOOKUP(E145,'LLEGADA PAIS NACIONALIDAD TOTAL'!$D$14:$W$238,20,0)","v":0},{"$f":"VLOOKUP(E145,'LLEGADA PAIS NACIONALIDAD TOTAL'!$D$14:$Z$238,22,0)","v":0},{"$f":"VLOOKUP(E145,'LLEGADA PAIS NACIONALIDAD TOTAL'!$D$14:$AB$238,24,0)","v":0},3,null,{"$f":"+R145/R$235*100","v":2.5961416143327785E-4}]
[null,null,null,133,"MONGOLIA",0,0,0,0,{"$f":"VLOOKUP(E146,'LLEGADA PAIS NACIONALIDAD TOTAL'!$D$14:$AD$238,10,0)","v":0},{"$f":"+VLOOKUP(E146,'LLEGADA PAIS NACIONALIDAD TOTAL'!$D$14:$AD$238,12,0)","v":0},0,{"$f":"VLOOKUP(E146,'LLEGADA PAIS NACIONALIDAD TOTAL'!$D$14:$T$238,16,0)","v":0},0,{"$f":"VLOOKUP(E146,'LLEGADA PAIS NACIONALIDAD TOTAL'!$D$14:$W$238,20,0)","v":3},{"$f":"VLOOKUP(E146,'LLEGADA PAIS NACIONALIDAD TOTAL'!$D$14:$Z$238,22,0)","v":0},{"$f":"VLOOKUP(E146,'LLEGADA PAIS NACIONALIDAD TOTAL'!$D$14:$AB$238,24,0)","v":0},{"$f":"SUM(F146:Q146)","v":3},null,{"$f":"+R146/R$235*100","v":2.5961416143327785E-4}]
[null,null,null,134,"GHANA",0,0,1,0,{"$f":"VLOOKUP(E147,'LLEGADA PAIS NACIONALIDAD TOTAL'!$D$14:$AD$238,10,0)","v":0},{"$f":"+VLOOKUP(E147,'LLEGADA PAIS NACIONALIDAD TOTAL'!$D$14:$AD$238,12,0)","v":1},0,{"$f":"VLOOKUP(E147,'LLEGADA PAIS NACIONALIDAD TOTAL'!$D$14:$T$238,16,0)","v":0},0,{"$f":"VLOOKUP(E147,'LLEGADA PAIS NACIONALIDAD TOTAL'!$D$14:$W$238,20,0)","v":0},{"$f":"VLOOKUP(E147,'LLEGADA PAIS NACIONALIDAD TOTAL'!$D$14:$Z$238,22,0)","v":1},{"$f":"VLOOKUP(E147,'LLEGADA PAIS NACIONALIDAD TOTAL'!$D$14:$AB$238,24,0)","v":0},3,null,2.5961416143327785E-4]
[null,null,null,135,"CONGO",0,0,0,0,{"$f":"VLOOKUP(E148,'LLEGADA PAIS NACIONALIDAD TOTAL'!$D$14:$AD$238,10,0)","v":0},{"$f":"+VLOOKUP(E148,'LLEGADA PAIS NACIONALIDAD TOTAL'!$D$14:$AD$238,12,0)","v":0},0,{"$f":"VLOOKUP(E148,'LLEGADA PAIS NACIONALIDAD TOTAL'!$D$14:$T$238,16,0)","v":0},1,{"$f":"VLOOKUP(E148,'LLEGADA PAIS NACIONALIDAD TOTAL'!$D$14:$W$238,20,0)","v":1},{"$f":"VLOOKUP(E148,'LLEGADA PAIS NACIONALIDAD TOTAL'!$D$14:$Z$238,22,0)","v":1},{"$f":"VLOOKUP(E148,'LLEGADA PAIS NACIONALIDAD TOTAL'!$D$14:$AB$238,24,0)","v":0},3,null,2.5961416143327785E-4]
[null,null,null,136,"ANTIGUA BARBUDA",1,0,0,0,{"$f":"VLOOKUP(E149,'LLEGADA PAIS NACIONALIDAD TOTAL'!$D$14:$AD$238,10,0)","v":0},{"$f":"+VLOOKUP(E149,'LLEGADA PAIS NACIONALIDAD TOTAL'!$D$14:$AD$238,12,0)","v":0},1,{"$f":"VLOOKUP(E149,'LLEGADA PAIS NACIONALIDAD TOTAL'!$D$14:$T$238,16,0)","v":0},0,{"$f":"VLOOKUP(E149,'LLEGADA PAIS NACIONALIDAD TOTAL'!$D$14:$W$238,20,0)","v":0},{"$f":"VLOOKUP(E149,'LLEGADA PAIS NACIONALIDAD TOTAL'!$D$14:$Z$238,22,0)","v":0},{"$f":"VLOOKUP(E149,'LLEGADA PAIS NACIONALIDAD TOTAL'!$D$14:$AB$238,24,0)","v":1},3,null,2.5961416143327785E-4]
[null,null,null,138,"NUEVA CALEDONIA",0,0,0,1,{"$f":"VLOOKUP(E150,'LLEGADA PAIS NACIONALIDAD TOTAL'!$D$14:$AD$238,10,0)","v":1},{"$f":"+VLOOKUP(E150,'LLEGADA PAIS NACIONALIDAD TOTAL'!$D$14:$AD$238,12,0)","v":0},0,{"$f":"VLOOKUP(E150,'LLEGADA PAIS NACIONALIDAD TOTAL'!$D$14:$T$238,16,0)","v":0},0,{"$f":"VLOOKUP(E150,'LLEGADA PAIS NACIONALIDAD TOTAL'!$D$14:$W$238,20,0)","v":0},{"$f":"VLOOKUP(E150,'LLEGADA PAIS NACIONALIDAD TOTAL'!$D$14:$Z$238,22,0)","v":0},{"$f":"VLOOKUP(E150,'LLEGADA PAIS NACIONALIDAD TOTAL'!$D$14:$AB$238,24,0)","v":0},2,null,1.7307610762218523E-4]
[null,null,null,137,"CHIPRE",0,0,0,0,{"$f":"VLOOKUP(E151,'LLEGADA PAIS NACIONALIDAD TOTAL'!$D$14:$AD$238,10,0)","v":0},{"$f":"+VLOOKUP(E151,'LLEGADA PAIS NACIONALIDAD TOTAL'!$D$14:$AD$238,12,0)","v":0},2,{"$f":"VLOOKUP(E151,'LLEGADA PAIS NACIONALIDAD TOTAL'!$D$14:$T$238,16,0)","v":0},0,{"$f":"VLOOKUP(E151,'LLEGADA PAIS NACIONALIDAD TOTAL'!$D$14:$W$238,20,0)","v":0},{"$f":"VLOOKUP(E151,'LLEGADA PAIS NACIONALIDAD TOTAL'!$D$14:$Z$238,22,0)","v":0},{"$f":"VLOOKUP(E151,'LLEGADA PAIS NACIONALIDAD TOTAL'!$D$14:$AB$238,24,0)","v":0},2,null,1.7307610762218523E-4]
[null,null,null,139,"MAURICIO",0,0,0,0,{"$f":"VLOOKUP(E152,'LLEGADA PAIS NACIONALIDAD TOTAL'!$D$14:$AD$238,10,0)","v":0},{"$f":"+VLOOKUP(E152,'LLEGADA PAIS NACIONALIDAD TOTAL'!$D$14:$AD$238,12,0)","v":0},2,{"$f":"VLOOKUP(E152,'LLEGADA PAIS NACIONALIDAD TOTAL'!$D$14:$T$238,16,0)","v":0},0,{"$f":"VLOOKUP(E152,'LLEGADA PAIS NACIONALIDAD TOTAL'!$D$14:$W$238,20,0)","v":0},{"$f":"VLOOKUP(E152,'LLEGADA PAIS NACIONALIDAD TOTAL'!$D$14:$Z$238,22,0)","v":0},{"$f":"VLOOKUP(E152,'LLEGADA PAIS NACIONALIDAD TOTAL'!$D$14:$AB$238,24,0)","v":0},2,null,1.7307610762218523E-4]
[null,null,null,140,"SRILANKA",0,0,1,0,{"$f":"VLOOKUP(E153,'LLEGADA PAIS NACIONALIDAD TOTAL'!$D$14:$AD$238,10,0)","v":0},{"$f":"+VLOOKUP(E153,'LLEGADA PAIS NACIONALIDAD TOTAL'!$D$14:$AD$238,12,0)","v":0},0,{"$f":"VLOOKUP(E153,'LLEGADA PAIS NACIONALIDAD TOTAL'!$D$14:$T$238,16,0)","v":0},1,{"$f":"VLOOKUP(E153,'LLEGADA PAIS NACIONALIDAD TOTAL'!$D$14:$W$238,20,0)","v":0},{"$f":"VLOOKUP(E153,'LLEGADA PAIS NACIONALIDAD TOTAL'!$D$14:$Z$238,22,0)","v":0},{"$f":"VLOOKUP(E153,'LLEGADA PAIS NACIONALIDAD TOTAL'!$D$14:$AB$238,24,0)","v":0},2,null,1.7307610762218523E-4]
[null,null,null,141,"GEORGIA",0,0,0,0,{"$f":"VLOOKUP(E154,'LLEGADA PAIS NACIONALIDAD TOTAL'!$D$14:$AD$238,10,0)","v":0},{"$f":"+VLOOKUP(E154,'LLEGADA PAIS NACIONALIDAD TOTAL'!$D$14:$AD$238,12,0)","v":1},0,{"$f":"VLOOKUP(E154,'LLEGADA PAIS NACIONALIDAD TOTAL'!$D$14:$T$238,16,0)","v":0},1,{"$f":"VLOOKUP(E154,'LLEGADA PAIS NACIONALIDAD TOTAL'!$D$14:$W$238,20,0)","v":0},{"$f":"VLOOKUP(E154,'LLEGADA PAIS NACIONALIDAD TOTAL'!$D$14:$Z$238,22,0)","v":0},{"$f":"VLOOKUP(E154,'LLEGADA PAIS NACIONALIDAD TOTAL'!$D$14:$AB$238,24,0)","v":0},2,null,1.7307610762218523E-4]
[null,null,null,143,"KIRGUISTAN",0,0,0,0,{"$f":"VLOOKUP(E155,'LLEGADA PAIS NACIONALIDAD TOTAL'!$D$14:$AD$238,10,0)","v":0},{"$f":"+VLOOKUP(E155,'LLEGADA PAIS NACIONALIDAD TOTAL'!$D$14:$AD$238,12,0)","v":0},0,{"$f":"VLOOKUP(E155,'LLEGADA PAIS NACIONALIDAD TOTAL'!$D$14:$T$238,16,0)","v":0},2,{"$f":"VLOOKUP(E155,'LLEGADA PAIS NACIONALIDAD TOTAL'!$D$14:$W$238,20,0)","v":0},{"$f":"VLOOKUP(E155,'LLEGADA PAIS NACIONALIDAD TOTAL'!$D$14:$Z$238,22,0)","v":0},{"$f":"VLOOKUP(E155,'LLEGADA PAIS NACIONALIDAD TOTAL'!$D$14:$AB$238,24,0)","v":0},2,null,1.7307610762218523E-4]
[null,null,null,144,"LETONIA",0,0,0,0,{"$f":"VLOOKUP(E156,'LLEGADA PAIS NACIONALIDAD TOTAL'!$D$14:$AD$238,10,0)","v":0},{"$f":"+VLOOKUP(E156,'LLEGADA PAIS NACIONALIDAD TOTAL'!$D$14:$AD$238,12,0)","v":0},0,{"$f":"VLOOKUP(E156,'LLEGADA PAIS NACIONALIDAD TOTAL'!$D$14:$T$238,16,0)","v":1},1,{"$f":"VLOOKUP(E156,'LLEGADA PAIS NACIONALIDAD TOTAL'!$D$14:$W$238,20,0)","v":0},{"$f":"VLOOKUP(E156,'LLEGADA PAIS NACIONALIDAD TOTAL'!$D$14:$Z$238,22,0)","v":0},{"$f":"VLOOKUP(E156,'LLEGADA PAIS NACIONALIDAD TOTAL'!$D$14:$AB$238,24,0)","v":0},2,null,1.7307610762218523E-4]
[null,null,null,145,"VATICANO O SANTA SEDE",0,0,0,0,0,0,0,0,2,{"$f":"VLOOKUP(E157,'LLEGADA PAIS NACIONALIDAD TOTAL'!$D$14:$W$238,20,0)","v":0},{"$f":"VLOOKUP(E157,'LLEGADA PAIS NACIONALIDAD TOTAL'!$D$14:$Z$238,22,0)","v":0},{"$f":"VLOOKUP(E157,'LLEGADA PAIS NACIONALIDAD TOTAL'!$D$14:$AB$238,24,0)","v":0},2,null,1.7307610762218523E-4]
[null,null,null,146,"ZAMBIA",0,0,0,0,0,0,0,1,0,{"$f":"VLOOKUP(E158,'LLEGADA PAIS NACIONALIDAD TOTAL'!$D$14:$W$238,20,0)","v":1},{"$f":"VLOOKUP(E158,'LLEGADA PAIS NACIONALIDAD TOTAL'!$D$14:$Z$238,22,0)","v":0},{"$f":"VLOOKUP(E158,'LLEGADA PAIS NACIONALIDAD TOTAL'!$D$14:$AB$238,24,0)","v":0},2,null,1.7307610762218523E-4]
[null,null,null,147,"SENEGAL",0,0,0,0,{"$f":"VLOOKUP(E159,'LLEGADA PAIS NACIONALIDAD TOTAL'!$D$14:$AD$238,10,0)","v":0},{"$f":"+VLOOKUP(E159,'LLEGADA PAIS NACIONALIDAD TOTAL'!$D$14:$AD$238,12,0)","v":0},0,{"$f":"VLOOKUP(E159,'LLEGADA PAIS NACIONALIDAD TOTAL'!$D$14:$T$238,16,0)","v":0},0,{"$f":"VLOOKUP(E159,'LLEGADA PAIS NACIONALIDAD TOTAL'!$D$14:$W$238,20,0)","v":0},{"$f":"VLOOKUP(E159,'LLEGADA PAIS NACIONALIDAD TOTAL'!$D$14:$Z$238,22,0)","v":2},{"$f":"VLOOKUP(E159,'LLEGADA PAIS NACIONALIDAD TOTAL'!$D$14:$AB$238,24,0)","v":0},2,null,1.7307610762218523E-4]
[null,null,null,148,"SIRIA",0,0,0,1,{"$f":"VLOOKUP(E160,'LLEGADA PAIS NACIONALIDAD TOTAL'!$D$14:$AD$238,10,0)","v":0},{"$f":"+VLOOKUP(E160,'LLEGADA PAIS NACIONALIDAD TOTAL'!$D$14:$AD$238,12,0)","v":0},0,{"$f":"VLOOKUP(E160,'LLEGADA PAIS NACIONALIDAD TOTAL'!$D$14:$T$238,16,0)","v":0},0,{"$f":"VLOOKUP(E160,'LLEGADA PAIS NACIONALIDAD TOTAL'!$D$14:$W$238,20,0)","v":0},{"$f":"VLOOKUP(E160,'LLEGADA PAIS NACIONALIDAD TOTAL'!$D$14:$Z$238,22,0)","v":0},{"$f":"VLOOKUP(E160,'LLEGADA PAIS NACIONALIDAD TOTAL'!$D$14:$AB$238,24,0)","v":0},1,null,8.6538053811092616E-5]
[null,null,null,149,"NEPAL",0,0,0,1,{"$f":"VLOOKUP(E161,'LLEGADA PAIS NACIONALIDAD TOTAL'!$D$14:$AD$238,10,0)","v":0},{"$f":"+VLOOKUP(E161,'LLEGADA PAIS NACIONALIDAD TOTAL'!$D$14:$AD$238,12,0)","v":0},0,{"$f":"VLOOKUP(E161,'LLEGADA PAIS NACIONALIDAD TOTAL'!$D$14:$T$238,16,0)","v":0},0,{"$f":"VLOOKUP(E161,'LLEGADA PAIS NACIONALIDAD TOTAL'!$D$14:$W$238,20,0)","v":0},{"$f":"VLOOKUP(E161,'LLEGADA PAIS NACIONALIDAD TOTAL'!$D$14:$Z$238,22,0)","v":0},{"$f":"VLOOKUP(E161,'LLEGADA PAIS NACIONALIDAD TOTAL'!$D$14:$AB$238,24,0)","v":0},1,null,8.6538053811092616E-5]
[null,null,null,150,"BAHREIN",1,0,0,0,{"$f":"VLOOKUP(E162,'LLEGADA PAIS NACIONALIDAD TOTAL'!$D$14:$AD$238,10,0)","v":0},{"$f":"+VLOOKUP(E162,'LLEGADA PAIS NACIONALIDAD TOTAL'!$D$14:$AD$238,12,0)","v":0},0,{"$f":"VLOOKUP(E162,'LLEGADA PAIS NACIONALIDAD TOTAL'!$D$14:$T$238,16,0)","v":0},0,{"$f":"VLOOKUP(E162,'LLEGADA PAIS NACIONALIDAD TOTAL'!$D$14:$W$238,20,0)","v":0},{"$f":"VLOOKUP(E162,'LLEGADA PAIS NACIONALIDAD TOTAL'!$D$14:$Z$238,22,0)","v":0},{"$f":"VLOOKUP(E162,'LLEGADA PAIS NACIONALIDAD TOTAL'!$D$14:$AB$238,24,0)","v":0},1,null,8.6538053811092616E-5]
[null,null,null,151,"ARMENIA",0,1,0,0,{"$f":"VLOOKUP(E163,'LLEGADA PAIS NACIONALIDAD TOTAL'!$D$14:$AD$238,10,0)","v":0},{"$f":"+VLOOKUP(E163,'LLEGADA PAIS NACIONALIDAD TOTAL'!$D$14:$AD$238,12,0)","v":0},0,{"$f":"VLOOKUP(E163,'LLEGADA PAIS NACIONALIDAD TOTAL'!$D$14:$T$238,16,0)","v":0},0,{"$f":"VLOOKUP(E163,'LLEGADA PAIS NACIONALIDAD TOTAL'!$D$14:$W$238,20,0)","v":0},{"$f":"VLOOKUP(E163,'LLEGADA PAIS NACIONALIDAD TOTAL'!$D$14:$Z$238,22,0)","v":0},{"$f":"VLOOKUP(E163,'LLEGADA PAIS NACIONALIDAD TOTAL'!$D$14:$AB$238,24,0)","v":0},1,null,8.6538053811092616E-5]
[null,null,null,152,"MADAGASCAR",0,0,0,0,{"$f":"VLOOKUP(E164,'LLEGADA PAIS NACIONALIDAD TOTAL'!$D$14:$AD$238,10,0)","v":0},{"$f":"+VLOOKUP(E164,'LLEGADA PAIS NACIONALIDAD TOTAL'!$D$14:$AD$238,12,0)","v":1},0,{"$f":"VLOOKUP(E164,'LLEGADA PAIS NACIONALIDAD TOTAL'!$D$14:$T$238,16,0)","v":0},0,{"$f":"VLOOKUP(E164,'LLEGADA PAIS NACIONALIDAD TOTAL'!$D$14:$W$238,20,0)","v":0},{"$f":"VLOOKUP(E164,'LLEGADA PAIS NACIONALIDAD TOTAL'!$D$14:$Z$238,22,0)","v":0},{"$f":"VLOOKUP(E164,'LLEGADA PAIS NACIONALIDAD TOTAL'!$D$14:$AB$238,24,0)","v":0},1,null,{"$f":"+R164/R$235*100","v":8.6538053811092616E-5}]
[null,null,null,153,"ZIMBABWE",0,0,0,0,{"$f":"VLOOKUP(E165,'LLEGADA PAIS NACIONALIDAD TOTAL'!$D$14:$AD$238,10,0)","v":0},{"$f":"+VLOOKUP(E165,'LLEGADA PAIS NACIONALIDAD TOTAL'!$D$14:$AD$238,12,0)","v":0},0,{"$f":"VLOOKUP(E165,'LLEGADA PAIS NACIONALIDAD TOTAL'!$D$14:$T$238,16,0)","v":1},0,{"$f":"VLOOKUP(E165,'LLEGADA PAIS NACIONALIDAD TOTAL'!$D$14:$W$238,20,0)","v":0},{"$f":"VLOOKUP(E165,'LLEGADA PAIS NACIONALIDAD TOTAL'!$D$14:$Z$238,22,0)","v":0},{"$f":"VLOOKUP(E165,'LLEGADA PAIS NACIONALIDAD TOTAL'!$D$14:$AB$238,24,0)","v":0},1,null,{"$f":"+R165/R$235*100","v":8.6538053811092616E-5}]
[null,null,null,154,"VANUATO",0,0,0,0,{"$f":"VLOOKUP(E166,'LLEGADA PAIS NACIONALIDAD TOTAL'!$D$14:$AD$238,10,0)","v":0},{"$f":"+VLOOKUP(E166,'LLEGADA PAIS NACIONALIDAD TOTAL'!$D$14:$AD$238,12,0)","v":0},0,{"$f":"VLOOKUP(E166,'LLEGADA PAIS NACIONALIDAD TOTAL'!$D$14:$T$238,16,0)","v":0},1,{"$f":"VLOOKUP(E166,'LLEGADA PAIS NACIONALIDAD TOTAL'!$D$14:$W$238,20,0)","v":0},{"$f":"VLOOKUP(E166,'LLEGADA PAIS NACIONALIDAD TOTAL'!$D$14:$Z$238,22,0)","v":0},{"$f":"VLOOKUP(E166,'LLEGADA PAIS NACIONALIDAD TOTAL'!$D$14:$AB$238,24,0)","v":0},1,null,8.6538053811092616E-5]
[null,null,null,155,"TANZANIA",0,0,0,0,{"$f":"VLOOKUP(E167,'LLEGADA PAIS NACIONALIDAD TOTAL'!$D$14:$AD$238,10,0)","v":0},{"$f":"+VLOOKUP(E167,'LLEGADA PAIS NACIONALIDAD TOTAL'!$D$14:$AD$238,12,0)","v":0},0,{"$f":"VLOOKUP(E167,'LLEGADA PAIS NACIONALIDAD TOTAL'!$D$14:$T$238,16,0)","v":1},0,{"$f":"VLOOKUP(E167,'LLEGADA PAIS NACIONALIDAD TOTAL'!$D$14:$W$238,20,0)","v":0},{"$f":"VLOOKUP(E167,'LLEGADA PAIS NACIONALIDAD TOTAL'!$D$14:$Z$238,22,0)","v":0},{"$f":"VLOOKUP(E167,'LLEGADA PAIS NACIONALIDAD TOTAL'!$D$14:$AB$238,24,0)","v":0},1,null,8.6538053811092616E-5]
[null,null,null,156,"NAMIBIA",0,0,0,0,{"$f":"VLOOKUP(E168,'LLEGADA PAIS NACIONALIDAD TOTAL'!$D$14:$AD$238,10,0)","v":0},{"$f":"+VLOOKUP(E168,'LLEGADA PAIS NACIONALIDAD TOTAL'!$D$14:$AD$238,12,0)","v":0},0,{"$f":"VLOOKUP(E168,'LLEGADA PAIS NACIONALIDAD TOTAL'!$D$14:$T$238,16,0)","v":0},0,{"$f":"VLOOKUP(E168,'LLEGADA PAIS NACIONALIDAD TOTAL'!$D$14:$W$238,20,0)","v":1},{"$f":"VLOOKUP(E168,'LLEGADA PAIS NACIONALIDAD TOTAL'!$D$14:$Z$238,22,0)","v":0},{"$f":"VLOOKUP(E168,'LLEGADA PAIS NACIONALIDAD TOTAL'!$D$14:$AB$238,24,0)","v":0},1,null,8.6538053811092616E-5]
[null,null,null,157,"BURUNDI",0,0,0,0,{"$f":"VLOOKUP(E169,'LLEGADA PAIS NACIONALIDAD TOTAL'!$D$14:$AD$238,10,0)","v":0},{"$f":"+VLOOKUP(E169,'LLEGADA PAIS NACIONALIDAD TOTAL'!$D$14:$AD$238,12,0)","v":0},0,{"$f":"VLOOKUP(E169,'LLEGADA PAIS NACIONALIDAD TOTAL'!$D$14:$T$238,16,0)","v":0},0,{"$f":"VLOOKUP(E169,'LLEGADA PAIS NACIONALIDAD TOTAL'!$D$14:$W$238,20,0)","v":0},{"$f":"VLOOKUP(E169,'LLEGADA PAIS NACIONALIDAD TOTAL'!$D$14:$Z$238,22,0)","v":1},{"$f":"VLOOKUP(E169,'LLEGADA PAIS NACIONALIDAD TOTAL'!$D$14:$AB$238,24,0)","v":0},1,null,8.6538053811092616E-5]
[null,null,null,158,"IRAN",0,0,0,0,{"$f":"VLOOKUP(E170,'LLEGADA PAIS NACIONALIDAD TOTAL'!$D$14:$AD$238,10,0)","v":0},{"$f":"+VLOOKUP(E170,'LLEGADA PAIS NACIONALIDAD TOTAL'!$D$14:$AD$238,12,0)","v":0},0,{"$f":"VLOOKUP(E170,'LLEGADA PAIS NACIONALIDAD TOTAL'!$D$14:$T$238,16,0)","v":0},0,{"$f":"VLOOKUP(E170,'LLEGADA PAIS NACIONALIDAD TOTAL'!$D$14:$W$238,20,0)","v":0},{"$f":"VLOOKUP(E170,'LLEGADA PAIS NACIONALIDAD TOTAL'!$D$14:$Z$238,22,0)","v":1},{"$f":"VLOOKUP(E170,'LLEGADA PAIS NACIONALIDAD TOTAL'!$D$14:$AB$238,24,0)","v":0},1,null,8.6538053811092616E-5]
[null,null,null,159,"BURKINA FASO",0,0,0,0,0,0,0,0,0,0,1,0,1,null,8.6538053811092616E-5]
[null,null,null,160,"O.N. AMERICA",0,0,0,0,{"$f":"VLOOKUP(E172,'LLEGADA PAIS NACIONALIDAD TOTAL'!$D$14:$AD$238,10,0)","v":0},{"$f":"+VLOOKUP(E172,'LLEGADA PAIS NACIONALIDAD TOTAL'!$D$14:$AD$238,12,0)","v":0},0,{"$f":"VLOOKUP(E172,'LLEGADA PAIS NACIONALIDAD TOTAL'!$D$14:$T$238,16,0)","v":0},0,{"$f":"VLOOKUP(E172,'LLEGADA PAIS NACIONALIDAD TOTAL'!$D$14:$W$238,20,0)","v":0},{"$f":"VLOOKUP(E172,'LLEGADA PAIS NACIONALIDAD TOTAL'!$D$14:$Z$238,22,0)","v":0},{"$f":"VLOOKUP(E172,'LLEGADA PAIS NACIONALIDAD TOTAL'!$D$14:$AB$238,24,0)","v":0},{"$f":"SUM(F172:Q172)","v":0},null,0]
[null,null,null,161,"O.N. OCEANIA",0,0,0,0,{"$f":"VLOOKUP(E173,'LLEGADA PAIS NACIONALIDAD TOTAL'!$D$14:$AD$238,10,0)","v":0},{"$f":"+VLOOKUP(E173,'LLEGADA PAIS NACIONALIDAD TOTAL'!$D$14:$AD$238,12,0)","v":0},0,{"$f":"VLOOKUP(E173,'LLEGADA PAIS NACIONALIDAD TOTAL'!$D$14:$T$238,16,0)","v":0},0,{"$f":"VLOOKUP(E173,'LLEGADA PAIS NACIONALIDAD TOTAL'!$D$14:$W$238,20,0)","v":0},{"$f":"VLOOKUP(E173,'LLEGADA PAIS NACIONALIDAD TOTAL'!$D$14:$Z$238,22,0)","v":0},{"$f":"VLOOKUP(E173,'LLEGADA PAIS NACIONALIDAD TOTAL'!$D$14:$AB$238,24,0)","v":0},0,null,0]
[null,null,null,162,"DJIBOUTI",0,0,0,0,{"$f":"VLOOKUP(E174,'LLEGADA PAIS NACIONALIDAD TOTAL'!$D$14:$AD$238,10,0)","v":0},{"$f":"+VLOOKUP(E174,'LLEGADA PAIS NACIONALIDAD TOTAL'!$D$14:$AD$238,12,0)","v":0},0,{"$f":"VLOOKUP(E174,'LLEGADA PAIS NACIONALIDAD TOTAL'!$D$14:$T$238,16,0)","v":0},0,{"$f":"VLOOKUP(E174,'LLEGADA PAIS NACIONALIDAD TOTAL'!$D$14:$W$238,20,0)","v":0},{"$f":"VLOOKUP(E174,'LLEGADA PAIS NACIONALIDAD TOTAL'!$D$14:$Z$238,22,0)","v":0},{"$f":"VLOOKUP(E174,'LLEGADA PAIS NACIONALIDAD TOTAL'!$D$14:$AB$238,24,0)","v":0},0,null,0]
[null,null,null,163,"NIGER",0,0,0,0,{"$f":"VLOOKUP(E175,'LLEGADA PAIS NACIONALIDAD TOTAL'!$D$14:$AD$238,10,0)","v":0},{"$f":"+VLOOKUP(E175,'LLEGADA PAIS NACIONALIDAD TOTAL'!$D$14:$AD$238,12,0)","v":0},0,{"$f":"VLOOKUP(E175,'LLEGADA PAIS NACIONALIDAD TOTAL'!$D$14:$T$238,16,0)","v":0},0,{"$f":"VLOOKUP(E175,'LLEGADA PAIS NACIONALIDAD TOTAL'!$D$14:$W$238,20,0)","v":0},{"$f":"VLOOKUP(E175,'LLEGADA PAIS NACIONALIDAD TOTAL'!$D$14:$Z$238,22,0)","v":0},{"$f":"VLOOKUP(E175,'LLEGADA PAIS NACIONALIDAD TOTAL'!$D$14:$AB$238,24,0)","v":0},0,null,0]
[null,null,null,164,"MAURITANIA",0,0,0,0,{"$f":"VLOOKUP(E176,'LLEGADA PAIS NACIONALIDAD TOTAL'!$D$14:$AD$238,10,0)","v":0},{"$f":"+VLOOKUP(E176,'LLEGADA PAIS NACIONALIDAD TOTAL'!$D$14:$AD$238,12,0)","v":0},0,{"$f":"VLOOKUP(E176,'LLEGADA PAIS NACIONALIDAD TOTAL'!$D$14:$T$238,16,0)","v":0},0,{"$f":"VLOOKUP(E176,'LLEGADA PAIS NACIONALIDAD TOTAL'!$D$14:$W$238,20,0)","v":0},{"$f":"VLOOKUP(E176,'LLEGADA PAIS NACIONALIDAD TOTAL'!$D$14:$Z$238,22,0)","v":0},{"$f":"VLOOKUP(E176,'LLEGADA PAIS NACIONALIDAD TOTAL'!$D$14:$AB$238,24,0)","v":0},0,null,0]
[null,null,null,165,"MOLDOVA",0,0,0,0,{"$f":"VLOOKUP(E177,'LLEGADA PAIS NACIONALIDAD TOTAL'!$D$14:$AD$238,10,0)","v":0},{"$f":"+VLOOKUP(E177,'LLEGADA PAIS NACIONALIDAD TOTAL'!$D$14:$AD$238,12,0)","v":0},0,{"$f":"VLOOKUP(E177,'LLEGADA PAIS NACIONALIDAD TOTAL'!$D$14:$T$238,16,0)","v":0},0,{"$f":"VLOOKUP(E177,'LLEGADA PAIS NACIONALIDAD TOTAL'!$D$14:$W$238,20,0)","v":0},{"$f":"VLOOKUP(E177,'LLEGADA PAIS NACIONALIDAD TOTAL'!$D$14:$Z$238,22,0)","v":0},{"$f":"VLOOKUP(E177,'LLEGADA PAIS NACIONALIDAD TOTAL'!$D$14:$AB$238,24,0)","v":0},0,null,0]
[null,null,null,166,"REPÚBLICA ESLOVACA/ESLOVAQUIA",0,0,0,0,{"$f":"VLOOKUP(E178,'LLEGADA PAIS NACIONALIDAD TOTAL'!$D$14:$AD$238,10,0)","v":0},{"$f":"+VLOOKUP(E178,'LLEGADA PAIS NACIONALIDAD TOTAL'!$D$14:$AD$238,12,0)","v":0},0,{"$f":"VLOOKUP(E178,'LLEGADA PAIS NACIONALIDAD TOTAL'!$D$14:$T$238,16,0)","v":0},0,{"$f":"VLOOKUP(E178,'LLEGADA PAIS NACIONALIDAD TOTAL'!$D$14:$W$238,20,0)","v":0},{"$f":"VLOOKUP(E178,'LLEGADA PAIS NACIONALIDAD TOTAL'!$D$14:$Z$238,22,0)","v":0},{"$f":"VLOOKUP(E178,'LLEGADA PAIS NACIONALIDAD TOTAL'!$D$14:$AB$238,24,0)","v":0},0,null,0]
[null,null,null,167,"BENIN",0,0,0,0,{"$f":"VLOOKUP(E179,'LLEGADA PAIS NACIONALIDAD TOTAL'!$D$14:$AD$238,10,0)","v":0},{"$f":"+VLOOKUP(E179,'LLEGADA PAIS NACIONALIDAD TOTAL'!$D$14:$AD$238,12,0)","v":0},0,{"$f":"VLOOKUP(E179,'LLEGADA PAIS NACIONALIDAD TOTAL'!$D$14:$T$238,16,0)","v":0},0,{"$f":"VLOOKUP(E179,'LLEGADA PAIS NACIONALIDAD TOTAL'!$D$14:$W$238,20,0)","v":0},{"$f":"VLOOKUP(E179,'LLEGADA PAIS NACIONALIDAD TOTAL'!$D$14:$Z$238,22,0)","v":0},{"$f":"VLOOKUP(E179,'LLEGADA PAIS NACIONALIDAD TOTAL'!$D$14:$AB$238,24,0)","v":0},0,null,0]
[null,null,null,168,"LAOS",0,0,0,0,{"$f":"VLOOKUP(E180,'LLEGADA PAIS NACIONALIDAD TOTAL'!$D$14:$AD$238,10,0)","v":0},{"$f":"+VLOOKUP(E180,'LLEGADA PAIS NACIONALIDAD TOTAL'!$D$14:$AD$238,12,0)","v":0},0,{"$f":"VLOOKUP(E180,'LLEGADA PAIS NACIONALIDAD TOTAL'!$D$14:$T$238,16,0)","v":0},0,{"$f":"VLOOKUP(E180,'LLEGADA PAIS NACIONALIDAD TOTAL'!$D$14:$W$238,20,0)","v":0},{"$f":"VLOOKUP(E180,'LLEGADA PAIS NACIONALIDAD TOTAL'!$D$14:$Z$238,22,0)","v":0},{"$f":"VLOOKUP(E180,'LLEGADA PAIS NACIONALIDAD TOTAL'!$D$14:$AB$238,24,0)","v":0},0,null,0]
[null,null,null,169,"MICRONESIA",0,0,0,0,{"$f":"VLOOKUP(E181,'LLEGADA PAIS NACIONALIDAD TOTAL'!$D$14:$AD$238,10,0)","v":0},{"$f":"+VLOOKUP(E181,'LLEGADA PAIS NACIONALIDAD TOTAL'!$D$14:$AD$238,12,0)","v":0},0,{"$f":"VLOOKUP(E181,'LLEGADA PAIS NACIONALIDAD TOTAL'!$D$14:$T$238,16,0)","v":0},0,{"$f":"VLOOKUP(E181,'LLEGADA PAIS NACIONALIDAD TOTAL'!$D$14:$W$238,20,0)","v":0},{"$f":"VLOOKUP(E181,'LLEGADA PAIS NACIONALIDAD TOTAL'!$D$14:$Z$238,22,0)","v":0},{"$f":"VLOOKUP(E181,'LLEGADA PAIS NACIONALIDAD TOTAL'!$D$14:$AB$238,24,0)","v":0},0,null,0]
[null,null,null,170,"MYANMAR",0,0,0,0,{"$f":"VLOOKUP(E182,'LLEGADA PAIS NACIONALIDAD TOTAL'!$D$14:$AD$238,10,0)","v":0},{"$f":"+VLOOKUP(E182,'LLEGADA PAIS NACIONALIDAD TOTAL'!$D$14:$AD$238,12,0)","v":0},0,{"$f":"VLOOKUP(E182,'LLEGADA PAIS NACIONALIDAD TOTAL'!$D$14:$T$238,16,0)","v":0},0,{"$f":"VLOOKUP(E182,'LLEGADA PAIS NACIONALIDAD TOTAL'!$D$14:$W$238,20,0)","v":0},{"$f":"VLOOKUP(E182,'LLEGADA PAIS NACIONALIDAD TOTAL'!$D$14:$Z$238,22,0)","v":0},{"$f":"VLOOKUP(E182,'LLEGADA PAIS NACIONALIDAD TOTAL'!$D$14:$AB$238,24,0)","v":0},0,null,0]
[null,null,null,171,"YEMEN ARABE",0,0,0,0,{"$f":"VLOOKUP(E183,'LLEGADA PAIS NACIONALIDAD TOTAL'!$D$14:$AD$238,10,0)","v":0},{"$f":"+VLOOKUP(E183,'LLEGADA PAIS NACIONALIDAD TOTAL'!$D$14:$AD$238,12,0)","v":0},0,{"$f":"VLOOKUP(E183,'LLEGADA PAIS NACIONALIDAD TOTAL'!$D$14:$T$238,16,0)","v":0},0,{"$f":"VLOOKUP(E183,'LLEGADA PAIS NACIONALIDAD TOTAL'!$D$14:$W$238,20,0)","v":0},{"$f":"VLOOKUP(E183,'LLEGADA PAIS NACIONALIDAD TOTAL'!$D$14:$Z$238,22,0)","v":0},{"$f":"VLOOKUP(E183,'LLEGADA PAIS NACIONALIDAD TOTAL'!$D$14:$AB$238,24,0)","v":0},0,null,0]
[null,null,null,172,"YEMEN POPULAR",0,0,0,0,{"$f":"VLOOKUP(E184,'LLEGADA PAIS NACIONALIDAD TOTAL'!$D$14:$AD$238,10,0)","v":0},{"$f":"+VLOOKUP(E184,'LLEGADA PAIS NACIONALIDAD TOTAL'!$D$14:$AD$238,12,0)","v":0},0,{"$f":"VLOOKUP(E184,'LLEGADA PAIS NACIONALIDAD TOTAL'!$D$14:$T$238,16,0)","v":0},0,{"$f":"VLOOKUP(E184,'LLEGADA PAIS NACIONALIDAD TOTAL'!$D$14:$W$238,20,0)","v":0},{"$f":"VLOOKUP(E184,'LLEGADA PAIS NACIONALIDAD TOTAL'!$D$14:$Z$238,22,0)","v":0},{"$f":"VLOOKUP(E184,'LLEGADA PAIS NACIONALIDAD TOTAL'!$D$14:$AB$238,24,0)","v":0},0,null,0]
[null,null,null,173,"PAÍSES BAJOS (LOS)",0,0,0,0,{"$f":"VLOOKUP(E185,'LLEGADA PAIS NACIONALIDAD TOTAL'!$D$14:$AD$238,10,0)","v":0},{"$f":"+VLOOKUP(E185,'LLEGADA PAIS NACIONALIDAD TOTAL'!$D$14:$AD$238,12,0)","v":0},0,{"$f":"VLOOKUP(E185,'LLEGADA PAIS NACIONALIDAD TOTAL'!$D$14:$T$238,16,0)","v":0},0,{"$f":"VLOOKUP(E185,'LLEGADA PAIS NACIONALIDAD TOTAL'!$D$14:$W$238,20,0)","v":0},{"$f":"VLOOKUP(E185,'LLEGADA PAIS NACIONALIDAD TOTAL'!$D$14:$Z$238,22,0)","v":0},{"$f":"VLOOKUP(E185,'LLEGADA PAIS NACIONALIDAD TOTAL'!$D$14:$AB$238,24,0)","v":0},0,null,0]
[null,null,null,174,"SAHARA OCCIDENTAL",0,0,0,0,{"$f":"VLOOKUP(E186,'LLEGADA PAIS NACIONALIDAD TOTAL'!$D$14:$AD$238,10,0)","v":0},{"$f":"+VLOOKUP(E186,'LLEGADA PAIS NACIONALIDAD TOTAL'!$D$14:$AD$238,12,0)","v":0},0,{"$f":"VLOOKUP(E186,'LLEGADA PAIS NACIONALIDAD TOTAL'!$D$14:$T$238,16,0)","v":0},0,{"$f":"VLOOKUP(E186,'LLEGADA PAIS NACIONALIDAD TOTAL'!$D$14:$W$238,20,0)","v":0},{"$f":"VLOOKUP(E186,'LLEGADA PAIS NACIONALIDAD TOTAL'!$D$14:$Z$238,22,0)","v":0},{"$f":"VLOOKUP(E186,'LLEGADA PAIS NACIONALIDAD TOTAL'!$D$14:$AB$238,24,0)","v":0},0,null,0]
[null,null,null,175,"BOSNIA HERZEGOVINA",0,0,0,0,{"$f":"VLOOKUP(E187,'LLEGADA PAIS NACIONALIDAD TOTAL'!$D$14:$AD$238,10,0)","v":0},{"$f":"+VLOOKUP(E187,'LLEGADA PAIS NACIONALIDAD TOTAL'!$D$14:$AD$238,12,0)","v":0},0,{"$f":"VLOOKUP(E187,'LLEGADA PAIS NACIONALIDAD TOTAL'!$D$14:$T$238,16,0)","v":0},0,{"$f":"VLOOKUP(E187,'LLEGADA PAIS NACIONALIDAD TOTAL'!$D$14:$W$238,20,0)","v":0},{"$f":"VLOOKUP(E187,'LLEGADA PAIS NACIONALIDAD TOTAL'!$D$14:$Z$238,22,0)","v":0},{"$f":"VLOOKUP(E187,'LLEGADA PAIS NACIONALIDAD TOTAL'!$D$14:$AB$238,24,0)","v":0},0,null,0]
[null,null,null,176,"BUTAN",0,0,0,0,{"$f":"VLOOKUP(E188,'LLEGADA PAIS NACIONALIDAD TOTAL'!$D$14:$AD$238,10,0)","v":0},{"$f":"+VLOOKUP(E188,'LLEGADA PAIS NACIONALIDAD TOTAL'!$D$14:$AD$238,12,0)","v":0},0,{"$f":"VLOOKUP(E188,'LLEGADA PAIS NACIONALIDAD TOTAL'!$D$14:$T$238,16,0)","v":0},0,{"$f":"VLOOKUP(E188,'LLEGADA PAIS NACIONALIDAD TOTAL'!$D$14:$W$238,20,0)","v":0},{"$f":"VLOOKUP(E188,'LLEGADA PAIS NACIONALIDAD TOTAL'!$D$14:$Z$238,22,0)","v":0},{"$f":"VLOOKUP(E188,'LLEGADA PAIS NACIONALIDAD TOTAL'!$D$14:$AB$238,24,0)","v":0},0,null,{"$f":"+R188/R$235*100","v":0}]
[null,null,null,177,"CAMBOYA",0,0,0,0,{"$f":"VLOOKUP(E189,'LLEGADA PAIS NACIONALIDAD TOTAL'!$D$14:$AD$238,10,0)","v":0},{"$f":"+VLOOKUP(E189,'LLEGADA PAIS NACIONALIDAD TOTAL'!$D$14:$AD$238,12,0)","v":0},0,{"$f":"VLOOKUP(E189,'LLEGADA PAIS NACIONALIDAD TOTAL'!$D$14:$T$238,16,0)","v":0},0,{"$f":"VLOOKUP(E189,'LLEGADA PAIS NACIONALIDAD TOTAL'!$D$14:$W$238,20,0)","v":0},{"$f":"VLOOKUP(E189,'LLEGADA PAIS NACIONALIDAD TOTAL'!$D$14:$Z$238,22,0)","v":0},{"$f":"VLOOKUP(E189,'LLEGADA PAIS NACIONALIDAD TOTAL'!$D$14:$AB$238,24,0)","v":0},0,null,{"$f":"+R189/R$235*100","v":0}]
[null,null,null,178,"CHAD",0,0,0,0,{"$f":"VLOOKUP(E190,'LLEGADA PAIS NACIONALIDAD TOTAL'!$D$14:$AD$238,10,0)","v":0},{"$f":"+VLOOKUP(E190,'LLEGADA PAIS NACIONALIDAD TOTAL'!$D$14:$AD$238,12,0)","v":0},0,{"$f":"VLOOKUP(E190,'LLEGADA PAIS NACIONALIDAD TOTAL'!$D$14:$T$238,16,0)","v":0},0,{"$f":"VLOOKUP(E190,'LLEGADA PAIS NACIONALIDAD TOTAL'!$D$14:$W$238,20,0)","v":0},{"$f":"VLOOKUP(E190,'LLEGADA PAIS NACIONALIDAD TOTAL'!$D$14:$Z$238,22,0)","v":0},{"$f":"VLOOKUP(E190,'LLEGADA PAIS NACIONALIDAD TOTAL'!$D$14:$AB$238,24,0)","v":0},0,null,0]
[null,null,null,179,"CISKEI",0,0,0,0,{"$f":"VLOOKUP(E191,'LLEGADA PAIS NACIONALIDAD TOTAL'!$D$14:$AD$238,10,0)","v":0},{"$f":"+VLOOKUP(E191,'LLEGADA PAIS NACIONALIDAD TOTAL'!$D$14:$AD$238,12,0)","v":0},0,{"$f":"VLOOKUP(E191,'LLEGADA PAIS NACIONALIDAD TOTAL'!$D$14:$T$238,16,0)","v":0},0,{"$f":"VLOOKUP(E191,'LLEGADA PAIS NACIONALIDAD TOTAL'!$D$14:$W$238,20,0)","v":0},{"$f":"VLOOKUP(E191,'LLEGADA PAIS NACIONALIDAD TOTAL'!$D$14:$Z$238,22,0)","v":0},{"$f":"VLOOKUP(E191,'LLEGADA PAIS NACIONALIDAD TOTAL'!$D$14:$AB$238,24,0)","v":0},0,null,0]
[null,null,null,180,"MANCHURIA",0,0,0,0,{"$f":"VLOOKUP(E192,'LLEGADA PAIS NACIONALIDAD TOTAL'!$D$14:$AD$238,10,0)","v":0},{"$f":"+VLOOKUP(E192,'LLEGADA PAIS NACIONALIDAD TOTAL'!$D$14:$AD$238,12,0)","v":0},0,{"$f":"VLOOKUP(E192,'LLEGADA PAIS NACIONALIDAD TOTAL'!$D$14:$T$238,16,0)","v":0},0,{"$f":"VLOOKUP(E192,'LLEGADA PAIS NACIONALIDAD TOTAL'!$D$14:$W$238,20,0)","v":0},{"$f":"VLOOKUP(E192,'LLEGADA PAIS NACIONALIDAD TOTAL'!$D$14:$Z$238,22,0)","v":0},{"$f":"VLOOKUP(E192,'LLEGADA PAIS NACIONALIDAD TOTAL'!$D$14:$AB$238,24,0)","v":0},0,null,0]
[null,null,null,181,"PALESTINA",0,0,0,0,{"$f":"VLOOKUP(E193,'LLEGADA PAIS NACIONALIDAD TOTAL'!$D$14:$AD$238,10,0)","v":0},{"$f":"+VLOOKUP(E193,'LLEGADA PAIS NACIONALIDAD TOTAL'!$D$14:$AD$238,12,0)","v":0},0,{"$f":"VLOOKUP(E193,'LLEGADA PAIS NACIONALIDAD TOTAL'!$D$14:$T$238,16,0)","v":0},0,{"$f":"VLOOKUP(E193,'LLEGADA PAIS NACIONALIDAD TOTAL'!$D$14:$W$238,20,0)","v":0},{"$f":"VLOOKUP(E193,'LLEGADA PAIS NACIONALIDAD TOTAL'!$D$14:$Z$238,22,0)","v":0},{"$f":"VLOOKUP(E193,'LLEGADA PAIS NACIONALIDAD TOTAL'!$D$14:$AB$238,24,0)","v":0},0,null,0]
[null,null,null,182,"REP.ARABE UNIDA",0,0,0,0,{"$f":"VLOOKUP(E194,'LLEGADA PAIS NACIONALIDAD TOTAL'!$D$14:$AD$238,10,0)","v":0},{"$f":"+VLOOKUP(E194,'LLEGADA PAIS NACIONALIDAD TOTAL'!$D$14:$AD$238,12,0)","v":0},0,{"$f":"VLOOKUP(E194,'LLEGADA PAIS NACIONALIDAD TOTAL'!$D$14:$T$238,16,0)","v":0},0,{"$f":"VLOOKUP(E194,'LLEGADA PAIS NACIONALIDAD TOTAL'!$D$14:$W$238,20,0)","v":0},{"$f":"VLOOKUP(E194,'LLEGADA PAIS NACIONALIDAD TOTAL'!$D$14:$Z$238,22,0)","v":0},{"$f":"VLOOKUP(E194,'LLEGADA PAIS NACIONALIDAD TOTAL'!$D$14:$AB$238,24,0)","v":0},0,null,0]
[null,null,null,183,"RUANDA",0,0,0,0,{"$f":"VLOOKUP(E195,'LLEGADA PAIS NACIONALIDAD TOTAL'!$D$14:$AD$238,10,0)","v":0},{"$f":"+VLOOKUP(E195,'LLEGADA PAIS NACIONALIDAD TOTAL'!$D$14:$AD$238,12,0)","v":0},0,{"$f":"VLOOKUP(E195,'LLEGADA PAIS NACIONALIDAD TOTAL'!$D$14:$T$238,16,0)","v":0},0,{"$f":"VLOOKUP(E195,'LLEGADA PAIS NACIONALIDAD TOTAL'!$D$14:$W$238,20,0)","v":0},{"$f":"VLOOKUP(E195,'LLEGADA PAIS NACIONALIDAD TOTAL'!$D$14:$Z$238,22,0)","v":0},{"$f":"VLOOKUP(E195,'LLEGADA PAIS NACIONALIDAD TOTAL'!$D$14:$AB$238,24,0)","v":0},0,null,{"$f":"+R195/R$235*100","v":0}]
[null,null,null,184,"SOMALIA",0,0,0,0,{"$f":"VLOOKUP(E196,'LLEGADA PAIS NACIONALIDAD TOTAL'!$D$14:$AD$238,10,0)","v":0},{"$f":"+VLOOKUP(E196,'LLEGADA PAIS NACIONALIDAD TOTAL'!$D$14:$AD$238,12,0)","v":0},0,{"$f":"VLOOKUP(E196,'LLEGADA PAIS NACIONALIDAD TOTAL'!$D$14:$T$238,16,0)","v":0},0,{"$f":"VLOOKUP(E196,'LLEGADA PAIS NACIONALIDAD TOTAL'!$D$14:$W$238,20,0)","v":0},{"$f":"VLOOKUP(E196,'LLEGADA PAIS NACIONALIDAD TOTAL'!$D$14:$Z$238,22,0)","v":0},{"$f":"VLOOKUP(E196,'LLEGADA PAIS NACIONALIDAD TOTAL'!$D$14:$AB$238,24,0)","v":0},0,null,{"$f":"+R196/R$235*100","v":0}]
[null,null,null,185,"TANGANICA",0,0,0,0,{"$f":"VLOOKUP(E197,'LLEGADA PAIS NACIONALIDAD TOTAL'!$D$14:$AD$238,10,0)","v":0},{"$f":"+VLOOKUP(E197,'LLEGADA PAIS NACIONALIDAD TOTAL'!$D$14:$AD$238,12,0)","v":0},0,{"$f":"VLOOKUP(E197,'LLEGADA PAIS NACIONALIDAD TOTAL'!$D$14:$T$238,16,0)","v":0},0,{"$f":"VLOOKUP(E197,'LLEGADA PAIS NACIONALIDAD TOTAL'!$D$14:$W$238,20,0)","v":0},{"$f":"VLOOKUP(E197,'LLEGADA PAIS NACIONALIDAD TOTAL'!$D$14:$Z$238,22,0)","v":0},{"$f":"VLOOKUP(E197,'LLEGADA PAIS NACIONALIDAD TOTAL'!$D$14:$AB$238,24,0)","v":0},0,null,0]
[null,null,null,186,"TRANSKEI",0,0,0,0,{"$f":"VLOOKUP(E198,'LLEGADA PAIS NACIONALIDAD TOTAL'!$D$14:$AD$238,10,0)","v":0},{"$f":"+VLOOKUP(E198,'LLEGADA PAIS NACIONALIDAD TOTAL'!$D$14:$AD$238,12,0)","v":0},0,{"$f":"VLOOKUP(E198,'LLEGADA PAIS NACIONALIDAD TOTAL'!$D$14:$T$238,16,0)","v":0},0,{"$f":"VLOOKUP(E198,'LLEGADA PAIS NACIONALIDAD TOTAL'!$D$14:$W$238,20,0)","v":0},{"$f":"VLOOKUP(E198,'LLEGADA PAIS NACIONALIDAD TOTAL'!$D$14:$Z$238,22,0)","v":0},{"$f":"VLOOKUP(E198,'LLEGADA PAIS NACIONALIDAD TOTAL'!$D$14:$AB$238,24,0)","v":0},0,null,0]
[null,null,null,187,"VENDA",0,0,0,0,{"$f":"VLOOKUP(E199,'LLEGADA PAIS NACIONALIDAD TOTAL'!$D$14:$AD$238,10,0)","v":0},{"$f":"+VLOOKUP(E199,'LLEGADA PAIS NACIONALIDAD TOTAL'!$D$14:$AD$238,12,0)","v":0},0,{"$f":"VLOOKUP(E199,'LLEGADA PAIS NACIONALIDAD TOTAL'!$D$14:$T$238,16,0)","v":0},0,{"$f":"VLOOKUP(E199,'LLEGADA PAIS NACIONALIDAD TOTAL'!$D$14:$W$238,20,0)","v":0},{"$f":"VLOOKUP(E199,'LLEGADA PAIS NACIONALIDAD TOTAL'!$D$14:$Z$238,22,0)","v":0},{"$f":"VLOOKUP(E199,'LLEGADA PAIS NACIONALIDAD TOTAL'!$D$14:$AB$238,24,0)","v":0},0,null,0]
[null,null,null,188,"ZAIRE",0,0,0,0,{"$f":"VLOOKUP(E200,'LLEGADA PAIS NACIONALIDAD TOTAL'!$D$14:$AD$238,10,0)","v":0},{"$f":"+VLOOKUP(E200,'LLEGADA PAIS NACIONALIDAD TOTAL'!$D$14:$AD$238,12,0)","v":0},0,{"$f":"VLOOKUP(E200,'LLEGADA PAIS NACIONALIDAD TOTAL'!$D$14:$T$238,16,0)","v":0},0,{"$f":"VLOOKUP(E200,'LLEGADA PAIS NACIONALIDAD TOTAL'!$D$14:$W$238,20,0)","v":0},{"$f":"VLOOKUP(E200,'LLEGADA PAIS NACIONALIDAD TOTAL'!$D$14:$Z$238,22,0)","v":0},{"$f":"VLOOKUP(E200,'LLEGADA PAIS NACIONALIDAD TOTAL'!$D$14:$AB$238,24,0)","v":0},0,null,0]
[null,null,null,189,"ISLA BOUVET",0,0,0,0,{"$f":"VLOOKUP(E201,'LLEGADA PAIS NACIONALIDAD TOTAL'!$D$14:$AD$238,10,0)","v":0},{"$f":"+VLOOKUP(E201,'LLEGADA PAIS NACIONALIDAD TOTAL'!$D$14:$AD$238,12,0)","v":0},0,{"$f":"VLOOKUP(E201,'LLEGADA PAIS NACIONALIDAD TOTAL'!$D$14:$T$238,16,0)","v":0},0,{"$f":"VLOOKUP(E201,'LLEGADA PAIS NACIONALIDAD TOTAL'!$D$14:$W$238,20,0)","v":0},{"$f":"VLOOKUP(E201,'LLEGADA PAIS NACIONALIDAD TOTAL'!$D$14:$Z$238,22,0)","v":0},{"$f":"VLOOKUP(E201,'LLEGADA PAIS NACIONALIDAD TOTAL'!$D$14:$AB$238,24,0)","v":0},0,null,0]
[null,null,null,190,"ALTO VOLTA",0,0,0,0,{"$f":"VLOOKUP(E202,'LLEGADA PAIS NACIONALIDAD TOTAL'!$D$14:$AD$238,10,0)","v":0},{"$f":"+VLOOKUP(E202,'LLEGADA PAIS NACIONALIDAD TOTAL'!$D$14:$AD$238,12,0)","v":0},0,{"$f":"VLOOKUP(E202,'LLEGADA PAIS NACIONALIDAD TOTAL'!$D$14:$T$238,16,0)","v":0},0,{"$f":"VLOOKUP(E202,'LLEGADA PAIS NACIONALIDAD TOTAL'!$D$14:$W$238,20,0)","v":0},{"$f":"VLOOKUP(E202,'LLEGADA PAIS NACIONALIDAD TOTAL'!$D$14:$Z$238,22,0)","v":0},{"$f":"VLOOKUP(E202,'LLEGADA PAIS NACIONALIDAD TOTAL'!$D$14:$AB$238,24,0)","v":0},0,null,0]
[null,null,null,191,"APATRIDAS",0,0,0,0,{"$f":"VLOOKUP(E203,'LLEGADA PAIS NACIONALIDAD TOTAL'!$D$14:$AD$238,10,0)","v":0},{"$f":"+VLOOKUP(E203,'LLEGADA PAIS NACIONALIDAD TOTAL'!$D$14:$AD$238,12,0)","v":0},0,{"$f":"VLOOKUP(E203,'LLEGADA PAIS NACIONALIDAD TOTAL'!$D$14:$T$238,16,0)","v":0},0,{"$f":"VLOOKUP(E203,'LLEGADA PAIS NACIONALIDAD TOTAL'!$D$14:$W$238,20,0)","v":0},{"$f":"VLOOKUP(E203,'LLEGADA PAIS NACIONALIDAD TOTAL'!$D$14:$Z$238,22,0)","v":0},{"$f":"VLOOKUP(E203,'LLEGADA PAIS NACIONALIDAD TOTAL'!$D$14:$AB$238,24,0)","v":0},0,null,0]
[null,null,null,192,"BELAU",0,0,0,0,{"$f":"VLOOKUP(E204,'LLEGADA PAIS NACIONALIDAD TOTAL'!$D$14:$AD$238,10,0)","v":0},{"$f":"+VLOOKUP(E204,'LLEGADA PAIS NACIONALIDAD TOTAL'!$D$14:$AD$238,12,0)","v":0},0,{"$f":"VLOOKUP(E204,'LLEGADA PAIS NACIONALIDAD TOTAL'!$D$14:$T$238,16,0)","v":0},0,{"$f":"VLOOKUP(E204,'LLEGADA PAIS NACIONALIDAD TOTAL'!$D$14:$W$238,20,0)","v":0},{"$f":"VLOOKUP(E204,'LLEGADA PAIS NACIONALIDAD TOTAL'!$D$14:$Z$238,22,0)","v":0},{"$f":"VLOOKUP(E204,'LLEGADA PAIS NACIONALIDAD TOTAL'!$D$14:$AB$238,24,0)","v":0},0,null,0]
[null,null,null,193,"BOPHUTHATSWANA",0,0,0,0,{"$f":"VLOOKUP(E205,'LLEGADA PAIS NACIONALIDAD TOTAL'!$D$14:$AD$238,10,0)","v":0},{"$f":"+VLOOKUP(E205,'LLEGADA PAIS NACIONALIDAD TOTAL'!$D$14:$AD$238,12,0)","v":0},0,{"$f":"VLOOKUP(E205,'LLEGADA PAIS NACIONALIDAD TOTAL'!$D$14:$T$238,16,0)","v":0},0,{"$f":"VLOOKUP(E205,'LLEGADA PAIS NACIONALIDAD TOTAL'!$D$14:$W$238,20,0)","v":0},{"$f":"VLOOKUP(E205,'LLEGADA PAIS NACIONALIDAD TOTAL'!$D$14:$Z$238,22,0)","v":0},{"$f":"VLOOKUP(E205,'LLEGADA PAIS NACIONALIDAD TOTAL'!$D$14:$AB$238,24,0)","v":0},0,null,0]
[null,null,null,194,"BOTSWANA",0,0,0,0,{"$f":"VLOOKUP(E206,'LLEGADA PAIS NACIONALIDAD TOTAL'!$D$14:$AD$238,10,0)","v":0},{"$f":"+VLOOKUP(E206,'LLEGADA PAIS NACIONALIDAD TOTAL'!$D$14:$AD$238,12,0)","v":0},0,{"$f":"VLOOKUP(E206,'LLEGADA PAIS NACIONALIDAD TOTAL'!$D$14:$T$238,16,0)","v":0},0,{"$f":"VLOOKUP(E206,'LLEGADA PAIS NACIONALIDAD TOTAL'!$D$14:$W$238,20,0)","v":0},{"$f":"VLOOKUP(E206,'LLEGADA PAIS NACIONALIDAD TOTAL'!$D$14:$Z$238,22,0)","v":0},{"$f":"VLOOKUP(E206,'LLEGADA PAIS NACIONALIDAD TOTAL'!$D$14:$AB$238,24,0)","v":0},0,null,0]
[null,null,null,195,"CENTRO AFRICA REPUBLI",0,0,0,0,{"$f":"VLOOKUP(E207,'LLEGADA PAIS NACIONALIDAD TOTAL'!$D$14:$AD$238,10,0)","v":0},{"$f":"+VLOOKUP(E207,'LLEGADA PAIS NACIONALIDAD TOTAL'!$D$14:$AD$238,12,0)","v":0},0,{"$f":"VLOOKUP(E207,'LLEGADA PAIS NACIONALIDAD TOTAL'!$D$14:$T$238,16,0)","v":0},0,{"$f":"VLOOKUP(E207,'LLEGADA PAIS NACIONALIDAD TOTAL'!$D$14:$W$238,20,0)","v":0},{"$f":"VLOOKUP(E207,'LLEGADA PAIS NACIONALIDAD TOTAL'!$D$14:$Z$238,22,0)","v":0},{"$f":"VLOOKUP(E207,'LLEGADA PAIS NACIONALIDAD TOTAL'!$D$14:$AB$238,24,0)","v":0},0,null,0]
[null,null,null,196,"COMORAS",0,0,0,0,{"$f":"VLOOKUP(E208,'LLEGADA PAIS NACIONALIDAD TOTAL'!$D$14:$AD$238,10,0)","v":0},{"$f":"+VLOOKUP(E208,'LLEGADA PAIS NACIONALIDAD TOTAL'!$D$14:$AD$238,12,0)","v":0},0,{"$f":"VLOOKUP(E208,'LLEGADA PAIS NACIONALIDAD TOTAL'!$D$14:$T$238,16,0)","v":0},0,{"$f":"VLOOKUP(E208,'LLEGADA PAIS NACIONALIDAD TOTAL'!$D$14:$W$238,20,0)","v":0},{"$f":"VLOOKUP(E208,'LLEGADA PAIS NACIONALIDAD TOTAL'!$D$14:$Z$238,22,0)","v":0},{"$f":"VLOOKUP(E208,'LLEGADA PAIS NACIONALIDAD TOTAL'!$D$14:$AB$238,24,0)","v":0},0,null,0]
[null,null,null,197,"COREA NORTE",0,0,0,0,{"$f":"VLOOKUP(E209,'LLEGADA PAIS NACIONALIDAD TOTAL'!$D$14:$AD$238,10,0)","v":0},{"$f":"+VLOOKUP(E209,'LLEGADA PAIS NACIONALIDAD TOTAL'!$D$14:$AD$238,12,0)","v":0},0,{"$f":"VLOOKUP(E209,'LLEGADA PAIS NACIONALIDAD TOTAL'!$D$14:$T$238,16,0)","v":0},0,{"$f":"VLOOKUP(E209,'LLEGADA PAIS NACIONALIDAD TOTAL'!$D$14:$W$238,20,0)","v":0},{"$f":"VLOOKUP(E209,'LLEGADA PAIS NACIONALIDAD TOTAL'!$D$14:$Z$238,22,0)","v":0},{"$f":"VLOOKUP(E209,'LLEGADA PAIS NACIONALIDAD TOTAL'!$D$14:$AB$238,24,0)","v":0},0,null,0]
[null,null,null,198,"ECUADOR",0,0,0,0,{"$f":"VLOOKUP(E210,'LLEGADA PAIS NACIONALIDAD TOTAL'!$D$14:$AD$238,10,0)","v":0},{"$f":"+VLOOKUP(E210,'LLEGADA PAIS NACIONALIDAD TOTAL'!$D$14:$AD$238,12,0)","v":0},0,{"$f":"VLOOKUP(E210,'LLEGADA PAIS NACIONALIDAD TOTAL'!$D$14:$T$238,16,0)","v":0},0,{"$f":"VLOOKUP(E210,'LLEGADA PAIS NACIONALIDAD TOTAL'!$D$14:$W$238,20,0)","v":0},{"$f":"VLOOKUP(E210,'LLEGADA PAIS NACIONALIDAD TOTAL'!$D$14:$Z$238,22,0)","v":0},{"$f":"VLOOKUP(E210,'LLEGADA PAIS NACIONALIDAD TOTAL'!$D$14:$AB$238,24,0)","v":0},0,null,0]
[null,null,null,199,"GUINEA BISAU",0,0,0,0,{"$f":"VLOOKUP(E211,'LLEGADA PAIS NACIONALIDAD TOTAL'!$D$14:$AD$238,10,0)","v":0},{"$f":"+VLOOKUP(E211,'LLEGADA PAIS NACIONALIDAD TOTAL'!$D$14:$AD$238,12,0)","v":0},0,{"$f":"VLOOKUP(E211,'LLEGADA PAIS NACIONALIDAD TOTAL'!$D$14:$T$238,16,0)","v":0},0,{"$f":"VLOOKUP(E211,'LLEGADA PAIS NACIONALIDAD TOTAL'!$D$14:$W$238,20,0)","v":0},{"$f":"VLOOKUP(E211,'LLEGADA PAIS NACIONALIDAD TOTAL'!$D$14:$Z$238,22,0)","v":0},{"$f":"VLOOKUP(E211,'LLEGADA PAIS NACIONALIDAD TOTAL'!$D$14:$AB$238,24,0)","v":0},0,null,0]
[null,null,null,200,"KAMPUCHEA",0,0,0,0,{"$f":"VLOOKUP(E212,'LLEGADA PAIS NACIONALIDAD TOTAL'!$D$14:$AD$238,10,0)","v":0},{"$f":"+VLOOKUP(E212,'LLEGADA PAIS NACIONALIDAD TOTAL'!$D$14:$AD$238,12,0)","v":0},0,{"$f":"VLOOKUP(E212,'LLEGADA PAIS NACIONALIDAD TOTAL'!$D$14:$T$238,16,0)","v":0},0,{"$f":"VLOOKUP(E212,'LLEGADA PAIS NACIONALIDAD TOTAL'!$D$14:$W$238,20,0)","v":0},{"$f":"VLOOKUP(E212,'LLEGADA PAIS NACIONALIDAD TOTAL'!$D$14:$Z$238,22,0)","v":0},{"$f":"VLOOKUP(E212,'LLEGADA PAIS NACIONALIDAD TOTAL'!$D$14:$AB$238,24,0)","v":0},0,null,0]
[null,null,null,201,"LESOTHO",0,0,0,0,{"$f":"VLOOKUP(E213,'LLEGADA PAIS NACIONALIDAD TOTAL'!$D$14:$AD$238,10,0)","v":0},{"$f":"+VLOOKUP(E213,'LLEGADA PAIS NACIONALIDAD TOTAL'!$D$14:$AD$238,12,0)","v":0},0,{"$f":"VLOOKUP(E213,'LLEGADA PAIS NACIONALIDAD TOTAL'!$D$14:$T$238,16,0)","v":0},0,{"$f":"VLOOKUP(E213,'LLEGADA PAIS NACIONALIDAD TOTAL'!$D$14:$W$238,20,0)","v":0},{"$f":"VLOOKUP(E213,'LLEGADA PAIS NACIONALIDAD TOTAL'!$D$14:$Z$238,22,0)","v":0},{"$f":"VLOOKUP(E213,'LLEGADA PAIS NACIONALIDAD TOTAL'!$D$14:$AB$238,24,0)","v":0},0,null,0]
[null,null,null,202,"MALAWI",0,0,0,0,{"$f":"VLOOKUP(E214,'LLEGADA PAIS NACIONALIDAD TOTAL'!$D$14:$AD$238,10,0)","v":0},{"$f":"+VLOOKUP(E214,'LLEGADA PAIS NACIONALIDAD TOTAL'!$D$14:$AD$238,12,0)","v":0},0,{"$f":"VLOOKUP(E214,'LLEGADA PAIS NACIONALIDAD TOTAL'!$D$14:$T$238,16,0)","v":0},0,{"$f":"VLOOKUP(E214,'LLEGADA PAIS NACIONALIDAD TOTAL'!$D$14:$W$238,20,0)","v":0},{"$f":"VLOOKUP(E214,'LLEGADA PAIS NACIONALIDAD TOTAL'!$D$14:$Z$238,22,0)","v":0},{"$f":"VLOOKUP(E214,'LLEGADA PAIS NACIONALIDAD TOTAL'!$D$14:$AB$238,24,0)","v":0},0,null,0]
[null,null,null,203,"MALDIVAS",0,0,0,0,{"$f":"VLOOKUP(E215,'LLEGADA PAIS NACIONALIDAD TOTAL'!$D$14:$AD$238,10,0)","v":0},{"$f":"+VLOOKUP(E215,'LLEGADA PAIS NACIONALIDAD TOTAL'!$D$14:$AD$238,12,0)","v":0},0,{"$f":"VLOOKUP(E215,'LLEGADA PAIS NACIONALIDAD TOTAL'!$D$14:$T$238,16,0)","v":0},0,{"$f":"VLOOKUP(E215,'LLEGADA PAIS NACIONALIDAD TOTAL'!$D$14:$W$238,20,0)","v":0},{"$f":"VLOOKUP(E215,'LLEGADA PAIS NACIONALIDAD TOTAL'!$D$14:$Z$238,22,0)","v":0},{"$f":"VLOOKUP(E215,'LLEGADA PAIS NACIONALIDAD TOTAL'!$D$14:$AB$238,24,0)","v":0},0,null,0]
[null,null,null,204,"MALI",0,0,0,0,{"$f":"VLOOKUP(E216,'LLEGADA PAIS NACIONALIDAD TOTAL'!$D$14:$AD$238,10,0)","v":0},{"$f":"+VLOOKUP(E216,'LLEGADA PAIS NACIONALIDAD TOTAL'!$D$14:$AD$238,12,0)","v":0},0,{"$f":"VLOOKUP(E216,'LLEGADA PAIS NACIONALIDAD TOTAL'!$D$14:$T$238,16,0)","v":0},0,{"$f":"VLOOKUP(E216,'LLEGADA PAIS NACIONALIDAD TOTAL'!$D$14:$W$238,20,0)","v":0},{"$f":"VLOOKUP(E216,'LLEGADA PAIS NACIONALIDAD TOTAL'!$D$14:$Z$238,22,0)","v":0},{"$f":"VLOOKUP(E216,'LLEGADA PAIS NACIONALIDAD TOTAL'!$D$14:$AB$238,24,0)","v":0},0,null,0]
[null,null,null,205,"MALVINAS",0,0,0,0,{"$f":"VLOOKUP(E217,'LLEGADA PAIS NACIONALIDAD TOTAL'!$D$14:$AD$238,10,0)","v":0},{"$f":"+VLOOKUP(E217,'LLEGADA PAIS NACIONALIDAD TOTAL'!$D$14:$AD$238,12,0)","v":0},0,{"$f":"VLOOKUP(E217,'LLEGADA PAIS NACIONALIDAD TOTAL'!$D$14:$T$238,16,0)","v":0},0,{"$f":"VLOOKUP(E217,'LLEGADA PAIS NACIONALIDAD TOTAL'!$D$14:$W$238,20,0)","v":0},{"$f":"VLOOKUP(E217,'LLEGADA PAIS NACIONALIDAD TOTAL'!$D$14:$Z$238,22,0)","v":0},{"$f":"VLOOKUP(E217,'LLEGADA PAIS NACIONALIDAD TOTAL'!$D$14:$AB$238,24,0)","v":0},0,null,0]
[null,null,null,206,"MARSHALL ISLAS",0,0,0,0,{"$f":"VLOOKUP(E218,'LLEGADA PAIS NACIONALIDAD TOTAL'!$D$14:$AD$238,10,0)","v":0},{"$f":"+VLOOKUP(E218,'LLEGADA PAIS NACIONALIDAD TOTAL'!$D$14:$AD$238,12,0)","v":0},0,{"$f":"VLOOKUP(E218,'LLEGADA PAIS NACIONALIDAD TOTAL'!$D$14:$T$238,16,0)","v":0},0,{"$f":"VLOOKUP(E218,'LLEGADA PAIS NACIONALIDAD TOTAL'!$D$14:$W$238,20,0)","v":0},{"$f":"VLOOKUP(E218,'LLEGADA PAIS NACIONALIDAD TOTAL'!$D$14:$Z$238,22,0)","v":0},{"$f":"VLOOKUP(E218,'LLEGADA PAIS NACIONALIDAD TOTAL'!$D$14:$AB$238,24,0)","v":0},0,null,0]
[null,null,null,207,"NAURU",0,0,0,0,{"$f":"VLOOKUP(E219,'LLEGADA PAIS NACIONALIDAD TOTAL'!$D$14:$AD$238,10,0)","v":0},{"$f":"+VLOOKUP(E219,'LLEGADA PAIS NACIONALIDAD TOTAL'!$D$14:$AD$238,12,0)","v":0},0,{"$f":"VLOOKUP(E219,'LLEGADA PAIS NACIONALIDAD TOTAL'!$D$14:$T$238,16,0)","v":0},0,{"$f":"VLOOKUP(E219,'LLEGADA PAIS NACIONALIDAD TOTAL'!$D$14:$W$238,20,0)","v":0},{"$f":"VLOOKUP(E219,'LLEGADA PAIS NACIONALIDAD TOTAL'!$D$14:$Z$238,22,0)","v":0},{"$f":"VLOOKUP(E219,'LLEGADA PAIS NACIONALIDAD TOTAL'!$D$14:$AB$238,24,0)","v":0},0,null,0]
[null,null,null,208,"NUEVA GUINEA",0,0,0,0,{"$f":"VLOOKUP(E220,'LLEGADA PAIS NACIONALIDAD TOTAL'!$D$14:$AD$238,10,0)","v":0},{"$f":"+VLOOKUP(E220,'LLEGADA PAIS NACIONALIDAD TOTAL'!$D$14:$AD$238,12,0)","v":0},0,{"$f":"VLOOKUP(E220,'LLEGADA PAIS NACIONALIDAD TOTAL'!$D$14:$T$238,16,0)","v":0},0,{"$f":"VLOOKUP(E220,'LLEGADA PAIS NACIONALIDAD TOTAL'!$D$14:$W$238,20,0)","v":0},{"$f":"VLOOKUP(E220,'LLEGADA PAIS NACIONALIDAD TOTAL'!$D$14:$Z$238,22,0)","v":0},{"$f":"VLOOKUP(E220,'LLEGADA PAIS NACIONALIDAD TOTAL'!$D$14:$AB$238,24,0)","v":0},0,null,0]
[null,null,null,209,"O.N. AFRICA",0,0,0,0,{"$f":"VLOOKUP(E221,'LLEGADA PAIS NACIONALIDAD TOTAL'!$D$14:$AD$238,10,0)","v":0},{"$f":"+VLOOKUP(E221,'LLEGADA PAIS NACIONALIDAD TOTAL'!$D$14:$AD$238,12,0)","v":0},0,{"$f":"VLOOKUP(E221,'LLEGADA PAIS NACIONALIDAD TOTAL'!$D$14:$T$238,16,0)","v":0},0,{"$f":"VLOOKUP(E221,'LLEGADA PAIS NACIONALIDAD TOTAL'!$D$14:$W$238,20,0)","v":0},{"$f":"VLOOKUP(E221,'LLEGADA PAIS NACIONALIDAD TOTAL'!$D$14:$Z$238,22,0)","v":0},{"$f":"VLOOKUP(E221,'LLEGADA PAIS NACIONALIDAD TOTAL'!$D$14:$AB$238,24,0)","v":0},0,null,0]
[null,null,null,210,"O.N. ASIA",0,0,0,0,{"$f":"VLOOKUP(E222,'LLEGADA PAIS NACIONALIDAD TOTAL'!$D$14:$AD$238,10,0)","v":0},{"$f":"+VLOOKUP(E222,'LLEGADA PAIS NACIONALIDAD TOTAL'!$D$14:$AD$238,12,0)","v":0},0,{"$f":"VLOOKUP(E222,'LLEGADA PAIS NACIONALIDAD TOTAL'!$D$14:$T$238,16,0)","v":0},0,{"$f":"VLOOKUP(E222,'LLEGADA PAIS NACIONALIDAD TOTAL'!$D$14:$W$238,20,0)","v":0},{"$f":"VLOOKUP(E222,'LLEGADA PAIS NACIONALIDAD TOTAL'!$D$14:$Z$238,22,0)","v":0},{"$f":"VLOOKUP(E222,'LLEGADA PAIS NACIONALIDAD TOTAL'!$D$14:$AB$238,24,0)","v":0},0,null,0]
[null,null,null,211,"O.N. EUROPA",0,0,0,0,{"$f":"VLOOKUP(E223,'LLEGADA PAIS NACIONALIDAD TOTAL'!$D$14:$AD$238,10,0)","v":0},{"$f":"+VLOOKUP(E223,'LLEGADA PAIS NACIONALIDAD TOTAL'!$D$14:$AD$238,12,0)","v":0},0,{"$f":"VLOOKUP(E223,'LLEGADA PAIS NACIONALIDAD TOTAL'!$D$14:$T$238,16,0)","v":0},0,{"$f":"VLOOKUP(E223,'LLEGADA PAIS NACIONALIDAD TOTAL'!$D$14:$W$238,20,0)","v":0},{"$f":"VLOOKUP(E223,'LLEGADA PAIS NACIONALIDAD TOTAL'!$D$14:$Z$238,22,0)","v":0},{"$f":"VLOOKUP(E223,'LLEGADA PAIS NACIONALIDAD TOTAL'!$D$14:$AB$238,24,0)","v":0},0,null,0]
[null,null,null,212,"SALOMON ISLAS",0,0,0,0,{"$f":"VLOOKUP(E224,'LLEGADA PAIS NACIONALIDAD TOTAL'!$D$14:$AD$238,10,0)","v":0},{"$f":"+VLOOKUP(E224,'LLEGADA PAIS NACIONALIDAD TOTAL'!$D$14:$AD$238,12,0)","v":0},0,{"$f":"VLOOKUP(E224,'LLEGADA PAIS NACIONALIDAD TOTAL'!$D$14:$T$238,16,0)","v":0},0,{"$f":"VLOOKUP(E224,'LLEGADA PAIS NACIONALIDAD TOTAL'!$D$14:$W$238,20,0)","v":0},{"$f":"VLOOKUP(E224,'LLEGADA PAIS NACIONALIDAD TOTAL'!$D$14:$Z$238,22,0)","v":0},{"$f":"VLOOKUP(E224,'LLEGADA PAIS NACIONALIDAD TOTAL'!$D$14:$AB$238,24,0)","v":0},0,null,0]
[null,null,null,213,"SAN VICENTE Y LAS GRANADI",0,0,0,0,{"$f":"VLOOKUP(E225,'LLEGADA PAIS NACIONALIDAD TOTAL'!$D$14:$AD$238,10,0)","v":0},{"$f":"+VLOOKUP(E225,'LLEGADA PAIS NACIONALIDAD TOTAL'!$D$14:$AD$238,12,0)","v":0},0,{"$f":"VLOOKUP(E225,'LLEGADA PAIS NACIONALIDAD TOTAL'!$D$14:$T$238,16,0)","v":0},0,{"$f":"VLOOKUP(E225,'LLEGADA PAIS NACIONALIDAD TOTAL'!$D$14:$W$238,20,0)","v":0},{"$f":"VLOOKUP(E225,'LLEGADA PAIS NACIONALIDAD TOTAL'!$D$14:$Z$238,22,0)","v":0},{"$f":"VLOOKUP(E225,'LLEGADA PAIS NACIONALIDAD TOTAL'!$D$14:$AB$238,24,0)","v":0},0,null,0]
[null,null,null,214,"SEYCHELLES",0,0,0,0,{"$f":"VLOOKUP(E226,'LLEGADA PAIS NACIONALIDAD TOTAL'!$D$14:$AD$238,10,0)","v":0},{"$f":"+VLOOKUP(E226,'LLEGADA PAIS NACIONALIDAD TOTAL'!$D$14:$AD$238,12,0)","v":0},0,{"$f":"VLOOKUP(E226,'LLEGADA PAIS NACIONALIDAD TOTAL'!$D$14:$T$238,16,0)","v":0},0,{"$f":"VLOOKUP(E226,'LLEGADA PAIS NACIONALIDAD TOTAL'!$D$14:$W$238,20,0)","v":0},{"$f":"VLOOKUP(E226,'LLEGADA PAIS NACIONALIDAD TOTAL'!$D$14:$Z$238,22,0)","v":0},{"$f":"VLOOKUP(E226,'LLEGADA PAIS NACIONALIDAD TOTAL'!$D$14:$AB$238,24,0)","v":0},0,null,0]
[null,null,null,215,"SIERRA LEONA",0,0,0,0,{"$f":"VLOOKUP(E227,'LLEGADA PAIS NACIONALIDAD TOTAL'!$D$14:$AD$238,10,0)","v":0},{"$f":"+VLOOKUP(E227,'LLEGADA PAIS NACIONALIDAD TOTAL'!$D$14:$AD$238,12,0)","v":0},0,{"$f":"VLOOKUP(E227,'LLEGADA PAIS NACIONALIDAD TOTAL'!$D$14:$T$238,16,0)","v":0},0,{"$f":"VLOOKUP(E227,'LLEGADA PAIS NACIONALIDAD TOTAL'!$D$14:$W$238,20,0)","v":0},{"$f":"VLOOKUP(E227,'LLEGADA PAIS NACIONALIDAD TOTAL'!$D$14:$Z$238,22,0)","v":0},{"$f":"VLOOKUP(E227,'LLEGADA PAIS NACIONALIDAD TOTAL'!$D$14:$AB$238,24,0)","v":0},0,null,0]
[null,null,null,216,"SUAZILANDIA",0,0,0,0,{"$f":"VLOOKUP(E228,'LLEGADA PAIS NACIONALIDAD TOTAL'!$D$14:$AD$238,10,0)","v":0},{"$f":"+VLOOKUP(E228,'LLEGADA PAIS NACIONALIDAD TOTAL'!$D$14:$AD$238,12,0)","v":0},0,{"$f":"VLOOKUP(E228,'LLEGADA PAIS NACIONALIDAD TOTAL'!$D$14:$T$238,16,0)","v":0},0,{"$f":"VLOOKUP(E228,'LLEGADA PAIS NACIONALIDAD TOTAL'!$D$14:$W$238,20,0)","v":0},{"$f":"VLOOKUP(E228,'LLEGADA PAIS NACIONALIDAD TOTAL'!$D$14:$Z$238,22,0)","v":0},{"$f":"VLOOKUP(E228,'LLEGADA PAIS NACIONALIDAD TOTAL'!$D$14:$AB$238,24,0)","v":0},0,null,0]
[null,null,null,217,"SWAZILANDIA",0,0,0,0,{"$f":"VLOOKUP(E229,'LLEGADA PAIS NACIONALIDAD TOTAL'!$D$14:$AD$238,10,0)","v":0},{"$f":"+VLOOKUP(E229,'LLEGADA PAIS NACIONALIDAD TOTAL'!$D$14:$AD$238,12,0)","v":0},0,{"$f":"VLOOKUP(E229,'LLEGADA PAIS NACIONALIDAD TOTAL'!$D$14:$T$238,16,0)","v":0},0,{"$f":"VLOOKUP(E229,'LLEGADA PAIS NACIONALIDAD TOTAL'!$D$14:$W$238,20,0)","v":0},{"$f":"VLOOKUP(E229,'LLEGADA PAIS NACIONALIDAD TOTAL'!$D$14:$Z$238,22,0)","v":0},{"$f":"VLOOKUP(E229,'LLEGADA PAIS NACIONALIDAD TOTAL'!$D$14:$AB$238,24,0)","v":0},0,null,0]
[null,null,null,218,"TAYIKISTAN",0,0,0,0,{"$f":"VLOOKUP(E230,'LLEGADA PAIS NACIONALIDAD TOTAL'!$D$14:$AD$238,10,0)","v":0},{"$f":"+VLOOKUP(E230,'LLEGADA PAIS NACIONALIDAD TOTAL'!$D$14:$AD$238,12,0)","v":0},0,{"$f":"VLOOKUP(E230,'LLEGADA PAIS NACIONALIDAD TOTAL'!$D$14:$T$238,16,0)","v":0},0,{"$f":"VLOOKUP(E230,'LLEGADA PAIS NACIONALIDAD TOTAL'!$D$14:$W$238,20,0)","v":0},{"$f":"VLOOKUP(E230,'LLEGADA PAIS NACIONALIDAD TOTAL'!$D$14:$Z$238,22,0)","v":0},{"$f":"VLOOKUP(E230,'LLEGADA PAIS NACIONALIDAD TOTAL'!$D$14:$AB$238,24,0)","v":0},0,null,0]
[null,null,null,219,"TOGO",0,0,0,0,{"$f":"VLOOKUP(E231,'LLEGADA PAIS NACIONALIDAD TOTAL'!$D$14:$AD$238,10,0)","v":0},{"$f":"+VLOOKUP(E231,'LLEGADA PAIS NACIONALIDAD TOTAL'!$D$14:$AD$238,12,0)","v":0},0,{"$f":"VLOOKUP(E231,'LLEGADA PAIS NACIONALIDAD TOTAL'!$D$14:$T$238,16,0)","v":0},0,{"$f":"VLOOKUP(E231,'LLEGADA PAIS NACIONALIDAD TOTAL'!$D$14:$W$238,20,0)","v":0},{"$f":"VLOOKUP(E231,'LLEGADA PAIS NACIONALIDAD TOTAL'!$D$14:$Z$238,22,0)","v":0},{"$f":"VLOOKUP(E231,'LLEGADA PAIS NACIONALIDAD TOTAL'!$D$14:$AB$238,24,0)","v":0},0,null,0]
[null,null,null,220,"TONGA",0,0,0,0,{"$f":"VLOOKUP(E232,'LLEGADA PAIS NACIONALIDAD TOTAL'!$D$14:$AD$238,10,0)","v":0},{"$f":"+VLOOKUP(E232,'LLEGADA PAIS NACIONALIDAD TOTAL'!$D$14:$AD$238,12,0)","v":0},0,{"$f":"VLOOKUP(E232,'LLEGADA PAIS NACIONALIDAD TOTAL'!$D$14:$T$238,16,0)","v":0},0,{"$f":"VLOOKUP(E232,'LLEGADA PAIS NACIONALIDAD TOTAL'!$D$14:$W$238,20,0)","v":0},{"$f":"VLOOKUP(E232,'LLEGADA PAIS NACIONALIDAD TOTAL'!$D$14:$Z$238,22,0)","v":0},{"$f":"VLOOKUP(E232,'LLEGADA PAIS NACIONALIDAD TOTAL'!$D$14:$AB$238,24,0)","v":0},0,null,0]
[null,null,null,221,"TURKMENISTAN",0,0,0,0,{"$f":"VLOOKUP(E233,'LLEGADA PAIS NACIONALIDAD TOTAL'!$D$14:$AD$238,10,0)","v":0},{"$f":"+VLOOKUP(E233,'LLEGADA PAIS NACIONALIDAD TOTAL'!$D$14:$AD$238,12,0)","v":0},0,{"$f":"VLOOKUP(E233,'LLEGADA PAIS NACIONALIDAD TOTAL'!$D$14:$T$238,16,0)","v":0},0,{"$f":"VLOOKUP(E233,'LLEGADA PAIS NACIONALIDAD TOTAL'!$D$14:$W$238,20,0)","v":0},{"$f":"VLOOKUP(E233,'LLEGADA PAIS NACIONALIDAD TOTAL'!$D$14:$Z$238,22,0)","v":0},{"$f":"VLOOKUP(E233,'LLEGADA PAIS NACIONALIDAD TOTAL'!$D$14:$AB$238,25,0)","v":0},0,null,0]
[null,null,null,222,"PAIS DESCONOCIDO",2249,2877,2681,2735,{"$f":"VLOOKUP(E234,'LLEGADA PAIS NACIONALIDAD TOTAL'!$D$14:$AD$238,10,0)","v":2798},{"$f":"+VLOOKUP(E234,'LLEGADA PAIS NACIONALIDAD TOTAL'!$D$14:$AD$238,12,0)","v":15565},4135,{"$f":"VLOOKUP(E234,'LLEGADA PAIS NACIONALIDAD TOTAL'!$D$14:$T$238,16,0)","v":4491},3696,{"$f":"VLOOKUP(E234,'LLEGADA PAIS NACIONALIDAD TOTAL'!$D$14:$W$238,20,0)","v":3940},{"$f":"VLOOKUP(E234,'LLEGADA PAIS NACIONALIDAD TOTAL'!$D$14:$Z$238,22,0)","v":3675},{"$f":"VLOOKUP(E234,'LLEGADA PAIS NACIONALIDAD TOTAL'!$D$14:$AB$238,24,0)","v":4892},{"$f":"SUM(F234:Q234)","v":53734},null,{"$f":"+R234/R$235*100","v":4.6500357834852508}]
[null,null,null,null,null,{"$f":"SUM(F13:F234)","v":79108},94464,98292,94894,89092,88962,102343,126286,103598,102160,91548,84814,1155561,null,{"$f":"SUM(T13:T234)","v":100.00000000000013}]
[]
[null,null,null,null,"Fuente : Dirección Nacional de Migración "]
[null,null,null,null,"Elaboración: Dirección de Investigación"]
[null,null,null,null,"2013-12-09"]

{"sheet":"INGRESO Y EGRESO DE DIVISAS","index":18,"n_rows":31,"n_cols":14,"rows_kept":31,"cut":false,"hidden":false,"merged":[[20,12,21,13],[26,3,27,3],[26,5,27,5],[26,6,27,6],[26,7,27,7],[26,8,27,8],[26,9,27,9],[26,10,27,10],[26,11,27,11],[26,12,27,12],[26,13,27,13],[16,10,17,10],[16,11,17,11],[19,3,21,3],[19,5,19,11],[20,5,20,6],[20,7,21,7],[20,8,20,9],[20,10,21,10],[20,11,21,11],[16,3,17,3],[16,5,17,5],[16,6,17,6],[16,7,17,7],[16,8,17,8],[16,9,17,9],[9,3,11,3],[9,5,9,11],[10,5,10,6],[10,7,11,7],[10,8,10,9],[10,10,11,10],[10,11,11,11]]}
[]
[]
[]
[]
[]
[]
[]
[]
[]
[null,null,null,"TRIMESTRES",null,2012]
[null,null,null,null,null,"INGRESOS (a)",null,"TOTAL DE INGRESOS DE DIVISAS ( a)","EGRESOS (b)",null,"TOTAL DE EGRESOS DE DIVISAS  (b)","SALDO   c = ( a - b )"]
[null,null,null,null,null,"VIAJES","TRANSPORTE",null,"VIAJES","TRANSPORTE"]
[null,null,null,"I TRIMESTRE",null,248.6,1.7,{"$f":"+F13+G13","v":250.29999999999998},150,78.599999999999994,{"$f":"+I13+J13","v":228.6},{"$f":"+H13-K13","v":21.699999999999989}]
[null,null,null,"II TRIMESTRE",null,255.4,1.6,{"$f":"+F14+G14","v":257},154,86.4,{"$f":"+I14+J14","v":240.4},{"$f":"+H14-K14","v":16.599999999999994}]
[null,null,null,"III TRIMESTRE",null,258,1.5,{"$f":"+F15+G15","v":259.5},152.5,86.7,{"$f":"+I15+J15","v":239.2},{"$f":"+H15-K15","v":20.300000000000011}]
[null,null,null,"IV TRIMESTRE",null,270.5,1.4,{"$f":"+F16+G16","v":271.89999999999998},154.1,81.3,{"$f":"+I16+J16","v":235.39999999999998},{"$f":"+H16-K16","v":36.5}]
[null,null,null,"TOTAL",null,{"$f":"SUM(F13:F16)","v":1032.5},6.1999999999999993,1038.6999999999998,610.6,333,943.6,{"$f":"+H17-K17","v":95.099999999999795}]
[]
[]
[null,null,null,"TRIMESTRES",null,2013,null,null,null,null,null,null,"INGRESOS","EGRESOS"]
[null,null,null,null,null,"INGRESOS (a)",null,"TOTAL DE INGRESOS DE DIVISAS ( a)","EGRESOS (b)",null,"TOTAL DE EGRESOS DE DIVISAS           (b)","SALDO  c = ( a - b )","VAR%\n2012/2011"]
[null,null,null,null,null,"VIAJES","TRANSPORTE",null,"VIAJES","TRANSPORTE"]
[null,null,null,"I TRIMESTRE",null,295.5,1.4,{"$f":"+F23+G23","v":296.89999999999998},152.19999999999999,86.3,{"$f":"+I23+J23","v":238.5},{"$f":"+H23-K23","v":58.399999999999977},{"$f":"+H23/H13*100-100","v":18.61765880942869},{"$f":"+K23/K13*100-100","v":4.3307086614173187}]
[null,null,null,"II TRIMESTRE",null,261.60000000000002,1.3,{"$f":"+F24+G24","v":262.90000000000003},156.19999999999999,94.8,{"$f":"+I24+J24","v":251},{"$f":"+H24-K24","v":11.900000000000034},{"$f":"+H24/H14*100-100","v":2.2957198443579898},{"$f":"+K24/K14*100-100","v":4.4093178036605565}]
[null,null,null,"III TRIMESTRE"]
[null,null,null,"IV TRIMESTRE"]
[null,null,null,"SUB-TOTAL",null,{"$f":"SUM(F23:F26)","v":557.1},2.7,559.79999999999995,308.39999999999998,181.1,489.5,70.300000000000011,10.3,"4.4"]
[]
[]
[null,null,null,"Fuente : Banco Central del Ecuador"]
[null,null,null,"2013-12-04"]

{"sheet":"UBICACION DEL TURISMO I Semest","index":19,"n_rows":34,"n_cols":13,"rows_kept":34,"cut":false,"hidden":false,"merged":[[14,12,14,13],[20,12,20,13],[9,3,11,3],[9,4,11,4],[9,5,11,5],[9,7,11,7],[9,12,9,13],[10,12,10,13],[11,12,11,13]]}
[]
[]
[]
[]
[]
[]
[]
[null,null," "]
[null,null,null,null,null,null,null,"(Mill. USD)"]
[null,null,null,"AÑOS/TRIM","* TURISMO","PETROLEO","BANANO Y","CAMARON","DERIVADOS","OTROS ELAB.","MANUFACT.","FLORES","TOTAL EXPORTACIONES "]
[null,null,null,null,null,"CRUDO","PLATANO",null,"PETROLEO","PROD. MAR","DE METALES","NATURALES","(Productos Primarios"]
[null,null,null,null,null,null,"      2)",null,"      3)",null,"        4)",null,"e Industrializados) "]
[]
[null,null,null,2012,507.3,6728.6,1134.2,656.4,676.9,514.4,308.7,407.3]
[null,null,null,null,null,null,null,null,null,null,null,null,12256.3]
[]
[null,null,null,"UBICACION",6,1,2,4,3,5,8,7]
[]
[]
[null,null,null,2013,559.79999999999995,6502.6,1245.9000000000001,788.6,253.7,748,299.3,459]
[null,null,null,null,null,null,null,null,null,null,null,null,12194.2]
[]
[null,null,null,"UBICACION",5,1,2,3,8,4,7,6]
[]
[]
[null,null,null,"(1) Cifras provisionales; su reproceso se realiza conforme a la recepción de documentos fuente de las operaciones de comercio exterior."]
[null,null,null,"(2) Se basan en las cifras de la Empresa Manifiestos y  Banco Central del Ecuador."]
[null,null,null,"(3) Incluye exportaciones del sector privado de combustibles, lubricantes y otros derivados del petróleo. "]
[null,null,null,"(4) Incluye exportaciones de vehículos."]
[null,null,null,"(*) Según Balanza de Pagos del Ecuador ( Ctas Viajes y Transporte de Pasajeros)"]
[]
[]
[null,null,null,"Fuente : Banco Central del Ecuador"]
[null,null,null,"2013-12-04"]

{"sheet":"UBICACION DEL TURISMO ","index":20,"n_rows":33,"n_cols":13,"rows_kept":33,"cut":false,"hidden":false,"merged":[[14,12,14,13],[20,12,20,13],[9,3,11,3],[9,4,11,4],[9,5,11,5],[9,7,11,7],[9,12,9,13],[10,12,10,13],[11,12,11,13]]}
[]
[]
[]
[]
[]
[]
[]
[]
[]
[null,null,null,"AÑOS","* TURISMO","PETROLEO  \nCRUDO","BANANO Y","CAMARON","DERIVADOS","OTROS ELAB.","MANUFACT.","FLORES","TOTAL EXPORTACIONES "]
[null,null,null,null,null,null,"PLATANO",null,"PETROLEO","PROD. MAR","DE METALES","NATURALES","(Productos Primarios"]
[null,null,null,null,null,null,"      2)",null,"      3)",null,"        4)",null,"e Industrializados) "]
[]
[null,null,null,2011,849.7,11799.97,2246.5,1178.4000000000001,1144.9000000000001,895.01,695.9,675.7]
[null,null,null,null,null,null,null,null,null,null,null,null,22322.400000000001]
[]
[null,null,null,"UBICACION",6,1,2,3,4,5,7,8]
[]
[]
[null,null,null,2012,1032.7,12711.2,2077.4,1279.7,1080.7,1147.5,898.9,713.9]
[null,null,null,null,null,null,null,null,null,null,null,null,23769.599999999999]
[]
[null,null,null,"UBICACION",6,1,2,3,5,4,7,8]
[]
[]
[null,null,null,"(1) Cifras provisionales; su reproceso se realiza conforme a la recepción de documentos fuente de las operaciones de comercio exterior."]
[null,null,null,"(2) Se basan en las cifras de la Empresa Manifiestos y  Banco Central del Ecuador."]
[null,null,null,"(3) Incluye exportaciones del sector privado de combustibles, lubricantes y otros derivados del petróleo. "]
[null,null,null,"(4) Incluye exportaciones de vehículos."]
[null,null,null,"(*) Según Balanza de Pagos del Ecuador ( Ctas Viajes y Transporte de Pasajeros)"]
[]
[null,null,null,"Fuente : Banco Central del Ecuador"]
[null,null,null,"2013-12-04"]

{"sheet":"ENTRADAS MERCADOS TURISTICOS","index":21,"n_rows":25,"n_cols":7,"rows_kept":25,"cut":false,"hidden":false,"merged":[[9,3,9,6]]}
[]
[]
[]
[]
[]
[]
[]
[]
[]
[null,null,null," ENERO -DICIEMBRE / 2012 - 2013"]
[null,null,null,"PRINCIPALES MERCADOS\nEMISORES",2012,2013,"Var% 2013/2012"]
[null,null,null,"Colombia",349455,{"$f":"VLOOKUP(D12,'LLEGADA PAIS NACIONALIDAD TOTAL'!$D$14:$AD$238,27,0)","v":344363},{"$f":"+F12/E12*100-100","v":-1.4571260963500237}]
[null,null,null,"Estados Unidos",248064,{"$f":"VLOOKUP(D13,'LLEGADA PAIS NACIONALIDAD TOTAL'!$D$14:$AD$238,27,0)","v":250785},1.0968943498452148]
[null,null,null,"Perú",137084,{"$f":"VLOOKUP(D14,'LLEGADA PAIS NACIONALIDAD TOTAL'!$D$14:$AD$238,27,0)","v":150805},10.009191444661653]
[null,null,null,"Venezuela",45701,{"$f":"VLOOKUP(D15,'LLEGADA PAIS NACIONALIDAD TOTAL'!$D$14:$AD$238,27,0)","v":102317},{"$f":"+F15/E15*100-100","v":123.88350364324631}]
[null,null,null,"España",65764,{"$f":"VLOOKUP(D16,'LLEGADA PAIS NACIONALIDAD TOTAL'!$D$14:$AD$238,27,0)","v":65245},{"$f":"+F16/E16*100-100","v":-0.78918557265372158}]
[null,null,null,"Argentina",46199,{"$f":"VLOOKUP(D17,'LLEGADA PAIS NACIONALIDAD TOTAL'!$D$14:$AD$238,27,0)","v":49575},7.3075174787333026]
[null,null,null,"Chile",41645,{"$f":"VLOOKUP(D18,'LLEGADA PAIS NACIONALIDAD TOTAL'!$D$14:$AD$238,27,0)","v":40945},{"$f":"+F18/E18*100-100","v":-1.6808740545083367}]
[null,null,null,"Alemania",29582,{"$f":"VLOOKUP(D19,'LLEGADA PAIS NACIONALIDAD TOTAL'!$D$14:$AD$238,27,0)","v":28486},{"$f":"+F19/E19*100-100","v":-3.7049557163139752}]
[null,null,null,"Canadá",26979,{"$f":"VLOOKUP(D20,'LLEGADA PAIS NACIONALIDAD TOTAL'!$D$14:$AD$238,27,0)","v":28257},{"$f":"+F20/E20*100-100","v":4.7370176804180915}]
[null,null,null,"Gran Bretaña",21142,{"$f":"VLOOKUP(D21,'LLEGADA PAIS NACIONALIDAD TOTAL'!$D$14:$AD$238,27,0)","v":23479},11.053826506479993]
[]
[null,null,null,"Fuente : Dirección Nacional de Migración "]
[null,null,null,"Elaboración : Dirección de Investigación - Ministerio de Turismo"]
[null,null,null,"2013-12-09"]

{"sheet":"SALIDAS MERCADOS TURISTICOS","index":22,"n_rows":28,"n_cols":7,"rows_kept":28,"cut":false,"hidden":false,"merged":[[11,3,11,6]]}
[]
[]
[]
[]
[]
[]
[]
[]
[]
[]
[]
[null,null,null," ENERO-DICIEMBRE / 2012 - 2013"]
[null,null,null,"PRINCIPALES MERCADOS\nRECEPTORES",2012,2013,"Var% 2013/2012"]
[null,null,null,"Estados Unidos",343310,{"$f":"VLOOKUP(D14,'LLEGADA PAIS NACIONALIDAD TOTAL'!$D$14:$AC$238,26,0)","v":395071},{"$f":"+F14/E14*100-100","v":15.077044070956276}]
[null,null,null,"Perú",177582,{"$f":"VLOOKUP(D15,'LLEGADA PAIS NACIONALIDAD TOTAL'!$D$14:$AC$238,26,0)","v":203174},14.41137052178712]
[null,null,null,"Colombia",113830,{"$f":"VLOOKUP(D16,'LLEGADA PAIS NACIONALIDAD TOTAL'!$D$14:$AC$238,26,0)","v":107614},{"$f":"+F16/E16*100-100","v":-5.4607748396732063}]
[null,null,null,"España",101557,{"$f":"VLOOKUP(D17,'LLEGADA PAIS NACIONALIDAD TOTAL'!$D$14:$AC$238,26,0)","v":99560},{"$f":"+F17/E17*100-100","v":-1.9663834103016029}]
[null,null,null,"Panamá",63520,{"$f":"VLOOKUP(D18,'LLEGADA PAIS NACIONALIDAD TOTAL'!$D$14:$AC$238,26,0)","v":72560},14.23173803526447]
[null,null,null,"Argentina",28269,{"$f":"VLOOKUP(D19,'LLEGADA PAIS NACIONALIDAD TOTAL'!$D$14:$AC$238,26,0)","v":33346},{"$f":"+F19/E19*100-100","v":17.959602391312046}]
[null,null,null,"México",26742,{"$f":"VLOOKUP(D20,'LLEGADA PAIS NACIONALIDAD TOTAL'!$D$14:$AC$238,26,0)","v":28298},{"$f":"+F20/E20*100-100","v":5.8185625607658267}]
[null,null,null,"Chile",27396,{"$f":"VLOOKUP(D21,'LLEGADA PAIS NACIONALIDAD TOTAL'!$D$14:$AC$238,26,0)","v":27060},{"$f":"+F21/E21*100-100","v":-1.2264564169951768}]
[null,null,null,"Italia",24945,{"$f":"VLOOKUP(D22,'LLEGADA PAIS NACIONALIDAD TOTAL'!$D$14:$AC$238,26,0)","v":22373},-10.310683503708162]
[null,null,null,"Brasil",11486,{"$f":"VLOOKUP(D23,'LLEGADA PAIS NACIONALIDAD TOTAL'!$D$14:$AC$238,26,0)","v":14396},{"$f":"+F23/E23*100-100","v":25.335190666898839}]
[]
[]
[null,null,null,"Fuente : Dirección Nacional de Migración "]
[null,null,null,"Elaboración : Dirección de Investigación - Ministerio de Turismo"]
[null,null,null,"2013-12-09"]

{"sheet":"Framework","index":23,"n_rows":0,"n_cols":0,"rows_kept":0,"cut":false,"hidden":true,"merged":[]}

{"sheet":"Hoja1","index":24,"n_rows":0,"n_cols":0,"rows_kept":0,"cut":false,"hidden":true,"merged":[]}